BEGIN:VCALENDAR
VERSION:2.0
PRODID:-//USPA - ECPv6.15.20//NONSGML v1.0//EN
CALSCALE:GREGORIAN
METHOD:PUBLISH
X-WR-CALNAME:USPA
X-ORIGINAL-URL:https://uspa.net
X-WR-CALDESC:Events for USPA
REFRESH-INTERVAL;VALUE=DURATION:PT1H
X-Robots-Tag:noindex
X-PUBLISHED-TTL:PT1H
BEGIN:VTIMEZONE
TZID:America/Los_Angeles
BEGIN:DAYLIGHT
TZOFFSETFROM:-0800
TZOFFSETTO:-0700
TZNAME:PDT
DTSTART:20200308T100000
END:DAYLIGHT
BEGIN:STANDARD
TZOFFSETFROM:-0700
TZOFFSETTO:-0800
TZNAME:PST
DTSTART:20201101T090000
END:STANDARD
BEGIN:DAYLIGHT
TZOFFSETFROM:-0800
TZOFFSETTO:-0700
TZNAME:PDT
DTSTART:20210314T100000
END:DAYLIGHT
BEGIN:STANDARD
TZOFFSETFROM:-0700
TZOFFSETTO:-0800
TZNAME:PST
DTSTART:20211107T090000
END:STANDARD
BEGIN:DAYLIGHT
TZOFFSETFROM:-0800
TZOFFSETTO:-0700
TZNAME:PDT
DTSTART:20220313T100000
END:DAYLIGHT
BEGIN:STANDARD
TZOFFSETFROM:-0700
TZOFFSETTO:-0800
TZNAME:PST
DTSTART:20221106T090000
END:STANDARD
END:VTIMEZONE
BEGIN:VEVENT
DTSTART;TZID=America/Los_Angeles:20211114T000000
DTEND;TZID=America/Los_Angeles:20211114T170000
DTSTAMP:20260421T164834
CREATED:20220608T050637Z
LAST-MODIFIED:20220610T180635Z
UID:10007870-1636848000-1636909200@uspa.net
SUMMARY:IPL Multi-Ply National Championship
DESCRIPTION:
URL:https://uspa.net/event/ipl-multi-ply-national-championship-2021-11-14t00-00-00/
LOCATION:Miami\, United States
END:VEVENT
BEGIN:VEVENT
DTSTART;TZID=America/Los_Angeles:20211113T000000
DTEND;TZID=America/Los_Angeles:20211113T170000
DTSTAMP:20260421T164834
CREATED:20220608T050651Z
LAST-MODIFIED:20220610T180721Z
UID:10007879-1636761600-1636822800@uspa.net
SUMMARY:USPA StrengthX Grand Prix
DESCRIPTION:
URL:https://uspa.net/event/uspa-strengthx-grand-prix-2021-11-13t00-00-00/
LOCATION:Miami\, United States
END:VEVENT
BEGIN:VEVENT
DTSTART;TZID=America/Los_Angeles:20211113T000000
DTEND;TZID=America/Los_Angeles:20211113T170000
DTSTAMP:20260421T164834
CREATED:20220608T050711Z
LAST-MODIFIED:20220610T180700Z
UID:10008115-1636761600-1636822800@uspa.net
SUMMARY:USPA New York State Championships
DESCRIPTION:
URL:https://uspa.net/event/uspa-new-york-state-championships-2021-11-13t00-00-00/
LOCATION:Miami\, United States
END:VEVENT
BEGIN:VEVENT
DTSTART;TZID=America/Los_Angeles:20211113T000000
DTEND;TZID=America/Los_Angeles:20211113T170000
DTSTAMP:20260421T164834
CREATED:20220608T050706Z
LAST-MODIFIED:20220610T180705Z
UID:10008114-1636761600-1636822800@uspa.net
SUMMARY:USPA Hoosier State Championships
DESCRIPTION:
URL:https://uspa.net/event/uspa-hoosier-state-championships-2021-11-13t00-00-00/
LOCATION:Miami\, United States
END:VEVENT
BEGIN:VEVENT
DTSTART;TZID=America/Los_Angeles:20211113T000000
DTEND;TZID=America/Los_Angeles:20211113T170000
DTSTAMP:20260421T164834
CREATED:20220608T050659Z
LAST-MODIFIED:20220610T180714Z
UID:10007883-1636761600-1636822800@uspa.net
SUMMARY:USPA HQ Fitness Show of Strength
DESCRIPTION:
URL:https://uspa.net/event/uspa-hq-fitness-show-of-strength-2021-11-13t00-00-00/
LOCATION:Miami\, United States
END:VEVENT
BEGIN:VEVENT
DTSTART;TZID=America/Los_Angeles:20211113T000000
DTEND;TZID=America/Los_Angeles:20211113T170000
DTSTAMP:20260421T164835
CREATED:20220608T050655Z
LAST-MODIFIED:20220610T180718Z
UID:10007881-1636761600-1636822800@uspa.net
SUMMARY:USPA Murica Classic 2
DESCRIPTION:
URL:https://uspa.net/event/uspa-murica-classic-2-2021-11-13t00-00-00/
LOCATION:Miami\, United States
END:VEVENT
BEGIN:VEVENT
DTSTART;TZID=America/Los_Angeles:20211113T000000
DTEND;TZID=America/Los_Angeles:20211113T170000
DTSTAMP:20260421T164835
CREATED:20220608T050648Z
LAST-MODIFIED:20220610T180725Z
UID:10007877-1636761600-1636822800@uspa.net
SUMMARY:USPA Fall Power Classic
DESCRIPTION:
URL:https://uspa.net/event/uspa-fall-power-classic-2021-11-13t00-00-00/
LOCATION:Miami\, United States
END:VEVENT
BEGIN:VEVENT
DTSTART;TZID=America/Los_Angeles:20211113T000000
DTEND;TZID=America/Los_Angeles:20211113T170000
DTSTAMP:20260421T164835
CREATED:20220608T050702Z
LAST-MODIFIED:20220610T180709Z
UID:10008113-1636761600-1636822800@uspa.net
SUMMARY:USPA Drug Tested NOVA Fall Classic Invitational and Virginia State\n          Championships
DESCRIPTION:
URL:https://uspa.net/event/uspa-drug-tested-nova-fall-classic-invitational-and-virginia-state-championships-2021-11-13t00-00-00/
LOCATION:Miami\, United States
END:VEVENT
BEGIN:VEVENT
DTSTART;TZID=America/Los_Angeles:20211113T000000
DTEND;TZID=America/Los_Angeles:20211113T170000
DTSTAMP:20260421T164835
CREATED:20220608T050644Z
LAST-MODIFIED:20220610T180730Z
UID:10007875-1636761600-1636822800@uspa.net
SUMMARY:USPA Drug Tested Muscle Mine Classic
DESCRIPTION:
URL:https://uspa.net/event/uspa-drug-tested-muscle-mine-classic-2021-11-13t00-00-00/
LOCATION:Miami\, United States
END:VEVENT
BEGIN:VEVENT
DTSTART;TZID=America/Los_Angeles:20211113T000000
DTEND;TZID=America/Los_Angeles:20211113T170000
DTSTAMP:20260421T164835
CREATED:20220608T050722Z
LAST-MODIFIED:20220610T180649Z
UID:10008128-1636761600-1636822800@uspa.net
SUMMARY:USPA Black Hills Fall Brawl
DESCRIPTION:
URL:https://uspa.net/event/uspa-black-hills-fall-brawl-2021-11-13t00-00-00/
LOCATION:Miami\, United States
END:VEVENT
BEGIN:VEVENT
DTSTART;TZID=America/Los_Angeles:20211113T000000
DTEND;TZID=America/Los_Angeles:20211113T170000
DTSTAMP:20260421T164835
CREATED:20220608T050718Z
LAST-MODIFIED:20220610T180653Z
UID:10008117-1636761600-1636822800@uspa.net
SUMMARY:USPA Drug Tested Arizona State Championships
DESCRIPTION:
URL:https://uspa.net/event/uspa-drug-tested-arizona-state-championships-2021-11-13t00-00-00/
LOCATION:Miami\, United States
END:VEVENT
BEGIN:VEVENT
DTSTART;TZID=America/Los_Angeles:20211113T000000
DTEND;TZID=America/Los_Angeles:20211113T170000
DTSTAMP:20260421T164835
CREATED:20220608T050714Z
LAST-MODIFIED:20220610T180657Z
UID:10008116-1636761600-1636822800@uspa.net
SUMMARY:USPA AV Desert Wars
DESCRIPTION:
URL:https://uspa.net/event/uspa-av-desert-wars-2021-11-13t00-00-00/
LOCATION:Miami\, United States
END:VEVENT
BEGIN:VEVENT
DTSTART;TZID=America/Los_Angeles:20211107T000000
DTEND;TZID=America/Los_Angeles:20211107T170000
DTSTAMP:20260421T164835
CREATED:20220608T050733Z
LAST-MODIFIED:20220610T180742Z
UID:10008131-1636243200-1636304400@uspa.net
SUMMARY:USPA Operation Stand Down Powerlifting Classic
DESCRIPTION:
URL:https://uspa.net/event/uspa-operation-stand-down-powerlifting-classic-2021-11-07t00-00-00/
LOCATION:Miami\, United States
END:VEVENT
BEGIN:VEVENT
DTSTART;TZID=America/Los_Angeles:20211107T000000
DTEND;TZID=America/Los_Angeles:20211107T170000
DTSTAMP:20260421T164835
CREATED:20220608T050737Z
LAST-MODIFIED:20220610T180734Z
UID:10008132-1636243200-1636304400@uspa.net
SUMMARY:USPA Drug Tested Pumpkin Challenge
DESCRIPTION:
URL:https://uspa.net/event/uspa-drug-tested-pumpkin-challenge-2021-11-07t00-00-00/
LOCATION:Miami\, United States
END:VEVENT
BEGIN:VEVENT
DTSTART;TZID=America/Los_Angeles:20211107T000000
DTEND;TZID=America/Los_Angeles:20211107T170000
DTSTAMP:20260421T164835
CREATED:20220608T050730Z
LAST-MODIFIED:20220610T180751Z
UID:10008130-1636243200-1636304400@uspa.net
SUMMARY:USPA Drug Tested Kentucky State Championships
DESCRIPTION:
URL:https://uspa.net/event/uspa-drug-tested-kentucky-state-championships-2021-11-07t00-00-00/
LOCATION:Miami\, United States
END:VEVENT
BEGIN:VEVENT
DTSTART;TZID=America/Los_Angeles:20211106T000000
DTEND;TZID=America/Los_Angeles:20211106T170000
DTSTAMP:20260421T164835
CREATED:20220608T050752Z
LAST-MODIFIED:20220610T180751Z
UID:10008136-1636156800-1636218000@uspa.net
SUMMARY:USPA Drug Tested Great Lakes Regional Championship
DESCRIPTION:
URL:https://uspa.net/event/uspa-drug-tested-great-lakes-regional-championship-2021-11-06t00-00-00/
LOCATION:Miami\, United States
END:VEVENT
BEGIN:VEVENT
DTSTART;TZID=America/Los_Angeles:20211106T000000
DTEND;TZID=America/Los_Angeles:20211106T170000
DTSTAMP:20260421T164835
CREATED:20220608T050745Z
LAST-MODIFIED:20220610T180802Z
UID:10008134-1636156800-1636218000@uspa.net
SUMMARY:USPA Drug Tested Illinois State Championship
DESCRIPTION:
URL:https://uspa.net/event/uspa-drug-tested-illinois-state-championship-2021-11-06t00-00-00/
LOCATION:Miami\, United States
END:VEVENT
BEGIN:VEVENT
DTSTART;TZID=America/Los_Angeles:20211106T000000
DTEND;TZID=America/Los_Angeles:20211106T170000
DTSTAMP:20260421T164835
CREATED:20220608T050749Z
LAST-MODIFIED:20220610T180751Z
UID:10008135-1636156800-1636218000@uspa.net
SUMMARY:USPA DOFFL Ryan Blackwell Classic
DESCRIPTION:
URL:https://uspa.net/event/uspa-doffl-ryan-blackwell-classic-2021-11-06t00-00-00/
LOCATION:Miami\, United States
END:VEVENT
BEGIN:VEVENT
DTSTART;TZID=America/Los_Angeles:20211105T000000
DTEND;TZID=America/Los_Angeles:20211106T000000
DTSTAMP:20260421T164835
CREATED:20220608T050741Z
LAST-MODIFIED:20220610T132722Z
UID:10008133-1636070400-1636156800@uspa.net
SUMMARY:IPL North American Championships
DESCRIPTION:
URL:https://uspa.net/event/ipl-north-american-championships-2021-11-05t00-00-00/
LOCATION:Miami\, United States
END:VEVENT
BEGIN:VEVENT
DTSTART;TZID=America/Los_Angeles:20211104T000000
DTEND;TZID=America/Los_Angeles:20211107T000000
DTSTAMP:20260421T164835
CREATED:20220608T050726Z
LAST-MODIFIED:20220610T132722Z
UID:10008129-1635984000-1636243200@uspa.net
SUMMARY:IPL Drug Tested World Championship
DESCRIPTION:
URL:https://uspa.net/event/ipl-drug-tested-world-championship-2021-11-04t00-00-00/
LOCATION:Miami\, United States
END:VEVENT
BEGIN:VEVENT
DTSTART;TZID=America/Los_Angeles:20211031T000000
DTEND;TZID=America/Los_Angeles:20211031T170000
DTSTAMP:20260421T164835
CREATED:20220608T050804Z
LAST-MODIFIED:20220610T180805Z
UID:10008139-1635638400-1635699600@uspa.net
SUMMARY:USPA Drug Tested Barbell Culture Classic
DESCRIPTION:
URL:https://uspa.net/event/uspa-drug-tested-barbell-culture-classic-2021-10-31t00-00-00/
LOCATION:Miami\, United States
END:VEVENT
BEGIN:VEVENT
DTSTART;TZID=America/Los_Angeles:20211030T000000
DTEND;TZID=America/Los_Angeles:20211031T000000
DTSTAMP:20260421T164835
CREATED:20220608T050800Z
LAST-MODIFIED:20220610T132722Z
UID:10008138-1635552000-1635638400@uspa.net
SUMMARY:USPA Drug Tested New Jersey State Championships
DESCRIPTION:
URL:https://uspa.net/event/uspa-drug-tested-new-jersey-state-championships-2021-10-30t00-00-00/
LOCATION:Miami\, United States
END:VEVENT
BEGIN:VEVENT
DTSTART;TZID=America/Los_Angeles:20211030T000000
DTEND;TZID=America/Los_Angeles:20211031T000000
DTSTAMP:20260421T164835
CREATED:20220608T050756Z
LAST-MODIFIED:20220610T132722Z
UID:10008137-1635552000-1635638400@uspa.net
SUMMARY:USPA Drug Tested West Coast Open
DESCRIPTION:
URL:https://uspa.net/event/uspa-drug-tested-west-coast-open-2021-10-30t00-00-00/
LOCATION:Miami\, United States
END:VEVENT
BEGIN:VEVENT
DTSTART;TZID=America/Los_Angeles:20211030T000000
DTEND;TZID=America/Los_Angeles:20211030T170000
DTSTAMP:20260421T164835
CREATED:20220608T050815Z
LAST-MODIFIED:20220610T180858Z
UID:10008142-1635552000-1635613200@uspa.net
SUMMARY:USPA South Bay Boo Bash
DESCRIPTION:
URL:https://uspa.net/event/uspa-south-bay-boo-bash-2021-10-30t00-00-00/
LOCATION:Miami\, United States
END:VEVENT
BEGIN:VEVENT
DTSTART;TZID=America/Los_Angeles:20211030T000000
DTEND;TZID=America/Los_Angeles:20211030T170000
DTSTAMP:20260421T164835
CREATED:20220608T050811Z
LAST-MODIFIED:20220610T180901Z
UID:10008141-1635552000-1635613200@uspa.net
SUMMARY:USPA Rhino Iron Massacre
DESCRIPTION:
URL:https://uspa.net/event/uspa-rhino-iron-massacre-2021-10-30t00-00-00/
LOCATION:Miami\, United States
END:VEVENT
BEGIN:VEVENT
DTSTART;TZID=America/Los_Angeles:20211030T000000
DTEND;TZID=America/Los_Angeles:20211030T170000
DTSTAMP:20260421T164835
CREATED:20220608T050818Z
LAST-MODIFIED:20220610T180853Z
UID:10008143-1635552000-1635613200@uspa.net
SUMMARY:USPA Drug Tested 2nd Annual Day of the Dead
DESCRIPTION:
URL:https://uspa.net/event/uspa-drug-tested-2nd-annual-day-of-the-dead-2021-10-30t00-00-00/
LOCATION:Miami\, United States
END:VEVENT
BEGIN:VEVENT
DTSTART;TZID=America/Los_Angeles:20211030T000000
DTEND;TZID=America/Los_Angeles:20211030T170000
DTSTAMP:20260421T164835
CREATED:20220608T050807Z
LAST-MODIFIED:20220610T180905Z
UID:10008140-1635552000-1635613200@uspa.net
SUMMARY:USPA 1st Annual Volunteer Bye Week Powerlifting Classic
DESCRIPTION:
URL:https://uspa.net/event/uspa-1st-annual-volunteer-bye-week-powerlifting-classic-2021-10-30t00-00-00/
LOCATION:Miami\, United States
END:VEVENT
BEGIN:VEVENT
DTSTART;TZID=America/Los_Angeles:20211024T000000
DTEND;TZID=America/Los_Angeles:20211024T170000
DTSTAMP:20260421T164835
CREATED:20220608T050825Z
LAST-MODIFIED:20220610T180912Z
UID:10008147-1635033600-1635094800@uspa.net
SUMMARY:USPA Underground Showdown
DESCRIPTION:
URL:https://uspa.net/event/uspa-underground-showdown-2021-10-24t00-00-00/
LOCATION:Miami\, United States
END:VEVENT
BEGIN:VEVENT
DTSTART;TZID=America/Los_Angeles:20211023T000000
DTEND;TZID=America/Los_Angeles:20211024T000000
DTSTAMP:20260421T164835
CREATED:20220608T050822Z
LAST-MODIFIED:20220610T132722Z
UID:10008145-1634947200-1635033600@uspa.net
SUMMARY:USPA Power Surge Pro/AM V
DESCRIPTION:
URL:https://uspa.net/event/uspa-power-surge-pro-am-v-2021-10-23t00-00-00/
LOCATION:Miami\, United States
END:VEVENT
BEGIN:VEVENT
DTSTART;TZID=America/Los_Angeles:20211023T000000
DTEND;TZID=America/Los_Angeles:20211023T170000
DTSTAMP:20260421T164835
CREATED:20220608T050840Z
LAST-MODIFIED:20220610T180918Z
UID:10008155-1634947200-1635008400@uspa.net
SUMMARY:USPA Unleash the Beast
DESCRIPTION:
URL:https://uspa.net/event/uspa-unleash-the-beast-2021-10-23t00-00-00/
LOCATION:Miami\, United States
END:VEVENT
END:VCALENDAR