BEGIN:VCALENDAR
VERSION:2.0
PRODID:-//USPA - ECPv6.15.20//NONSGML v1.0//EN
CALSCALE:GREGORIAN
METHOD:PUBLISH
X-WR-CALNAME:USPA
X-ORIGINAL-URL:https://uspa.net
X-WR-CALDESC:Events for USPA
REFRESH-INTERVAL;VALUE=DURATION:PT1H
X-Robots-Tag:noindex
X-PUBLISHED-TTL:PT1H
BEGIN:VTIMEZONE
TZID:America/Los_Angeles
BEGIN:DAYLIGHT
TZOFFSETFROM:-0800
TZOFFSETTO:-0700
TZNAME:PDT
DTSTART:20200308T100000
END:DAYLIGHT
BEGIN:STANDARD
TZOFFSETFROM:-0700
TZOFFSETTO:-0800
TZNAME:PST
DTSTART:20201101T090000
END:STANDARD
BEGIN:DAYLIGHT
TZOFFSETFROM:-0800
TZOFFSETTO:-0700
TZNAME:PDT
DTSTART:20210314T100000
END:DAYLIGHT
BEGIN:STANDARD
TZOFFSETFROM:-0700
TZOFFSETTO:-0800
TZNAME:PST
DTSTART:20211107T090000
END:STANDARD
BEGIN:DAYLIGHT
TZOFFSETFROM:-0800
TZOFFSETTO:-0700
TZNAME:PDT
DTSTART:20220313T100000
END:DAYLIGHT
BEGIN:STANDARD
TZOFFSETFROM:-0700
TZOFFSETTO:-0800
TZNAME:PST
DTSTART:20221106T090000
END:STANDARD
END:VTIMEZONE
BEGIN:VEVENT
DTSTART;TZID=America/Los_Angeles:20210808T000000
DTEND;TZID=America/Los_Angeles:20210808T170000
DTSTAMP:20260421T222909
CREATED:20220608T051402Z
LAST-MODIFIED:20220610T182734Z
UID:10008248-1628380800-1628442000@uspa.net
SUMMARY:USPA The Monster By Anderson Powerlifting
DESCRIPTION:
URL:https://uspa.net/event/uspa-the-monster-by-anderson-powerlifting-2021-08-08t00-00-00/
LOCATION:Charlottesville\, United States
END:VEVENT
BEGIN:VEVENT
DTSTART;TZID=America/Los_Angeles:20210808T000000
DTEND;TZID=America/Los_Angeles:20210808T170000
DTSTAMP:20260421T222909
CREATED:20220608T051405Z
LAST-MODIFIED:20220610T182736Z
UID:10008249-1628380800-1628442000@uspa.net
SUMMARY:CPL Nationals
DESCRIPTION:
URL:https://uspa.net/event/cpl-nationals-2021-08-08t00-00-00/
LOCATION:Charlottesville\, United States
END:VEVENT
BEGIN:VEVENT
DTSTART;TZID=America/Los_Angeles:20210807T000000
DTEND;TZID=America/Los_Angeles:20210808T000000
DTSTAMP:20260421T222909
CREATED:20220608T051358Z
LAST-MODIFIED:20220610T132736Z
UID:10008247-1628294400-1628380800@uspa.net
SUMMARY:USPA Strongest in SoCal
DESCRIPTION:
URL:https://uspa.net/event/uspa-strongest-in-socal-2021-08-07t00-00-00/
LOCATION:Charlottesville\, United States
END:VEVENT
BEGIN:VEVENT
DTSTART;TZID=America/Los_Angeles:20210807T000000
DTEND;TZID=America/Los_Angeles:20210807T170000
DTSTAMP:20260421T222909
CREATED:20220608T051424Z
LAST-MODIFIED:20220610T182721Z
UID:10008255-1628294400-1628355600@uspa.net
SUMMARY:USPA Summer Smash
DESCRIPTION:
URL:https://uspa.net/event/uspa-summer-smash-2021-08-07t00-00-00/
LOCATION:Charlottesville\, United States
END:VEVENT
BEGIN:VEVENT
DTSTART;TZID=America/Los_Angeles:20210807T000000
DTEND;TZID=America/Los_Angeles:20210807T170000
DTSTAMP:20260421T222909
CREATED:20220608T051410Z
LAST-MODIFIED:20220610T182708Z
UID:10008250-1628294400-1628355600@uspa.net
SUMMARY:USPA Relentless Power Classic
DESCRIPTION:
URL:https://uspa.net/event/uspa-relentless-power-classic-2021-08-07t00-00-00/
LOCATION:Charlottesville\, United States
END:VEVENT
BEGIN:VEVENT
DTSTART;TZID=America/Los_Angeles:20210807T000000
DTEND;TZID=America/Los_Angeles:20210807T170000
DTSTAMP:20260421T222910
CREATED:20220608T051420Z
LAST-MODIFIED:20220610T182717Z
UID:10008253-1628294400-1628355600@uspa.net
SUMMARY:USPA Grizz's Power House Powerlifting Championship
DESCRIPTION:
URL:https://uspa.net/event/uspa-grizz-s-power-house-powerlifting-championship-2021-08-07t00-00-00/
LOCATION:Charlottesville\, United States
END:VEVENT
BEGIN:VEVENT
DTSTART;TZID=America/Los_Angeles:20210807T000000
DTEND;TZID=America/Los_Angeles:20210807T170000
DTSTAMP:20260421T222910
CREATED:20220608T051417Z
LAST-MODIFIED:20220610T182714Z
UID:10008252-1628294400-1628355600@uspa.net
SUMMARY:USPA Drug Tested Midwest Challenge
DESCRIPTION:
URL:https://uspa.net/event/uspa-drug-tested-midwest-challenge-2021-08-07t00-00-00/
LOCATION:Charlottesville\, United States
END:VEVENT
BEGIN:VEVENT
DTSTART;TZID=America/Los_Angeles:20210807T000000
DTEND;TZID=America/Los_Angeles:20210807T170000
DTSTAMP:20260421T222910
CREATED:20220608T051413Z
LAST-MODIFIED:20220610T182711Z
UID:10008251-1628294400-1628355600@uspa.net
SUMMARY:USPA Drug Tested Nightmare Muscle Classic
DESCRIPTION:
URL:https://uspa.net/event/uspa-drug-tested-nightmare-muscle-classic-2021-08-07t00-00-00/
LOCATION:Charlottesville\, United States
END:VEVENT
BEGIN:VEVENT
DTSTART;TZID=America/Los_Angeles:20210807T000000
DTEND;TZID=America/Los_Angeles:20210807T170000
DTSTAMP:20260421T222910
CREATED:20220608T051427Z
LAST-MODIFIED:20220610T182724Z
UID:10008257-1628294400-1628355600@uspa.net
SUMMARY:USPA Drug Tested Bayou Border Bash
DESCRIPTION:
URL:https://uspa.net/event/uspa-drug-tested-bayou-border-bash-2021-08-07t00-00-00/
LOCATION:Charlottesville\, United States
END:VEVENT
BEGIN:VEVENT
DTSTART;TZID=America/Los_Angeles:20210807T000000
DTEND;TZID=America/Los_Angeles:20210807T170000
DTSTAMP:20260421T222910
CREATED:20220608T051431Z
LAST-MODIFIED:20220610T182731Z
UID:10008259-1628294400-1628355600@uspa.net
SUMMARY:CPL Drug Tested Nationals
DESCRIPTION:
URL:https://uspa.net/event/cpl-drug-tested-nationals-2021-08-07t00-00-00/
LOCATION:Charlottesville\, United States
END:VEVENT
BEGIN:VEVENT
DTSTART;TZID=America/Los_Angeles:20210801T000000
DTEND;TZID=America/Los_Angeles:20210801T170000
DTSTAMP:20260421T222910
CREATED:20220608T051434Z
LAST-MODIFIED:20220610T182705Z
UID:10008261-1627776000-1627837200@uspa.net
SUMMARY:USPA Valhalla Masters
DESCRIPTION:
URL:https://uspa.net/event/uspa-valhalla-masters-2021-08-01t00-00-00/
LOCATION:Charlottesville\, United States
END:VEVENT
BEGIN:VEVENT
DTSTART;TZID=America/Los_Angeles:20210731T000000
DTEND;TZID=America/Los_Angeles:20210801T000000
DTSTAMP:20260421T222910
CREATED:20220608T051438Z
LAST-MODIFIED:20220610T132737Z
UID:10008263-1627689600-1627776000@uspa.net
SUMMARY:USPA Barbell Brigade Open
DESCRIPTION:
URL:https://uspa.net/event/uspa-barbell-brigade-open-2021-07-31t00-00-00/
LOCATION:Charlottesville\, United States
END:VEVENT
BEGIN:VEVENT
DTSTART;TZID=America/Los_Angeles:20210731T000000
DTEND;TZID=America/Los_Angeles:20210731T170000
DTSTAMP:20260421T222910
CREATED:20220608T051445Z
LAST-MODIFIED:20220610T182647Z
UID:10008267-1627689600-1627750800@uspa.net
SUMMARY:USPA Resilient Classic
DESCRIPTION:
URL:https://uspa.net/event/uspa-resilient-classic-2021-07-31t00-00-00/
LOCATION:Charlottesville\, United States
END:VEVENT
BEGIN:VEVENT
DTSTART;TZID=America/Los_Angeles:20210731T000000
DTEND;TZID=America/Los_Angeles:20210731T170000
DTSTAMP:20260421T222910
CREATED:20220608T051442Z
LAST-MODIFIED:20220610T182644Z
UID:10008265-1627689600-1627750800@uspa.net
SUMMARY:USPA Rise of the Valkyrie
DESCRIPTION:
URL:https://uspa.net/event/uspa-rise-of-the-valkyrie-2021-07-31t00-00-00/
LOCATION:Charlottesville\, United States
END:VEVENT
BEGIN:VEVENT
DTSTART;TZID=America/Los_Angeles:20210731T000000
DTEND;TZID=America/Los_Angeles:20210731T170000
DTSTAMP:20260421T222910
CREATED:20220608T051449Z
LAST-MODIFIED:20220610T182650Z
UID:10008270-1627689600-1627750800@uspa.net
SUMMARY:USPA Fullsterkur Open
DESCRIPTION:
URL:https://uspa.net/event/uspa-fullsterkur-open-2021-07-31t00-00-00/
LOCATION:Charlottesville\, United States
END:VEVENT
BEGIN:VEVENT
DTSTART;TZID=America/Los_Angeles:20210731T000000
DTEND;TZID=America/Los_Angeles:20210731T170000
DTSTAMP:20260421T222910
CREATED:20220608T051601Z
LAST-MODIFIED:20220610T182702Z
UID:10007976-1627689600-1627750800@uspa.net
SUMMARY:USPA Drug Tested Ghost Strong Open
DESCRIPTION:
URL:https://uspa.net/event/uspa-drug-tested-ghost-strong-open-2021-07-31t00-00-00/
LOCATION:Charlottesville\, United States
END:VEVENT
BEGIN:VEVENT
DTSTART;TZID=America/Los_Angeles:20210731T000000
DTEND;TZID=America/Los_Angeles:20210731T170000
DTSTAMP:20260421T222910
CREATED:20220608T051453Z
LAST-MODIFIED:20220610T182654Z
UID:10008272-1627689600-1627750800@uspa.net
SUMMARY:USPA Drug Tested Iowa Games
DESCRIPTION:
URL:https://uspa.net/event/uspa-drug-tested-iowa-games-2021-07-31t00-00-00/
LOCATION:Charlottesville\, United States
END:VEVENT
BEGIN:VEVENT
DTSTART;TZID=America/Los_Angeles:20210731T000000
DTEND;TZID=America/Los_Angeles:20210731T170000
DTSTAMP:20260421T222910
CREATED:20220608T051557Z
LAST-MODIFIED:20220610T182657Z
UID:10007974-1627689600-1627750800@uspa.net
SUMMARY:USPA Drug Tested Daytona's Bars and Beaches
DESCRIPTION:
URL:https://uspa.net/event/uspa-drug-tested-daytona-s-bars-and-beaches-2021-07-31t00-00-00/
LOCATION:Charlottesville\, United States
END:VEVENT
BEGIN:VEVENT
DTSTART;TZID=America/Los_Angeles:20210725T000000
DTEND;TZID=America/Los_Angeles:20210725T170000
DTSTAMP:20260421T222910
CREATED:20220608T051612Z
LAST-MODIFIED:20220610T182641Z
UID:10007982-1627171200-1627232400@uspa.net
SUMMARY:USPA Drug Tested Florida State Championship
DESCRIPTION:
URL:https://uspa.net/event/uspa-drug-tested-florida-state-championship-2021-07-25t00-00-00/
LOCATION:Charlottesville\, United States
END:VEVENT
BEGIN:VEVENT
DTSTART;TZID=America/Los_Angeles:20210724T000000
DTEND;TZID=America/Los_Angeles:20210725T000000
DTSTAMP:20260421T222910
CREATED:20220608T051609Z
LAST-MODIFIED:20220610T132737Z
UID:10007980-1627084800-1627171200@uspa.net
SUMMARY:USPA Rockwell Barbell Midwest Challenge
DESCRIPTION:
URL:https://uspa.net/event/uspa-rockwell-barbell-midwest-challenge-2021-07-24t00-00-00/
LOCATION:Charlottesville\, United States
END:VEVENT
BEGIN:VEVENT
DTSTART;TZID=America/Los_Angeles:20210724T000000
DTEND;TZID=America/Los_Angeles:20210725T000000
DTSTAMP:20260421T222910
CREATED:20220608T051605Z
LAST-MODIFIED:20220610T132748Z
UID:10007978-1627084800-1627171200@uspa.net
SUMMARY:USPA Drug Tested Natty In The Nati
DESCRIPTION:
URL:https://uspa.net/event/uspa-drug-tested-natty-in-the-nati-2021-07-24t00-00-00/
LOCATION:Charlottesville\, United States
END:VEVENT
BEGIN:VEVENT
DTSTART;TZID=America/Los_Angeles:20210724T000000
DTEND;TZID=America/Los_Angeles:20210724T170000
DTSTAMP:20260421T222910
CREATED:20220608T051626Z
LAST-MODIFIED:20220610T182457Z
UID:10007989-1627084800-1627146000@uspa.net
SUMMARY:USPA Southwest Summer Slam
DESCRIPTION:
URL:https://uspa.net/event/uspa-southwest-summer-slam-2021-07-24t00-00-00/
LOCATION:Charlottesville\, United States
END:VEVENT
BEGIN:VEVENT
DTSTART;TZID=America/Los_Angeles:20210724T000000
DTEND;TZID=America/Los_Angeles:20210724T170000
DTSTAMP:20260421T222910
CREATED:20220608T051616Z
LAST-MODIFIED:20220610T182448Z
UID:10007984-1627084800-1627146000@uspa.net
SUMMARY:USPA Pennsylvania State Championship
DESCRIPTION:
URL:https://uspa.net/event/uspa-pennsylvania-state-championship-2021-07-24t00-00-00/
LOCATION:Charlottesville\, United States
END:VEVENT
BEGIN:VEVENT
DTSTART;TZID=America/Los_Angeles:20210724T000000
DTEND;TZID=America/Los_Angeles:20210724T170000
DTSTAMP:20260421T222910
CREATED:20220608T051623Z
LAST-MODIFIED:20220610T182455Z
UID:10007987-1627084800-1627146000@uspa.net
SUMMARY:USPA Holy City Armageddon
DESCRIPTION:
URL:https://uspa.net/event/uspa-holy-city-armageddon-2021-07-24t00-00-00/
LOCATION:Charlottesville\, United States
END:VEVENT
BEGIN:VEVENT
DTSTART;TZID=America/Los_Angeles:20210724T000000
DTEND;TZID=America/Los_Angeles:20210724T170000
DTSTAMP:20260421T222910
CREATED:20220608T051619Z
LAST-MODIFIED:20220610T182452Z
UID:10007985-1627084800-1627146000@uspa.net
SUMMARY:USPA 2021 The Jenn
DESCRIPTION:
URL:https://uspa.net/event/uspa-2021-the-jenn-2021-07-24t00-00-00/
LOCATION:Charlottesville\, United States
END:VEVENT
BEGIN:VEVENT
DTSTART;TZID=America/Los_Angeles:20210717T000000
DTEND;TZID=America/Los_Angeles:20210717T170000
DTSTAMP:20260421T222910
CREATED:20220608T051644Z
LAST-MODIFIED:20220610T182442Z
UID:10008276-1626480000-1626541200@uspa.net
SUMMARY:USPA Wells Strength Showdown
DESCRIPTION:
URL:https://uspa.net/event/uspa-wells-strength-showdown-2021-07-17t00-00-00/
LOCATION:Charlottesville\, United States
END:VEVENT
BEGIN:VEVENT
DTSTART;TZID=America/Los_Angeles:20210717T000000
DTEND;TZID=America/Los_Angeles:20210717T170000
DTSTAMP:20260421T222910
CREATED:20220608T051630Z
LAST-MODIFIED:20220610T182430Z
UID:10007991-1626480000-1626541200@uspa.net
SUMMARY:USPA Summer Strength Wars
DESCRIPTION:
URL:https://uspa.net/event/uspa-summer-strength-wars-2021-07-17t00-00-00/
LOCATION:Charlottesville\, United States
END:VEVENT
BEGIN:VEVENT
DTSTART;TZID=America/Los_Angeles:20210717T000000
DTEND;TZID=America/Los_Angeles:20210717T170000
DTSTAMP:20260421T222910
CREATED:20220608T051647Z
LAST-MODIFIED:20220610T182446Z
UID:10008277-1626480000-1626541200@uspa.net
SUMMARY:USPA Drug Tested Midsummer Classic
DESCRIPTION:
URL:https://uspa.net/event/uspa-drug-tested-midsummer-classic-2021-07-17t00-00-00/
LOCATION:Charlottesville\, United States
END:VEVENT
BEGIN:VEVENT
DTSTART;TZID=America/Los_Angeles:20210717T000000
DTEND;TZID=America/Los_Angeles:20210717T170000
DTSTAMP:20260421T222910
CREATED:20220608T051633Z
LAST-MODIFIED:20220610T182433Z
UID:10008273-1626480000-1626541200@uspa.net
SUMMARY:USPA Drug Tested Georgia Open
DESCRIPTION:
URL:https://uspa.net/event/uspa-drug-tested-georgia-open-2021-07-17t00-00-00/
LOCATION:Charlottesville\, United States
END:VEVENT
BEGIN:VEVENT
DTSTART;TZID=America/Los_Angeles:20210717T000000
DTEND;TZID=America/Los_Angeles:20210717T170000
DTSTAMP:20260421T222910
CREATED:20220608T051640Z
LAST-MODIFIED:20220610T182439Z
UID:10008275-1626480000-1626541200@uspa.net
SUMMARY:USPA Beef Castle Classic
DESCRIPTION:
URL:https://uspa.net/event/uspa-beef-castle-classic-2021-07-17t00-00-00/
LOCATION:Charlottesville\, United States
END:VEVENT
END:VCALENDAR