BEGIN:VCALENDAR
VERSION:2.0
PRODID:-//USPA - ECPv6.15.20//NONSGML v1.0//EN
CALSCALE:GREGORIAN
METHOD:PUBLISH
X-WR-CALNAME:USPA
X-ORIGINAL-URL:https://uspa.net
X-WR-CALDESC:Events for USPA
REFRESH-INTERVAL;VALUE=DURATION:PT1H
X-Robots-Tag:noindex
X-PUBLISHED-TTL:PT1H
BEGIN:VTIMEZONE
TZID:America/Los_Angeles
BEGIN:DAYLIGHT
TZOFFSETFROM:-0800
TZOFFSETTO:-0700
TZNAME:PDT
DTSTART:20180311T100000
END:DAYLIGHT
BEGIN:STANDARD
TZOFFSETFROM:-0700
TZOFFSETTO:-0800
TZNAME:PST
DTSTART:20181104T090000
END:STANDARD
BEGIN:DAYLIGHT
TZOFFSETFROM:-0800
TZOFFSETTO:-0700
TZNAME:PDT
DTSTART:20190310T100000
END:DAYLIGHT
BEGIN:STANDARD
TZOFFSETFROM:-0700
TZOFFSETTO:-0800
TZNAME:PST
DTSTART:20191103T090000
END:STANDARD
BEGIN:DAYLIGHT
TZOFFSETFROM:-0800
TZOFFSETTO:-0700
TZNAME:PDT
DTSTART:20200308T100000
END:DAYLIGHT
BEGIN:STANDARD
TZOFFSETFROM:-0700
TZOFFSETTO:-0800
TZNAME:PST
DTSTART:20201101T090000
END:STANDARD
BEGIN:DAYLIGHT
TZOFFSETFROM:-0800
TZOFFSETTO:-0700
TZNAME:PDT
DTSTART:20210314T100000
END:DAYLIGHT
BEGIN:STANDARD
TZOFFSETFROM:-0700
TZOFFSETTO:-0800
TZNAME:PST
DTSTART:20211107T090000
END:STANDARD
BEGIN:DAYLIGHT
TZOFFSETFROM:-0800
TZOFFSETTO:-0700
TZNAME:PDT
DTSTART:20220313T100000
END:DAYLIGHT
BEGIN:STANDARD
TZOFFSETFROM:-0700
TZOFFSETTO:-0800
TZNAME:PST
DTSTART:20221106T090000
END:STANDARD
BEGIN:DAYLIGHT
TZOFFSETFROM:-0800
TZOFFSETTO:-0700
TZNAME:PDT
DTSTART:20230312T100000
END:DAYLIGHT
BEGIN:STANDARD
TZOFFSETFROM:-0700
TZOFFSETTO:-0800
TZNAME:PST
DTSTART:20231105T090000
END:STANDARD
END:VTIMEZONE
BEGIN:VEVENT
DTSTART;TZID=America/Los_Angeles:20191214T000000
DTEND;TZID=America/Los_Angeles:20220914T131711
DTSTAMP:20260419T104757
CREATED:20220608T054948Z
LAST-MODIFIED:20220610T132837Z
UID:10008818-1576281600-1663161431@uspa.net
SUMMARY:Old Skool Iron's White Elephant
DESCRIPTION:
URL:https://uspa.net/event/old-skool-iron-s-white-elephant-2019-12-14t00-00-00/
LOCATION:Salinas\, United States
END:VEVENT
BEGIN:VEVENT
DTSTART;TZID=America/Los_Angeles:20191214T000000
DTEND;TZID=America/Los_Angeles:20220914T131711
DTSTAMP:20260419T104757
CREATED:20220608T054930Z
LAST-MODIFIED:20220610T132837Z
UID:10008810-1576281600-1663161431@uspa.net
SUMMARY:Sleighin Weights 2
DESCRIPTION:
URL:https://uspa.net/event/sleighin-weights-2-2019-12-14t00-00-00/
LOCATION:Salinas\, United States
END:VEVENT
BEGIN:VEVENT
DTSTART;TZID=America/Los_Angeles:20191214T000000
DTEND;TZID=America/Los_Angeles:20220914T131711
DTSTAMP:20260419T104757
CREATED:20220608T054927Z
LAST-MODIFIED:20220610T132837Z
UID:10008808-1576281600-1663161431@uspa.net
SUMMARY:New Mexico State Championships
DESCRIPTION:
URL:https://uspa.net/event/new-mexico-state-championships-2019-12-14t00-00-00/
LOCATION:Salinas\, United States
END:VEVENT
BEGIN:VEVENT
DTSTART;TZID=America/Los_Angeles:20191214T000000
DTEND;TZID=America/Los_Angeles:20220914T131711
DTSTAMP:20260419T104757
CREATED:20220608T054935Z
LAST-MODIFIED:20220610T132837Z
UID:10008813-1576281600-1663161431@uspa.net
SUMMARY:Fortis Powerlifting Open
DESCRIPTION:
URL:https://uspa.net/event/fortis-powerlifting-open-2019-12-14t00-00-00/
LOCATION:Salinas\, United States
END:VEVENT
BEGIN:VEVENT
DTSTART;TZID=America/Los_Angeles:20191214T000000
DTEND;TZID=America/Los_Angeles:20220914T131711
DTSTAMP:20260419T104757
CREATED:20220608T054918Z
LAST-MODIFIED:20220610T132837Z
UID:10008804-1576281600-1663161431@uspa.net
SUMMARY:Great Lakes Raw by Iron Rebel
DESCRIPTION:
URL:https://uspa.net/event/great-lakes-raw-by-iron-rebel-2019-12-14t00-00-00/
LOCATION:Salinas\, United States
END:VEVENT
BEGIN:VEVENT
DTSTART;TZID=America/Los_Angeles:20191214T000000
DTEND;TZID=America/Los_Angeles:20220914T131711
DTSTAMP:20260419T104757
CREATED:20220608T054956Z
LAST-MODIFIED:20230416T223115Z
UID:10008820-1576281600-1663161431@uspa.net
SUMMARY:Dirty South Powerlifting Championships
DESCRIPTION:
URL:https://uspa.net/event/dirty-south-powerlifting-championships-2019-12-14t00-00-00/
LOCATION:Salinas\, United States
END:VEVENT
BEGIN:VEVENT
DTSTART;TZID=America/Los_Angeles:20191214T000000
DTEND;TZID=America/Los_Angeles:20220914T131711
DTSTAMP:20260419T104757
CREATED:20220608T054944Z
LAST-MODIFIED:20220610T132837Z
UID:10008817-1576281600-1663161431@uspa.net
SUMMARY:Depth Before Dishonor Open
DESCRIPTION:
URL:https://uspa.net/event/depth-before-dishonor-open-2019-12-14t00-00-00/
LOCATION:Salinas\, United States
END:VEVENT
BEGIN:VEVENT
DTSTART;TZID=America/Los_Angeles:20191214T000000
DTEND;TZID=America/Los_Angeles:20220914T131711
DTSTAMP:20260419T104757
CREATED:20220608T054922Z
LAST-MODIFIED:20220610T132837Z
UID:10008806-1576281600-1663161431@uspa.net
SUMMARY:4th Drug Tested WV States and Holiday Havoc
DESCRIPTION:
URL:https://uspa.net/event/4th-drug-tested-wv-states-and-holiday-havoc-2019-12-14t00-00-00/
LOCATION:Salinas\, United States
END:VEVENT
BEGIN:VEVENT
DTSTART;TZID=America/Los_Angeles:20191214T000000
DTEND;TZID=America/Los_Angeles:20191215T000000
DTSTAMP:20260419T104757
CREATED:20220608T054912Z
LAST-MODIFIED:20220610T132837Z
UID:10008802-1576281600-1576368000@uspa.net
SUMMARY:Alaka'i Real Steel Lift Off 4
DESCRIPTION:
URL:https://uspa.net/event/alaka-i-real-steel-lift-off-4-2019-12-14t00-00-00/
LOCATION:Salinas\, United States
END:VEVENT
BEGIN:VEVENT
DTSTART;TZID=America/Los_Angeles:20191208T000000
DTEND;TZID=America/Los_Angeles:20220914T131711
DTSTAMP:20260419T104757
CREATED:20220608T055008Z
LAST-MODIFIED:20220610T132837Z
UID:10008823-1575763200-1663161431@uspa.net
SUMMARY:Indiana State Championship
DESCRIPTION:
URL:https://uspa.net/event/indiana-state-championship-2019-12-08t00-00-00/
LOCATION:Salinas\, United States
END:VEVENT
BEGIN:VEVENT
DTSTART;TZID=America/Los_Angeles:20191208T000000
DTEND;TZID=America/Los_Angeles:20220914T131711
DTSTAMP:20260419T104757
CREATED:20220608T055012Z
LAST-MODIFIED:20220610T132837Z
UID:10008824-1575763200-1663161431@uspa.net
SUMMARY:Drug Tested CBUS Lifting Co December National Qualifier
DESCRIPTION:
URL:https://uspa.net/event/drug-tested-cbus-lifting-co-december-national-qualifier-2019-12-08t00-00-00/
LOCATION:Salinas\, United States
END:VEVENT
BEGIN:VEVENT
DTSTART;TZID=America/Los_Angeles:20191207T000000
DTEND;TZID=America/Los_Angeles:20220914T131712
DTSTAMP:20260419T104757
CREATED:20220608T055201Z
LAST-MODIFIED:20220610T132837Z
UID:10008836-1575676800-1663161432@uspa.net
SUMMARY:Winter Bash
DESCRIPTION:
URL:https://uspa.net/event/winter-bash-2019-12-07t00-00-00/
LOCATION:Salinas\, United States
END:VEVENT
BEGIN:VEVENT
DTSTART;TZID=America/Los_Angeles:20191207T000000
DTEND;TZID=America/Los_Angeles:20220914T131712
DTSTAMP:20260419T104757
CREATED:20220608T055043Z
LAST-MODIFIED:20220610T132837Z
UID:10008832-1575676800-1663161432@uspa.net
SUMMARY:Western Regionals
DESCRIPTION:
URL:https://uspa.net/event/western-regionals-2019-12-07t00-00-00/
LOCATION:Salinas\, United States
END:VEVENT
BEGIN:VEVENT
DTSTART;TZID=America/Los_Angeles:20191207T000000
DTEND;TZID=America/Los_Angeles:20220914T131711
DTSTAMP:20260419T104757
CREATED:20220608T055016Z
LAST-MODIFIED:20220610T132837Z
UID:10008825-1575676800-1663161431@uspa.net
SUMMARY:Vermont State Powerlifting Championships
DESCRIPTION:
URL:https://uspa.net/event/vermont-state-powerlifting-championships-2019-12-07t00-00-00/
LOCATION:Salinas\, United States
END:VEVENT
BEGIN:VEVENT
DTSTART;TZID=America/Los_Angeles:20191207T000000
DTEND;TZID=America/Los_Angeles:20220914T131713
DTSTAMP:20260419T104757
CREATED:20220608T055212Z
LAST-MODIFIED:20220610T132837Z
UID:10008361-1575676800-1663161433@uspa.net
SUMMARY:Snowball Open V
DESCRIPTION:
URL:https://uspa.net/event/snowball-open-v-2019-12-07t00-00-00/
LOCATION:Salinas\, United States
END:VEVENT
BEGIN:VEVENT
DTSTART;TZID=America/Los_Angeles:20191207T000000
DTEND;TZID=America/Los_Angeles:20220914T131712
DTSTAMP:20260419T104757
CREATED:20220608T055047Z
LAST-MODIFIED:20220610T132837Z
UID:10008833-1575676800-1663161432@uspa.net
SUMMARY:Sleigh The Iron Winter Classic
DESCRIPTION:
URL:https://uspa.net/event/sleigh-the-iron-winter-classic-2019-12-07t00-00-00/
LOCATION:Salinas\, United States
END:VEVENT
BEGIN:VEVENT
DTSTART;TZID=America/Los_Angeles:20191207T000000
DTEND;TZID=America/Los_Angeles:20220914T131712
DTSTAMP:20260419T104757
CREATED:20220608T055028Z
LAST-MODIFIED:20220610T132837Z
UID:10008828-1575676800-1663161432@uspa.net
SUMMARY:New England Open
DESCRIPTION:
URL:https://uspa.net/event/new-england-open-2019-12-07t00-00-00/
LOCATION:Salinas\, United States
END:VEVENT
BEGIN:VEVENT
DTSTART;TZID=America/Los_Angeles:20191207T000000
DTEND;TZID=America/Los_Angeles:20220914T131712
DTSTAMP:20260419T104757
CREATED:20220608T055157Z
LAST-MODIFIED:20220610T132837Z
UID:10008835-1575676800-1663161432@uspa.net
SUMMARY:NASPOWER Holiday Deadlift Championship
DESCRIPTION:
URL:https://uspa.net/event/naspower-holiday-deadlift-championship-2019-12-07t00-00-00/
LOCATION:Salinas\, United States
END:VEVENT
BEGIN:VEVENT
DTSTART;TZID=America/Los_Angeles:20191207T000000
DTEND;TZID=America/Los_Angeles:20220914T131712
DTSTAMP:20260419T104757
CREATED:20220608T055024Z
LAST-MODIFIED:20220610T132837Z
UID:10008827-1575676800-1663161432@uspa.net
SUMMARY:Heavy Holiday Open
DESCRIPTION:
URL:https://uspa.net/event/heavy-holiday-open-2019-12-07t00-00-00/
LOCATION:Salinas\, United States
END:VEVENT
BEGIN:VEVENT
DTSTART;TZID=America/Los_Angeles:20191207T000000
DTEND;TZID=America/Los_Angeles:20220914T131711
DTSTAMP:20260419T104757
CREATED:20220608T055020Z
LAST-MODIFIED:20220610T132837Z
UID:10008826-1575676800-1663161431@uspa.net
SUMMARY:Las Vegas Winter Open
DESCRIPTION:
URL:https://uspa.net/event/las-vegas-winter-open-2019-12-07t00-00-00/
LOCATION:Salinas\, United States
END:VEVENT
BEGIN:VEVENT
DTSTART;TZID=America/Los_Angeles:20191207T000000
DTEND;TZID=America/Los_Angeles:20220914T131712
DTSTAMP:20260419T104757
CREATED:20220608T055208Z
LAST-MODIFIED:20220610T132837Z
UID:10008359-1575676800-1663161432@uspa.net
SUMMARY:Drug Tested Arizona Christmas Classic
DESCRIPTION:
URL:https://uspa.net/event/drug-tested-arizona-christmas-classic-2019-12-07t00-00-00/
LOCATION:Salinas\, United States
END:VEVENT
BEGIN:VEVENT
DTSTART;TZID=America/Los_Angeles:20191207T000000
DTEND;TZID=America/Los_Angeles:20220914T131712
DTSTAMP:20260419T104757
CREATED:20220608T055205Z
LAST-MODIFIED:20220610T132837Z
UID:10008358-1575676800-1663161432@uspa.net
SUMMARY:CFC WINTER POWER BASH
DESCRIPTION:
URL:https://uspa.net/event/cfc-winter-power-bash-2019-12-07t00-00-00/
LOCATION:Salinas\, United States
END:VEVENT
BEGIN:VEVENT
DTSTART;TZID=America/Los_Angeles:20191207T000000
DTEND;TZID=America/Los_Angeles:20220914T131712
DTSTAMP:20260419T104757
CREATED:20220608T055051Z
LAST-MODIFIED:20220610T132837Z
UID:10008834-1575676800-1663161432@uspa.net
SUMMARY:Drug Tested Golden Apes Power Challenge
DESCRIPTION:
URL:https://uspa.net/event/drug-tested-golden-apes-power-challenge-2019-12-07t00-00-00/
LOCATION:Salinas\, United States
END:VEVENT
BEGIN:VEVENT
DTSTART;TZID=America/Los_Angeles:20191207T000000
DTEND;TZID=America/Los_Angeles:20220914T131712
DTSTAMP:20260419T104757
CREATED:20220608T055035Z
LAST-MODIFIED:20220610T132837Z
UID:10008830-1575676800-1663161432@uspa.net
SUMMARY:Drug Tested Indiana State Championship
DESCRIPTION:
URL:https://uspa.net/event/drug-tested-indiana-state-championship-2019-12-07t00-00-00/
LOCATION:Salinas\, United States
END:VEVENT
BEGIN:VEVENT
DTSTART;TZID=America/Los_Angeles:20191207T000000
DTEND;TZID=America/Los_Angeles:20220914T131712
DTSTAMP:20260419T104757
CREATED:20220608T055039Z
LAST-MODIFIED:20220610T132837Z
UID:10008831-1575676800-1663161432@uspa.net
SUMMARY:Bend The Bar
DESCRIPTION:
URL:https://uspa.net/event/bend-the-bar-2019-12-07t00-00-00/
LOCATION:Salinas\, United States
END:VEVENT
BEGIN:VEVENT
DTSTART;TZID=America/Los_Angeles:20191207T000000
DTEND;TZID=America/Los_Angeles:20220914T131712
DTSTAMP:20260419T104757
CREATED:20220608T055031Z
LAST-MODIFIED:20220610T132837Z
UID:10008829-1575676800-1663161432@uspa.net
SUMMARY:5th Kentucky State Championship
DESCRIPTION:
URL:https://uspa.net/event/5th-kentucky-state-championship-2019-12-07t00-00-00/
LOCATION:Salinas\, United States
END:VEVENT
BEGIN:VEVENT
DTSTART;TZID=America/Los_Angeles:20191207T000000
DTEND;TZID=America/Los_Angeles:20191208T000000
DTSTAMP:20260419T104757
CREATED:20220608T055004Z
LAST-MODIFIED:20220610T132837Z
UID:10008822-1575676800-1575763200@uspa.net
SUMMARY:Only The Strong Powerlifting Championships
DESCRIPTION:
URL:https://uspa.net/event/only-the-strong-powerlifting-championships-2019-12-07t00-00-00/
LOCATION:Salinas\, United States
END:VEVENT
BEGIN:VEVENT
DTSTART;TZID=America/Los_Angeles:20191207T000000
DTEND;TZID=America/Los_Angeles:20191208T000000
DTSTAMP:20260419T104757
CREATED:20220608T055000Z
LAST-MODIFIED:20220610T132837Z
UID:10008821-1575676800-1575763200@uspa.net
SUMMARY:Holiday Festival of Strength
DESCRIPTION:
URL:https://uspa.net/event/holiday-festival-of-strength-2019-12-07t00-00-00/
LOCATION:Salinas\, United States
END:VEVENT
BEGIN:VEVENT
DTSTART;TZID=America/Los_Angeles:20191130T000000
DTEND;TZID=America/Los_Angeles:20220914T131713
DTSTAMP:20260419T104757
CREATED:20220608T055216Z
LAST-MODIFIED:20220610T132837Z
UID:10008363-1575072000-1663161433@uspa.net
SUMMARY:Dia De Los Deadlifts
DESCRIPTION:
URL:https://uspa.net/event/dia-de-los-deadlifts-2019-11-30t00-00-00/
LOCATION:Salinas\, United States
END:VEVENT
BEGIN:VEVENT
DTSTART;TZID=America/Los_Angeles:20191123T000000
DTEND;TZID=America/Los_Angeles:20220914T131713
DTSTAMP:20260419T104757
CREATED:20220608T055247Z
LAST-MODIFIED:20220610T132851Z
UID:10008839-1574467200-1663161433@uspa.net
SUMMARY:New York State Powerlifting Championships
DESCRIPTION:
URL:https://uspa.net/event/new-york-state-powerlifting-championships-2019-11-23t00-00-00/
LOCATION:Salinas\, United States
END:VEVENT
END:VCALENDAR