BEGIN:VCALENDAR
VERSION:2.0
PRODID:-//USPA - ECPv6.15.20//NONSGML v1.0//EN
CALSCALE:GREGORIAN
METHOD:PUBLISH
X-WR-CALNAME:USPA
X-ORIGINAL-URL:https://uspa.net
X-WR-CALDESC:Events for USPA
REFRESH-INTERVAL;VALUE=DURATION:PT1H
X-Robots-Tag:noindex
X-PUBLISHED-TTL:PT1H
BEGIN:VTIMEZONE
TZID:America/Los_Angeles
BEGIN:DAYLIGHT
TZOFFSETFROM:-0800
TZOFFSETTO:-0700
TZNAME:PDT
DTSTART:20180311T100000
END:DAYLIGHT
BEGIN:STANDARD
TZOFFSETFROM:-0700
TZOFFSETTO:-0800
TZNAME:PST
DTSTART:20181104T090000
END:STANDARD
BEGIN:DAYLIGHT
TZOFFSETFROM:-0800
TZOFFSETTO:-0700
TZNAME:PDT
DTSTART:20190310T100000
END:DAYLIGHT
BEGIN:STANDARD
TZOFFSETFROM:-0700
TZOFFSETTO:-0800
TZNAME:PST
DTSTART:20191103T090000
END:STANDARD
BEGIN:DAYLIGHT
TZOFFSETFROM:-0800
TZOFFSETTO:-0700
TZNAME:PDT
DTSTART:20200308T100000
END:DAYLIGHT
BEGIN:STANDARD
TZOFFSETFROM:-0700
TZOFFSETTO:-0800
TZNAME:PST
DTSTART:20201101T090000
END:STANDARD
BEGIN:DAYLIGHT
TZOFFSETFROM:-0800
TZOFFSETTO:-0700
TZNAME:PDT
DTSTART:20210314T100000
END:DAYLIGHT
BEGIN:STANDARD
TZOFFSETFROM:-0700
TZOFFSETTO:-0800
TZNAME:PST
DTSTART:20211107T090000
END:STANDARD
BEGIN:DAYLIGHT
TZOFFSETFROM:-0800
TZOFFSETTO:-0700
TZNAME:PDT
DTSTART:20220313T100000
END:DAYLIGHT
BEGIN:STANDARD
TZOFFSETFROM:-0700
TZOFFSETTO:-0800
TZNAME:PST
DTSTART:20221106T090000
END:STANDARD
BEGIN:DAYLIGHT
TZOFFSETFROM:-0800
TZOFFSETTO:-0700
TZNAME:PDT
DTSTART:20230312T100000
END:DAYLIGHT
BEGIN:STANDARD
TZOFFSETFROM:-0700
TZOFFSETTO:-0800
TZNAME:PST
DTSTART:20231105T090000
END:STANDARD
END:VTIMEZONE
BEGIN:VEVENT
DTSTART;TZID=America/Los_Angeles:20191102T000000
DTEND;TZID=America/Los_Angeles:20220914T131713
DTSTAMP:20260419T142114
CREATED:20220608T055409Z
LAST-MODIFIED:20220610T132851Z
UID:10008879-1572652800-1663161433@uspa.net
SUMMARY:5th Annual Maryland State Championship
DESCRIPTION:
URL:https://uspa.net/event/5th-annual-maryland-state-championship-2019-11-02t00-00-00/
LOCATION:TN
END:VEVENT
BEGIN:VEVENT
DTSTART;TZID=America/Los_Angeles:20191102T000000
DTEND;TZID=America/Los_Angeles:20191103T000000
DTSTAMP:20260419T142114
CREATED:20220608T055401Z
LAST-MODIFIED:20220610T132851Z
UID:10008876-1572652800-1572739200@uspa.net
SUMMARY:Monger Mayhem
DESCRIPTION:
URL:https://uspa.net/event/monger-mayhem-2019-11-02t00-00-00/
LOCATION:TN
END:VEVENT
BEGIN:VEVENT
DTSTART;TZID=America/Los_Angeles:20191026T000000
DTEND;TZID=America/Los_Angeles:20220914T131714
DTSTAMP:20260419T142114
CREATED:20220608T055501Z
LAST-MODIFIED:20220610T132851Z
UID:10008892-1572048000-1663161434@uspa.net
SUMMARY:Unleash The Beast
DESCRIPTION:
URL:https://uspa.net/event/unleash-the-beast-2019-10-26t00-00-00/
LOCATION:TN
END:VEVENT
BEGIN:VEVENT
DTSTART;TZID=America/Los_Angeles:20191026T000000
DTEND;TZID=America/Los_Angeles:20220914T131714
DTSTAMP:20260419T142114
CREATED:20220608T055449Z
LAST-MODIFIED:20220610T132851Z
UID:10008889-1572048000-1663161434@uspa.net
SUMMARY:Rhino Iron Massacre
DESCRIPTION:
URL:https://uspa.net/event/rhino-iron-massacre-2019-10-26t00-00-00/
LOCATION:TN
END:VEVENT
BEGIN:VEVENT
DTSTART;TZID=America/Los_Angeles:20191026T000000
DTEND;TZID=America/Los_Angeles:20220914T131714
DTSTAMP:20260419T142114
CREATED:20220608T055505Z
LAST-MODIFIED:20220610T132851Z
UID:10008893-1572048000-1663161434@uspa.net
SUMMARY:Drug Tested Washington State Open
DESCRIPTION:
URL:https://uspa.net/event/drug-tested-washington-state-open-2019-10-26t00-00-00/
LOCATION:TN
END:VEVENT
BEGIN:VEVENT
DTSTART;TZID=America/Los_Angeles:20191026T000000
DTEND;TZID=America/Los_Angeles:20220914T131714
DTSTAMP:20260419T142114
CREATED:20220608T055453Z
LAST-MODIFIED:20220610T132851Z
UID:10008890-1572048000-1663161434@uspa.net
SUMMARY:Lift for Jenny Outlaw Open
DESCRIPTION:
URL:https://uspa.net/event/lift-for-jenny-outlaw-open-2019-10-26t00-00-00/
LOCATION:TN
END:VEVENT
BEGIN:VEVENT
DTSTART;TZID=America/Los_Angeles:20191026T000000
DTEND;TZID=America/Los_Angeles:20220914T131714
DTSTAMP:20260419T142114
CREATED:20220608T055445Z
LAST-MODIFIED:20220610T132851Z
UID:10008888-1572048000-1663161434@uspa.net
SUMMARY:Monster Ball Massacre
DESCRIPTION:
URL:https://uspa.net/event/monster-ball-massacre-2019-10-26t00-00-00/
LOCATION:TN
END:VEVENT
BEGIN:VEVENT
DTSTART;TZID=America/Los_Angeles:20191026T000000
DTEND;TZID=America/Los_Angeles:20220914T131714
DTSTAMP:20260419T142114
CREATED:20220608T055442Z
LAST-MODIFIED:20220610T132851Z
UID:10008887-1572048000-1663161434@uspa.net
SUMMARY:Midwest Open at the Dayton Strength Expo
DESCRIPTION:
URL:https://uspa.net/event/midwest-open-at-the-dayton-strength-expo-2019-10-26t00-00-00/
LOCATION:TN
END:VEVENT
BEGIN:VEVENT
DTSTART;TZID=America/Los_Angeles:20191026T000000
DTEND;TZID=America/Los_Angeles:20220914T131713
DTSTAMP:20260419T142114
CREATED:20220608T055438Z
LAST-MODIFIED:20220610T132851Z
UID:10008886-1572048000-1663161433@uspa.net
SUMMARY:High Desert Winter Arsenal
DESCRIPTION:
URL:https://uspa.net/event/high-desert-winter-arsenal-2019-10-26t00-00-00/
LOCATION:TN
END:VEVENT
BEGIN:VEVENT
DTSTART;TZID=America/Los_Angeles:20191026T000000
DTEND;TZID=America/Los_Angeles:20220914T131714
DTSTAMP:20260419T142114
CREATED:20220608T055457Z
LAST-MODIFIED:20220610T132851Z
UID:10008891-1572048000-1663161434@uspa.net
SUMMARY:Drug Tested Autumn Classic
DESCRIPTION:
URL:https://uspa.net/event/drug-tested-autumn-classic-2019-10-26t00-00-00/
LOCATION:TN
END:VEVENT
BEGIN:VEVENT
DTSTART;TZID=America/Los_Angeles:20191026T000000
DTEND;TZID=America/Los_Angeles:20191027T000000
DTSTAMP:20260419T142114
CREATED:20220608T055434Z
LAST-MODIFIED:20220610T132851Z
UID:10008885-1572048000-1572134400@uspa.net
SUMMARY:Tucson Strength Classic
DESCRIPTION:
URL:https://uspa.net/event/tucson-strength-classic-2019-10-26t00-00-00/
LOCATION:TN
END:VEVENT
BEGIN:VEVENT
DTSTART;TZID=America/Los_Angeles:20191024T000000
DTEND;TZID=America/Los_Angeles:20191027T000000
DTSTAMP:20260419T142114
CREATED:20220608T055430Z
LAST-MODIFIED:20220610T132851Z
UID:10008884-1571875200-1572134400@uspa.net
SUMMARY:Drug Tested IPL World Powerlifting\, Benchpress\, Deadlift Championships
DESCRIPTION:
URL:https://uspa.net/event/drug-tested-ipl-world-powerlifting-benchpress-deadlift-championships-2019-10-24t00-00-00/
LOCATION:TN
END:VEVENT
BEGIN:VEVENT
DTSTART;TZID=America/Los_Angeles:20191019T000000
DTEND;TZID=America/Los_Angeles:20220914T131714
DTSTAMP:20260419T142114
CREATED:20220608T055512Z
LAST-MODIFIED:20220610T132851Z
UID:10008895-1571443200-1663161434@uspa.net
SUMMARY:Red\, White & Blue Powerlifting Championships
DESCRIPTION:
URL:https://uspa.net/event/red-white-blue-powerlifting-championships-2019-10-19t00-00-00/
LOCATION:TN
END:VEVENT
BEGIN:VEVENT
DTSTART;TZID=America/Los_Angeles:20191019T000000
DTEND;TZID=America/Los_Angeles:20220914T131714
DTSTAMP:20260419T142114
CREATED:20220608T055516Z
LAST-MODIFIED:20220610T132851Z
UID:10008896-1571443200-1663161434@uspa.net
SUMMARY:Drug Tested Day of the Dead
DESCRIPTION:
URL:https://uspa.net/event/drug-tested-day-of-the-dead-2019-10-19t00-00-00/
LOCATION:TN
END:VEVENT
BEGIN:VEVENT
DTSTART;TZID=America/Los_Angeles:20191018T000000
DTEND;TZID=America/Los_Angeles:20191020T000000
DTSTAMP:20260419T142114
CREATED:20220608T055509Z
LAST-MODIFIED:20220610T132851Z
UID:10008894-1571356800-1571529600@uspa.net
SUMMARY:IPL World Powerlifting\, Benchpress\, Deadlift Championships
DESCRIPTION:
URL:https://uspa.net/event/ipl-world-powerlifting-benchpress-deadlift-championships-2019-10-18t00-00-00/
LOCATION:TN
END:VEVENT
BEGIN:VEVENT
DTSTART;TZID=America/Los_Angeles:20191013T000000
DTEND;TZID=America/Los_Angeles:20220914T131714
DTSTAMP:20260419T142114
CREATED:20220608T055528Z
LAST-MODIFIED:20220610T132851Z
UID:10008400-1570924800-1663161434@uspa.net
SUMMARY:Power Surge Amateur Day
DESCRIPTION:
URL:https://uspa.net/event/power-surge-amateur-day-2019-10-13t00-00-00/
LOCATION:TN
END:VEVENT
BEGIN:VEVENT
DTSTART;TZID=America/Los_Angeles:20191013T000000
DTEND;TZID=America/Los_Angeles:20220914T131714
DTSTAMP:20260419T142114
CREATED:20220608T055536Z
LAST-MODIFIED:20220610T132851Z
UID:10008404-1570924800-1663161434@uspa.net
SUMMARY:Drug Tested LA OPEN Powerlifting Championship
DESCRIPTION:
URL:https://uspa.net/event/drug-tested-la-open-powerlifting-championship-2019-10-13t00-00-00/
LOCATION:TN
END:VEVENT
BEGIN:VEVENT
DTSTART;TZID=America/Los_Angeles:20191012T000000
DTEND;TZID=America/Los_Angeles:20220914T131714
DTSTAMP:20260419T142114
CREATED:20220608T055532Z
LAST-MODIFIED:20220610T132852Z
UID:10008402-1570838400-1663161434@uspa.net
SUMMARY:Power Surge PRO Day
DESCRIPTION:
URL:https://uspa.net/event/power-surge-pro-day-2019-10-12t00-00-00/
LOCATION:TN
END:VEVENT
BEGIN:VEVENT
DTSTART;TZID=America/Los_Angeles:20191012T000000
DTEND;TZID=America/Los_Angeles:20220914T131714
DTSTAMP:20260419T142114
CREATED:20220608T055602Z
LAST-MODIFIED:20220610T132851Z
UID:10008898-1570838400-1663161434@uspa.net
SUMMARY:Hoosier Freak Show
DESCRIPTION:
URL:https://uspa.net/event/hoosier-freak-show-2019-10-12t00-00-00/
LOCATION:TN
END:VEVENT
BEGIN:VEVENT
DTSTART;TZID=America/Los_Angeles:20191012T000000
DTEND;TZID=America/Los_Angeles:20220914T131714
DTSTAMP:20260419T142114
CREATED:20220608T055547Z
LAST-MODIFIED:20220610T132851Z
UID:10008407-1570838400-1663161434@uspa.net
SUMMARY:John Griffin Open
DESCRIPTION:
URL:https://uspa.net/event/john-griffin-open-2019-10-12t00-00-00/
LOCATION:TN
END:VEVENT
BEGIN:VEVENT
DTSTART;TZID=America/Los_Angeles:20191012T000000
DTEND;TZID=America/Los_Angeles:20220914T131714
DTSTAMP:20260419T142114
CREATED:20220608T055543Z
LAST-MODIFIED:20220610T132851Z
UID:10008406-1570838400-1663161434@uspa.net
SUMMARY:Iron Dog 2
DESCRIPTION:
URL:https://uspa.net/event/iron-dog-2-2019-10-12t00-00-00/
LOCATION:TN
END:VEVENT
BEGIN:VEVENT
DTSTART;TZID=America/Los_Angeles:20191012T000000
DTEND;TZID=America/Los_Angeles:20220914T131714
DTSTAMP:20260419T142114
CREATED:20220608T055606Z
LAST-MODIFIED:20220610T132851Z
UID:10008899-1570838400-1663161434@uspa.net
SUMMARY:Driven Fitness Center Powerlifting Championship
DESCRIPTION:
URL:https://uspa.net/event/driven-fitness-center-powerlifting-championship-2019-10-12t00-00-00/
LOCATION:TN
END:VEVENT
BEGIN:VEVENT
DTSTART;TZID=America/Los_Angeles:20191012T000000
DTEND;TZID=America/Los_Angeles:20220914T131714
DTSTAMP:20260419T142114
CREATED:20220608T055559Z
LAST-MODIFIED:20220610T132851Z
UID:10008410-1570838400-1663161434@uspa.net
SUMMARY:Drug Tested New Jersey State Championships
DESCRIPTION:
URL:https://uspa.net/event/drug-tested-new-jersey-state-championships-2019-10-12t00-00-00/
LOCATION:TN
END:VEVENT
BEGIN:VEVENT
DTSTART;TZID=America/Los_Angeles:20191012T000000
DTEND;TZID=America/Los_Angeles:20220914T131714
DTSTAMP:20260419T142114
CREATED:20220608T055551Z
LAST-MODIFIED:20220610T132851Z
UID:10008408-1570838400-1663161434@uspa.net
SUMMARY:Drug Tested Northwest Florida Open
DESCRIPTION:
URL:https://uspa.net/event/drug-tested-northwest-florida-open-2019-10-12t00-00-00/
LOCATION:TN
END:VEVENT
BEGIN:VEVENT
DTSTART;TZID=America/Los_Angeles:20191012T000000
DTEND;TZID=America/Los_Angeles:20220914T131714
DTSTAMP:20260419T142114
CREATED:20220608T055554Z
LAST-MODIFIED:20220610T132851Z
UID:10008409-1570838400-1663161434@uspa.net
SUMMARY:Arizona State Championships
DESCRIPTION:
URL:https://uspa.net/event/arizona-state-championships-2019-10-12t00-00-00/
LOCATION:TN
END:VEVENT
BEGIN:VEVENT
DTSTART;TZID=America/Los_Angeles:20191012T000000
DTEND;TZID=America/Los_Angeles:20220914T131714
DTSTAMP:20260419T142114
CREATED:20220608T055539Z
LAST-MODIFIED:20220610T132852Z
UID:10008405-1570838400-1663161434@uspa.net
SUMMARY:5th Virginia State Championship
DESCRIPTION:
URL:https://uspa.net/event/5th-virginia-state-championship-2019-10-12t00-00-00/
LOCATION:TN
END:VEVENT
BEGIN:VEVENT
DTSTART;TZID=America/Los_Angeles:20191012T000000
DTEND;TZID=America/Los_Angeles:20191013T000000
DTSTAMP:20260419T142114
CREATED:20220608T055520Z
LAST-MODIFIED:20220610T132851Z
UID:10008897-1570838400-1570924800@uspa.net
SUMMARY:San Diego Fit Expo
DESCRIPTION:
URL:https://uspa.net/event/san-diego-fit-expo-2019-10-12t00-00-00/
LOCATION:TN
END:VEVENT
BEGIN:VEVENT
DTSTART;TZID=America/Los_Angeles:20191012T000000
DTEND;TZID=America/Los_Angeles:20191013T000000
DTSTAMP:20260419T142114
CREATED:20220608T055524Z
LAST-MODIFIED:20220610T132851Z
UID:10008399-1570838400-1570924800@uspa.net
SUMMARY:Mission's Jacked O' Lifter Open
DESCRIPTION:
URL:https://uspa.net/event/mission-s-jacked-o-lifter-open-2019-10-12t00-00-00/
LOCATION:TN
END:VEVENT
BEGIN:VEVENT
DTSTART;TZID=America/Los_Angeles:20191005T000000
DTEND;TZID=America/Los_Angeles:20220914T131714
DTSTAMP:20260419T142114
CREATED:20220608T055617Z
LAST-MODIFIED:20220610T132852Z
UID:10008905-1570233600-1663161434@uspa.net
SUMMARY:Hardcore Barbell's Fall Power Classic
DESCRIPTION:
URL:https://uspa.net/event/hardcore-barbell-s-fall-power-classic-2019-10-05t00-00-00/
LOCATION:TN
END:VEVENT
BEGIN:VEVENT
DTSTART;TZID=America/Los_Angeles:20191005T000000
DTEND;TZID=America/Los_Angeles:20220914T131714
DTSTAMP:20260419T142114
CREATED:20220608T055622Z
LAST-MODIFIED:20220610T132852Z
UID:10008907-1570233600-1663161434@uspa.net
SUMMARY:Central Cal Open
DESCRIPTION:
URL:https://uspa.net/event/central-cal-open-2019-10-05t00-00-00/
LOCATION:TN
END:VEVENT
END:VCALENDAR