BEGIN:VCALENDAR
VERSION:2.0
PRODID:-//USPA - ECPv6.15.20//NONSGML v1.0//EN
CALSCALE:GREGORIAN
METHOD:PUBLISH
X-WR-CALNAME:USPA
X-ORIGINAL-URL:https://uspa.net
X-WR-CALDESC:Events for USPA
REFRESH-INTERVAL;VALUE=DURATION:PT1H
X-Robots-Tag:noindex
X-PUBLISHED-TTL:PT1H
BEGIN:VTIMEZONE
TZID:America/Los_Angeles
BEGIN:DAYLIGHT
TZOFFSETFROM:-0800
TZOFFSETTO:-0700
TZNAME:PDT
DTSTART:20180311T100000
END:DAYLIGHT
BEGIN:STANDARD
TZOFFSETFROM:-0700
TZOFFSETTO:-0800
TZNAME:PST
DTSTART:20181104T090000
END:STANDARD
BEGIN:DAYLIGHT
TZOFFSETFROM:-0800
TZOFFSETTO:-0700
TZNAME:PDT
DTSTART:20190310T100000
END:DAYLIGHT
BEGIN:STANDARD
TZOFFSETFROM:-0700
TZOFFSETTO:-0800
TZNAME:PST
DTSTART:20191103T090000
END:STANDARD
BEGIN:DAYLIGHT
TZOFFSETFROM:-0800
TZOFFSETTO:-0700
TZNAME:PDT
DTSTART:20200308T100000
END:DAYLIGHT
BEGIN:STANDARD
TZOFFSETFROM:-0700
TZOFFSETTO:-0800
TZNAME:PST
DTSTART:20201101T090000
END:STANDARD
BEGIN:DAYLIGHT
TZOFFSETFROM:-0800
TZOFFSETTO:-0700
TZNAME:PDT
DTSTART:20210314T100000
END:DAYLIGHT
BEGIN:STANDARD
TZOFFSETFROM:-0700
TZOFFSETTO:-0800
TZNAME:PST
DTSTART:20211107T090000
END:STANDARD
BEGIN:DAYLIGHT
TZOFFSETFROM:-0800
TZOFFSETTO:-0700
TZNAME:PDT
DTSTART:20220313T100000
END:DAYLIGHT
BEGIN:STANDARD
TZOFFSETFROM:-0700
TZOFFSETTO:-0800
TZNAME:PST
DTSTART:20221106T090000
END:STANDARD
BEGIN:DAYLIGHT
TZOFFSETFROM:-0800
TZOFFSETTO:-0700
TZNAME:PDT
DTSTART:20230312T100000
END:DAYLIGHT
BEGIN:STANDARD
TZOFFSETFROM:-0700
TZOFFSETTO:-0800
TZNAME:PST
DTSTART:20231105T090000
END:STANDARD
END:VTIMEZONE
BEGIN:VEVENT
DTSTART;TZID=America/Los_Angeles:20190622T000000
DTEND;TZID=America/Los_Angeles:20220914T131718
DTSTAMP:20260419T210446
CREATED:20220608T060425Z
LAST-MODIFIED:20220610T132905Z
UID:10008471-1561161600-1663161438@uspa.net
SUMMARY:NorCal Summer Throw Down
DESCRIPTION:
URL:https://uspa.net/event/norcal-summer-throw-down-2019-06-22t00-00-00/
LOCATION:Granite City\, United States
END:VEVENT
BEGIN:VEVENT
DTSTART;TZID=America/Los_Angeles:20190622T000000
DTEND;TZID=America/Los_Angeles:20220914T131718
DTSTAMP:20260419T210446
CREATED:20220608T060405Z
LAST-MODIFIED:20220610T132905Z
UID:10008462-1561161600-1663161438@uspa.net
SUMMARY:The Megalodon Collision
DESCRIPTION:
URL:https://uspa.net/event/the-megalodon-collision-2019-06-22t00-00-00/
LOCATION:Granite City\, United States
END:VEVENT
BEGIN:VEVENT
DTSTART;TZID=America/Los_Angeles:20190622T000000
DTEND;TZID=America/Los_Angeles:20220914T131718
DTSTAMP:20260419T210446
CREATED:20220608T060432Z
LAST-MODIFIED:20220610T132905Z
UID:10008475-1561161600-1663161438@uspa.net
SUMMARY:Kidney Bench Press Drive
DESCRIPTION:
URL:https://uspa.net/event/kidney-bench-press-drive-2019-06-22t00-00-00/
LOCATION:Granite City\, United States
END:VEVENT
BEGIN:VEVENT
DTSTART;TZID=America/Los_Angeles:20190622T000000
DTEND;TZID=America/Los_Angeles:20220914T131718
DTSTAMP:20260419T210446
CREATED:20220608T060413Z
LAST-MODIFIED:20220610T132905Z
UID:10008466-1561161600-1663161438@uspa.net
SUMMARY:Ironville Classic Powerlifting Championship
DESCRIPTION:
URL:https://uspa.net/event/ironville-classic-powerlifting-championship-2019-06-22t00-00-00/
LOCATION:Granite City\, United States
END:VEVENT
BEGIN:VEVENT
DTSTART;TZID=America/Los_Angeles:20190622T000000
DTEND;TZID=America/Los_Angeles:20220914T131718
DTSTAMP:20260419T210446
CREATED:20220608T060421Z
LAST-MODIFIED:20220610T132905Z
UID:10008470-1561161600-1663161438@uspa.net
SUMMARY:Drug Tested Kentucky State Championship
DESCRIPTION:
URL:https://uspa.net/event/drug-tested-kentucky-state-championship-2019-06-22t00-00-00/
LOCATION:Granite City\, United States
END:VEVENT
BEGIN:VEVENT
DTSTART;TZID=America/Los_Angeles:20190622T000000
DTEND;TZID=America/Los_Angeles:20220914T131718
DTSTAMP:20260419T210446
CREATED:20220608T060401Z
LAST-MODIFIED:20220610T132905Z
UID:10008460-1561161600-1663161438@uspa.net
SUMMARY:Drug Tested ABTsolute Summerfest
DESCRIPTION:
URL:https://uspa.net/event/drug-tested-abtsolute-summerfest-2019-06-22t00-00-00/
LOCATION:Granite City\, United States
END:VEVENT
BEGIN:VEVENT
DTSTART;TZID=America/Los_Angeles:20190622T000000
DTEND;TZID=America/Los_Angeles:20220914T131718
DTSTAMP:20260419T210446
CREATED:20220608T060417Z
LAST-MODIFIED:20220610T132905Z
UID:10008468-1561161600-1663161438@uspa.net
SUMMARY:Battle on the Border
DESCRIPTION:
URL:https://uspa.net/event/battle-on-the-border-2019-06-22t00-00-00/
LOCATION:Granite City\, United States
END:VEVENT
BEGIN:VEVENT
DTSTART;TZID=America/Los_Angeles:20190615T000000
DTEND;TZID=America/Los_Angeles:20220914T131718
DTSTAMP:20260419T210446
CREATED:20220608T060559Z
LAST-MODIFIED:20220610T132905Z
UID:10009005-1560556800-1663161438@uspa.net
SUMMARY:Ultimate Iron Showdown
DESCRIPTION:
URL:https://uspa.net/event/ultimate-iron-showdown-2019-06-15t00-00-00/
LOCATION:Granite City\, United States
END:VEVENT
BEGIN:VEVENT
DTSTART;TZID=America/Los_Angeles:20190615T000000
DTEND;TZID=America/Los_Angeles:20220914T131718
DTSTAMP:20260419T210446
CREATED:20220608T060556Z
LAST-MODIFIED:20220610T132906Z
UID:10009004-1560556800-1663161438@uspa.net
SUMMARY:Ladies Night at The Bar
DESCRIPTION:
URL:https://uspa.net/event/ladies-night-at-the-bar-2019-06-15t00-00-00/
LOCATION:Granite City\, United States
END:VEVENT
BEGIN:VEVENT
DTSTART;TZID=America/Los_Angeles:20190615T000000
DTEND;TZID=America/Los_Angeles:20220914T131718
DTSTAMP:20260419T210446
CREATED:20220608T060548Z
LAST-MODIFIED:20220610T132906Z
UID:10009002-1560556800-1663161438@uspa.net
SUMMARY:Hardknox Powerlifting Meet
DESCRIPTION:
URL:https://uspa.net/event/hardknox-powerlifting-meet-2019-06-15t00-00-00/
LOCATION:Granite City\, United States
END:VEVENT
BEGIN:VEVENT
DTSTART;TZID=America/Los_Angeles:20190615T000000
DTEND;TZID=America/Los_Angeles:20220914T131718
DTSTAMP:20260419T210446
CREATED:20220608T060439Z
LAST-MODIFIED:20220610T132906Z
UID:10009000-1560556800-1663161438@uspa.net
SUMMARY:Dungeon Fitness Summer Slam
DESCRIPTION:
URL:https://uspa.net/event/dungeon-fitness-summer-slam-2019-06-15t00-00-00/
LOCATION:Granite City\, United States
END:VEVENT
BEGIN:VEVENT
DTSTART;TZID=America/Los_Angeles:20190615T000000
DTEND;TZID=America/Los_Angeles:20220914T131718
DTSTAMP:20260419T210446
CREATED:20220608T060603Z
LAST-MODIFIED:20220610T132905Z
UID:10009006-1560556800-1663161438@uspa.net
SUMMARY:Drug Tested Northeast Regional Championships
DESCRIPTION:
URL:https://uspa.net/event/drug-tested-northeast-regional-championships-2019-06-15t00-00-00/
LOCATION:Granite City\, United States
END:VEVENT
BEGIN:VEVENT
DTSTART;TZID=America/Los_Angeles:20190615T000000
DTEND;TZID=America/Los_Angeles:20220914T131718
DTSTAMP:20260419T210446
CREATED:20220608T060552Z
LAST-MODIFIED:20220610T132906Z
UID:10009003-1560556800-1663161438@uspa.net
SUMMARY:Drug Tested Culture Fitness and Fashion Powerlifting Expo
DESCRIPTION:
URL:https://uspa.net/event/drug-tested-culture-fitness-and-fashion-powerlifting-expo-2019-06-15t00-00-00/
LOCATION:Granite City\, United States
END:VEVENT
BEGIN:VEVENT
DTSTART;TZID=America/Los_Angeles:20190615T000000
DTEND;TZID=America/Los_Angeles:20220914T131718
DTSTAMP:20260419T210446
CREATED:20220608T060544Z
LAST-MODIFIED:20220610T132906Z
UID:10009001-1560556800-1663161438@uspa.net
SUMMARY:Drug Tested Unbreakable Warrior
DESCRIPTION:
URL:https://uspa.net/event/drug-tested-unbreakable-warrior-2019-06-15t00-00-00/
LOCATION:Granite City\, United States
END:VEVENT
BEGIN:VEVENT
DTSTART;TZID=America/Los_Angeles:20190615T000000
DTEND;TZID=America/Los_Angeles:20190616T000000
DTSTAMP:20260419T210446
CREATED:20220608T060436Z
LAST-MODIFIED:20220610T132905Z
UID:10008477-1560556800-1560643200@uspa.net
SUMMARY:Oregon State Championships
DESCRIPTION:
URL:https://uspa.net/event/oregon-state-championships-2019-06-15t00-00-00/
LOCATION:Granite City\, United States
END:VEVENT
BEGIN:VEVENT
DTSTART;TZID=America/Los_Angeles:20190608T000000
DTEND;TZID=America/Los_Angeles:20220914T131718
DTSTAMP:20260419T210446
CREATED:20220608T060637Z
LAST-MODIFIED:20220610T132906Z
UID:10009019-1559952000-1663161438@uspa.net
SUMMARY:Virginia Is For Lifters
DESCRIPTION:
URL:https://uspa.net/event/virginia-is-for-lifters-2019-06-08t00-00-00/
LOCATION:Granite City\, United States
END:VEVENT
BEGIN:VEVENT
DTSTART;TZID=America/Los_Angeles:20190608T000000
DTEND;TZID=America/Los_Angeles:20220914T131718
DTSTAMP:20260419T210446
CREATED:20220608T060630Z
LAST-MODIFIED:20220610T132906Z
UID:10009015-1559952000-1663161438@uspa.net
SUMMARY:Iron Maidens Women's Open
DESCRIPTION:
URL:https://uspa.net/event/iron-maidens-women-s-open-2019-06-08t00-00-00/
LOCATION:Granite City\, United States
END:VEVENT
BEGIN:VEVENT
DTSTART;TZID=America/Los_Angeles:20190608T000000
DTEND;TZID=America/Los_Angeles:20220914T131718
DTSTAMP:20260419T210446
CREATED:20220608T060634Z
LAST-MODIFIED:20220610T132906Z
UID:10009017-1559952000-1663161438@uspa.net
SUMMARY:Drug Tested Buckeye Bash
DESCRIPTION:
URL:https://uspa.net/event/drug-tested-buckeye-bash-2019-06-08t00-00-00/
LOCATION:Granite City\, United States
END:VEVENT
BEGIN:VEVENT
DTSTART;TZID=America/Los_Angeles:20190608T000000
DTEND;TZID=America/Los_Angeles:20220914T131718
DTSTAMP:20260419T210446
CREATED:20220608T060622Z
LAST-MODIFIED:20220610T132906Z
UID:10009011-1559952000-1663161438@uspa.net
SUMMARY:Desert Storm Open
DESCRIPTION:
URL:https://uspa.net/event/desert-storm-open-2019-06-08t00-00-00/
LOCATION:Granite City\, United States
END:VEVENT
BEGIN:VEVENT
DTSTART;TZID=America/Los_Angeles:20190608T000000
DTEND;TZID=America/Los_Angeles:20220914T131718
DTSTAMP:20260419T210446
CREATED:20220608T060619Z
LAST-MODIFIED:20220610T132906Z
UID:10009010-1559952000-1663161438@uspa.net
SUMMARY:Drug Tested Flagship City Open
DESCRIPTION:
URL:https://uspa.net/event/drug-tested-flagship-city-open-2019-06-08t00-00-00/
LOCATION:Granite City\, United States
END:VEVENT
BEGIN:VEVENT
DTSTART;TZID=America/Los_Angeles:20190608T000000
DTEND;TZID=America/Los_Angeles:20220914T131718
DTSTAMP:20260419T210446
CREATED:20220608T060626Z
LAST-MODIFIED:20220610T132906Z
UID:10009013-1559952000-1663161438@uspa.net
SUMMARY:Alameda County Championship
DESCRIPTION:
URL:https://uspa.net/event/alameda-county-championship-2019-06-08t00-00-00/
LOCATION:Granite City\, United States
END:VEVENT
BEGIN:VEVENT
DTSTART;TZID=America/Los_Angeles:20190608T000000
DTEND;TZID=America/Los_Angeles:20190609T000000
DTSTAMP:20260419T210446
CREATED:20220608T060615Z
LAST-MODIFIED:20220610T132906Z
UID:10009009-1559952000-1560038400@uspa.net
SUMMARY:Smash Weight Open
DESCRIPTION:
URL:https://uspa.net/event/smash-weight-open-2019-06-08t00-00-00/
LOCATION:Granite City\, United States
END:VEVENT
BEGIN:VEVENT
DTSTART;TZID=America/Los_Angeles:20190608T000000
DTEND;TZID=America/Los_Angeles:20190609T000000
DTSTAMP:20260419T210446
CREATED:20220608T060611Z
LAST-MODIFIED:20220612T185044Z
UID:10009008-1559952000-1560038400@uspa.net
SUMMARY:Drug Tested Ikaika Warrior Powerlifting Championship
DESCRIPTION:
URL:https://uspa.net/event/drug-tested-ikaika-warrior-powerlifting-championship-2019-06-08t00-00-00/
LOCATION:Granite City\, United States
END:VEVENT
BEGIN:VEVENT
DTSTART;TZID=America/Los_Angeles:20190608T000000
DTEND;TZID=America/Los_Angeles:20190609T000000
DTSTAMP:20260419T210446
CREATED:20220608T060607Z
LAST-MODIFIED:20220610T132906Z
UID:10009007-1559952000-1560038400@uspa.net
SUMMARY:Drug Tested Squat 2 Depth Summer Showdown
DESCRIPTION:
URL:https://uspa.net/event/drug-tested-squat-2-depth-summer-showdown-2019-06-08t00-00-00/
LOCATION:Granite City\, United States
END:VEVENT
BEGIN:VEVENT
DTSTART;TZID=America/Los_Angeles:20190601T000000
DTEND;TZID=America/Los_Angeles:20220914T131718
DTSTAMP:20260419T210446
CREATED:20220608T060716Z
LAST-MODIFIED:20220610T132906Z
UID:10009035-1559347200-1663161438@uspa.net
SUMMARY:Drug Tested Diamond K Championship
DESCRIPTION:
URL:https://uspa.net/event/drug-tested-diamond-k-championship-2019-06-01t00-00-00/
LOCATION:Granite City\, United States
END:VEVENT
BEGIN:VEVENT
DTSTART;TZID=America/Los_Angeles:20190601T000000
DTEND;TZID=America/Los_Angeles:20220914T131718
DTSTAMP:20260419T210446
CREATED:20220608T060708Z
LAST-MODIFIED:20220610T132906Z
UID:10009033-1559347200-1663161438@uspa.net
SUMMARY:Drug Tested South Jersey Open
DESCRIPTION:
URL:https://uspa.net/event/drug-tested-south-jersey-open-2019-06-01t00-00-00/
LOCATION:Granite City\, United States
END:VEVENT
BEGIN:VEVENT
DTSTART;TZID=America/Los_Angeles:20190601T000000
DTEND;TZID=America/Los_Angeles:20220914T131718
DTSTAMP:20260419T210446
CREATED:20220608T060704Z
LAST-MODIFIED:20220610T132906Z
UID:10009032-1559347200-1663161438@uspa.net
SUMMARY:Drug Tested Rocky Mountain Open
DESCRIPTION:
URL:https://uspa.net/event/drug-tested-rocky-mountain-open-2019-06-01t00-00-00/
LOCATION:Granite City\, United States
END:VEVENT
BEGIN:VEVENT
DTSTART;TZID=America/Los_Angeles:20190601T000000
DTEND;TZID=America/Los_Angeles:20220914T131719
DTSTAMP:20260419T210446
CREATED:20220608T060723Z
LAST-MODIFIED:20230111T225133Z
UID:10009037-1559347200-1663161439@uspa.net
SUMMARY:5th Annual Goliath Strength International Classic Powerlifting
DESCRIPTION:
URL:https://uspa.net/event/5th-annual-goliath-strength-international-classic-powerlifting-2019-06-01t00-00-00/
LOCATION:Granite City\, United States
END:VEVENT
BEGIN:VEVENT
DTSTART;TZID=America/Los_Angeles:20190601T000000
DTEND;TZID=America/Los_Angeles:20220914T131718
DTSTAMP:20260419T210446
CREATED:20220608T060719Z
LAST-MODIFIED:20220610T132906Z
UID:10009036-1559347200-1663161438@uspa.net
SUMMARY:Black Hills Classic
DESCRIPTION:
URL:https://uspa.net/event/black-hills-classic-2019-06-01t00-00-00/
LOCATION:Granite City\, United States
END:VEVENT
BEGIN:VEVENT
DTSTART;TZID=America/Los_Angeles:20190601T000000
DTEND;TZID=America/Los_Angeles:20220914T131718
DTSTAMP:20260419T210446
CREATED:20220608T060712Z
LAST-MODIFIED:20220610T132906Z
UID:10009034-1559347200-1663161438@uspa.net
SUMMARY:5th Virginia Open
DESCRIPTION:
URL:https://uspa.net/event/5th-virginia-open-2019-06-01t00-00-00/
LOCATION:Granite City\, United States
END:VEVENT
END:VCALENDAR