BEGIN:VCALENDAR
VERSION:2.0
PRODID:-//USPA - ECPv6.15.20//NONSGML v1.0//EN
CALSCALE:GREGORIAN
METHOD:PUBLISH
X-WR-CALNAME:USPA
X-ORIGINAL-URL:https://uspa.net
X-WR-CALDESC:Events for USPA
REFRESH-INTERVAL;VALUE=DURATION:PT1H
X-Robots-Tag:noindex
X-PUBLISHED-TTL:PT1H
BEGIN:VTIMEZONE
TZID:America/Los_Angeles
BEGIN:DAYLIGHT
TZOFFSETFROM:-0800
TZOFFSETTO:-0700
TZNAME:PDT
DTSTART:20180311T100000
END:DAYLIGHT
BEGIN:STANDARD
TZOFFSETFROM:-0700
TZOFFSETTO:-0800
TZNAME:PST
DTSTART:20181104T090000
END:STANDARD
BEGIN:DAYLIGHT
TZOFFSETFROM:-0800
TZOFFSETTO:-0700
TZNAME:PDT
DTSTART:20190310T100000
END:DAYLIGHT
BEGIN:STANDARD
TZOFFSETFROM:-0700
TZOFFSETTO:-0800
TZNAME:PST
DTSTART:20191103T090000
END:STANDARD
BEGIN:DAYLIGHT
TZOFFSETFROM:-0800
TZOFFSETTO:-0700
TZNAME:PDT
DTSTART:20200308T100000
END:DAYLIGHT
BEGIN:STANDARD
TZOFFSETFROM:-0700
TZOFFSETTO:-0800
TZNAME:PST
DTSTART:20201101T090000
END:STANDARD
BEGIN:DAYLIGHT
TZOFFSETFROM:-0800
TZOFFSETTO:-0700
TZNAME:PDT
DTSTART:20210314T100000
END:DAYLIGHT
BEGIN:STANDARD
TZOFFSETFROM:-0700
TZOFFSETTO:-0800
TZNAME:PST
DTSTART:20211107T090000
END:STANDARD
BEGIN:DAYLIGHT
TZOFFSETFROM:-0800
TZOFFSETTO:-0700
TZNAME:PDT
DTSTART:20220313T100000
END:DAYLIGHT
BEGIN:STANDARD
TZOFFSETFROM:-0700
TZOFFSETTO:-0800
TZNAME:PST
DTSTART:20221106T090000
END:STANDARD
BEGIN:DAYLIGHT
TZOFFSETFROM:-0800
TZOFFSETTO:-0700
TZNAME:PDT
DTSTART:20230312T100000
END:DAYLIGHT
BEGIN:STANDARD
TZOFFSETFROM:-0700
TZOFFSETTO:-0800
TZNAME:PST
DTSTART:20231105T090000
END:STANDARD
END:VTIMEZONE
BEGIN:VEVENT
DTSTART;TZID=America/Los_Angeles:20190601T000000
DTEND;TZID=America/Los_Angeles:20220914T131718
DTSTAMP:20260419T223559
CREATED:20220608T060700Z
LAST-MODIFIED:20220610T132906Z
UID:10009031-1559347200-1663161438@uspa.net
SUMMARY:Border Wars
DESCRIPTION:
URL:https://uspa.net/event/border-wars-2019-06-01t00-00-00/
LOCATION:SC
END:VEVENT
BEGIN:VEVENT
DTSTART;TZID=America/Los_Angeles:20190601T000000
DTEND;TZID=America/Los_Angeles:20220914T131718
DTSTAMP:20260419T223559
CREATED:20220608T060657Z
LAST-MODIFIED:20220610T132906Z
UID:10009030-1559347200-1663161438@uspa.net
SUMMARY:Big Tex Open
DESCRIPTION:
URL:https://uspa.net/event/big-tex-open-2019-06-01t00-00-00/
LOCATION:SC
END:VEVENT
BEGIN:VEVENT
DTSTART;TZID=America/Los_Angeles:20190601T000000
DTEND;TZID=America/Los_Angeles:20190602T000000
DTSTAMP:20260419T223559
CREATED:20220608T060649Z
LAST-MODIFIED:20220610T132906Z
UID:10009026-1559347200-1559433600@uspa.net
SUMMARY:Wyoming State and Mtn. West Regional Powerlifting Championships
DESCRIPTION:
URL:https://uspa.net/event/wyoming-state-and-mtn-west-regional-powerlifting-championships-2019-06-01t00-00-00/
LOCATION:SC
END:VEVENT
BEGIN:VEVENT
DTSTART;TZID=America/Los_Angeles:20190601T000000
DTEND;TZID=America/Los_Angeles:20190602T000000
DTSTAMP:20260419T223559
CREATED:20220608T060653Z
LAST-MODIFIED:20220610T132906Z
UID:10009028-1559347200-1559433600@uspa.net
SUMMARY:THE JENN
DESCRIPTION:
URL:https://uspa.net/event/the-jenn-2019-06-01t00-00-00/
LOCATION:SC
END:VEVENT
BEGIN:VEVENT
DTSTART;TZID=America/Los_Angeles:20190601T000000
DTEND;TZID=America/Los_Angeles:20190602T000000
DTSTAMP:20260419T223559
CREATED:20220608T060645Z
LAST-MODIFIED:20220610T132906Z
UID:10009024-1559347200-1559433600@uspa.net
SUMMARY:Iron City Open
DESCRIPTION:
URL:https://uspa.net/event/iron-city-open-2019-06-01t00-00-00/
LOCATION:SC
END:VEVENT
BEGIN:VEVENT
DTSTART;TZID=America/Los_Angeles:20190601T000000
DTEND;TZID=America/Los_Angeles:20190602T000000
DTSTAMP:20260419T223559
CREATED:20220608T060641Z
LAST-MODIFIED:20220610T132906Z
UID:10009021-1559347200-1559433600@uspa.net
SUMMARY:Drug Tested Anaheim Fit Expo
DESCRIPTION:
URL:https://uspa.net/event/drug-tested-anaheim-fit-expo-2019-06-01t00-00-00/
LOCATION:SC
END:VEVENT
BEGIN:VEVENT
DTSTART;TZID=America/Los_Angeles:20190525T000000
DTEND;TZID=America/Los_Angeles:20220914T131719
DTSTAMP:20260419T223559
CREATED:20220608T060735Z
LAST-MODIFIED:20220610T132906Z
UID:10009040-1558742400-1663161439@uspa.net
SUMMARY:Sierra Nevada Classic
DESCRIPTION:
URL:https://uspa.net/event/sierra-nevada-classic-2019-05-25t00-00-00/
LOCATION:SC
END:VEVENT
BEGIN:VEVENT
DTSTART;TZID=America/Los_Angeles:20190525T000000
DTEND;TZID=America/Los_Angeles:20220914T131719
DTSTAMP:20260419T223559
CREATED:20220608T060743Z
LAST-MODIFIED:20220610T132906Z
UID:10009042-1558742400-1663161439@uspa.net
SUMMARY:Georgia State Powerlifting Meet
DESCRIPTION:
URL:https://uspa.net/event/georgia-state-powerlifting-meet-2019-05-25t00-00-00/
LOCATION:SC
END:VEVENT
BEGIN:VEVENT
DTSTART;TZID=America/Los_Angeles:20190525T000000
DTEND;TZID=America/Los_Angeles:20220914T131719
DTSTAMP:20260419T223559
CREATED:20220608T060739Z
LAST-MODIFIED:20220610T132906Z
UID:10009041-1558742400-1663161439@uspa.net
SUMMARY:Landshark Powerlifting Open
DESCRIPTION:
URL:https://uspa.net/event/landshark-powerlifting-open-2019-05-25t00-00-00/
LOCATION:SC
END:VEVENT
BEGIN:VEVENT
DTSTART;TZID=America/Los_Angeles:20190525T000000
DTEND;TZID=America/Los_Angeles:20190526T000000
DTSTAMP:20260419T223559
CREATED:20220608T060731Z
LAST-MODIFIED:20220610T132906Z
UID:10009039-1558742400-1558828800@uspa.net
SUMMARY:Utah State Championships
DESCRIPTION:
URL:https://uspa.net/event/utah-state-championships-2019-05-25t00-00-00/
LOCATION:SC
END:VEVENT
BEGIN:VEVENT
DTSTART;TZID=America/Los_Angeles:20190525T000000
DTEND;TZID=America/Los_Angeles:20190526T000000
DTSTAMP:20260419T223559
CREATED:20220608T060727Z
LAST-MODIFIED:20220610T132906Z
UID:10009038-1558742400-1558828800@uspa.net
SUMMARY:22nd Street Barbell Open
DESCRIPTION:
URL:https://uspa.net/event/22nd-street-barbell-open-2019-05-25t00-00-00/
LOCATION:SC
END:VEVENT
BEGIN:VEVENT
DTSTART;TZID=America/Los_Angeles:20190518T000000
DTEND;TZID=America/Los_Angeles:20220914T131719
DTSTAMP:20260419T223559
CREATED:20220608T060809Z
LAST-MODIFIED:20220610T132906Z
UID:10009050-1558137600-1663161439@uspa.net
SUMMARY:Sin City Open
DESCRIPTION:
URL:https://uspa.net/event/sin-city-open-2019-05-18t00-00-00/
LOCATION:SC
END:VEVENT
BEGIN:VEVENT
DTSTART;TZID=America/Los_Angeles:20190518T000000
DTEND;TZID=America/Los_Angeles:20220914T131719
DTSTAMP:20260419T223559
CREATED:20220608T060802Z
LAST-MODIFIED:20220610T132906Z
UID:10009047-1558137600-1663161439@uspa.net
SUMMARY:Montana State Open
DESCRIPTION:
URL:https://uspa.net/event/montana-state-open-2019-05-18t00-00-00/
LOCATION:SC
END:VEVENT
BEGIN:VEVENT
DTSTART;TZID=America/Los_Angeles:20190518T000000
DTEND;TZID=America/Los_Angeles:20220914T131719
DTSTAMP:20260419T223559
CREATED:20220608T060758Z
LAST-MODIFIED:20220610T132906Z
UID:10009046-1558137600-1663161439@uspa.net
SUMMARY:Lone Star Shootout
DESCRIPTION:
URL:https://uspa.net/event/lone-star-shootout-2019-05-18t00-00-00/
LOCATION:SC
END:VEVENT
BEGIN:VEVENT
DTSTART;TZID=America/Los_Angeles:20190518T000000
DTEND;TZID=America/Los_Angeles:20220914T131719
DTSTAMP:20260419T223559
CREATED:20220608T060806Z
LAST-MODIFIED:20220610T132906Z
UID:10009048-1558137600-1663161439@uspa.net
SUMMARY:Drug Tested Tennessee State Championship
DESCRIPTION:
URL:https://uspa.net/event/drug-tested-tennessee-state-championship-2019-05-18t00-00-00/
LOCATION:SC
END:VEVENT
BEGIN:VEVENT
DTSTART;TZID=America/Los_Angeles:20190518T000000
DTEND;TZID=America/Los_Angeles:20220914T131719
DTSTAMP:20260419T223559
CREATED:20220608T060754Z
LAST-MODIFIED:20220610T132906Z
UID:10009045-1558137600-1663161439@uspa.net
SUMMARY:Battle of the Badges
DESCRIPTION:
URL:https://uspa.net/event/battle-of-the-badges-2019-05-18t00-00-00/
LOCATION:SC
END:VEVENT
BEGIN:VEVENT
DTSTART;TZID=America/Los_Angeles:20190518T000000
DTEND;TZID=America/Los_Angeles:20190519T000000
DTSTAMP:20260419T223559
CREATED:20220608T060750Z
LAST-MODIFIED:20220610T132906Z
UID:10009044-1558137600-1558224000@uspa.net
SUMMARY:Kabuki Strength Pacific Northwest Classic
DESCRIPTION:
URL:https://uspa.net/event/kabuki-strength-pacific-northwest-classic-2019-05-18t00-00-00/
LOCATION:SC
END:VEVENT
BEGIN:VEVENT
DTSTART;TZID=America/Los_Angeles:20190518T000000
DTEND;TZID=America/Los_Angeles:20190519T000000
DTSTAMP:20260419T223559
CREATED:20220608T060747Z
LAST-MODIFIED:20220610T132906Z
UID:10009043-1558137600-1558224000@uspa.net
SUMMARY:Drug Tested Metroflex Classic
DESCRIPTION:
URL:https://uspa.net/event/drug-tested-metroflex-classic-2019-05-18t00-00-00/
LOCATION:SC
END:VEVENT
BEGIN:VEVENT
DTSTART;TZID=America/Los_Angeles:20190511T000000
DTEND;TZID=America/Los_Angeles:20220914T131719
DTSTAMP:20260419T223559
CREATED:20220608T060828Z
LAST-MODIFIED:20220610T132906Z
UID:10008506-1557532800-1663161439@uspa.net
SUMMARY:Western New York Powerlifting Championships
DESCRIPTION:
URL:https://uspa.net/event/western-new-york-powerlifting-championships-2019-05-11t00-00-00/
LOCATION:SC
END:VEVENT
BEGIN:VEVENT
DTSTART;TZID=America/Los_Angeles:20190511T000000
DTEND;TZID=America/Los_Angeles:20220914T131719
DTSTAMP:20260419T223559
CREATED:20220608T060821Z
LAST-MODIFIED:20220610T132906Z
UID:10009056-1557532800-1663161439@uspa.net
SUMMARY:Masters Cup
DESCRIPTION:
URL:https://uspa.net/event/masters-cup-2019-05-11t00-00-00/
LOCATION:SC
END:VEVENT
BEGIN:VEVENT
DTSTART;TZID=America/Los_Angeles:20190511T000000
DTEND;TZID=America/Los_Angeles:20220914T131719
DTSTAMP:20260419T223559
CREATED:20220608T060817Z
LAST-MODIFIED:20220610T132906Z
UID:10009054-1557532800-1663161439@uspa.net
SUMMARY:Drug Tested Washington State Championships
DESCRIPTION:
URL:https://uspa.net/event/drug-tested-washington-state-championships-2019-05-11t00-00-00/
LOCATION:SC
END:VEVENT
BEGIN:VEVENT
DTSTART;TZID=America/Los_Angeles:20190511T000000
DTEND;TZID=America/Los_Angeles:20220914T131719
DTSTAMP:20260419T223559
CREATED:20220608T060825Z
LAST-MODIFIED:20220610T132906Z
UID:10008503-1557532800-1663161439@uspa.net
SUMMARY:Drug Tested Michigan Open
DESCRIPTION:
URL:https://uspa.net/event/drug-tested-michigan-open-2019-05-11t00-00-00/
LOCATION:SC
END:VEVENT
BEGIN:VEVENT
DTSTART;TZID=America/Los_Angeles:20190511T000000
DTEND;TZID=America/Los_Angeles:20190512T000000
DTSTAMP:20260419T223559
CREATED:20220608T060813Z
LAST-MODIFIED:20220610T132906Z
UID:10009052-1557532800-1557619200@uspa.net
SUMMARY:Central Coast Open
DESCRIPTION:
URL:https://uspa.net/event/central-coast-open-2019-05-11t00-00-00/
LOCATION:SC
END:VEVENT
BEGIN:VEVENT
DTSTART;TZID=America/Los_Angeles:20190505T000000
DTEND;TZID=America/Los_Angeles:20220914T131719
DTSTAMP:20260419T223559
CREATED:20220608T060836Z
LAST-MODIFIED:20220610T132918Z
UID:10008510-1557014400-1663161439@uspa.net
SUMMARY:Kars n Kilos Powerlifting Championship
DESCRIPTION:
URL:https://uspa.net/event/kars-n-kilos-powerlifting-championship-2019-05-05t00-00-00/
LOCATION:SC
END:VEVENT
BEGIN:VEVENT
DTSTART;TZID=America/Los_Angeles:20190505T000000
DTEND;TZID=America/Los_Angeles:20220914T131719
DTSTAMP:20260419T223559
CREATED:20220608T060832Z
LAST-MODIFIED:20220610T132918Z
UID:10008508-1557014400-1663161439@uspa.net
SUMMARY:MANA Barbell Qualifier
DESCRIPTION:
URL:https://uspa.net/event/mana-barbell-qualifier-2019-05-05t00-00-00/
LOCATION:SC
END:VEVENT
BEGIN:VEVENT
DTSTART;TZID=America/Los_Angeles:20190504T000000
DTEND;TZID=America/Los_Angeles:20220914T131719
DTSTAMP:20260419T223559
CREATED:20220608T060843Z
LAST-MODIFIED:20220610T132919Z
UID:10008514-1556928000-1663161439@uspa.net
SUMMARY:Washington State Championships
DESCRIPTION:
URL:https://uspa.net/event/washington-state-championships-2019-05-04t00-00-00/
LOCATION:SC
END:VEVENT
BEGIN:VEVENT
DTSTART;TZID=America/Los_Angeles:20190504T000000
DTEND;TZID=America/Los_Angeles:20220914T131720
DTSTAMP:20260419T223559
CREATED:20220608T060914Z
LAST-MODIFIED:20220610T132919Z
UID:10009065-1556928000-1663161440@uspa.net
SUMMARY:Southside Spring Showdown
DESCRIPTION:
URL:https://uspa.net/event/southside-spring-showdown-2019-05-04t00-00-00/
LOCATION:SC
END:VEVENT
BEGIN:VEVENT
DTSTART;TZID=America/Los_Angeles:20190504T000000
DTEND;TZID=America/Los_Angeles:20220914T131720
DTSTAMP:20260419T223559
CREATED:20220608T060910Z
LAST-MODIFIED:20220610T132919Z
UID:10009063-1556928000-1663161440@uspa.net
SUMMARY:Stanislaus County Open
DESCRIPTION:
URL:https://uspa.net/event/stanislaus-county-open-2019-05-04t00-00-00/
LOCATION:SC
END:VEVENT
BEGIN:VEVENT
DTSTART;TZID=America/Los_Angeles:20190504T000000
DTEND;TZID=America/Los_Angeles:20220914T131720
DTSTAMP:20260419T223559
CREATED:20220608T060906Z
LAST-MODIFIED:20220610T132919Z
UID:10009061-1556928000-1663161440@uspa.net
SUMMARY:Rhino Smash
DESCRIPTION:
URL:https://uspa.net/event/rhino-smash-2019-05-04t00-00-00/
LOCATION:SC
END:VEVENT
BEGIN:VEVENT
DTSTART;TZID=America/Los_Angeles:20190504T000000
DTEND;TZID=America/Los_Angeles:20220914T131720
DTSTAMP:20260419T223559
CREATED:20220608T060903Z
LAST-MODIFIED:20220610T132919Z
UID:10009059-1556928000-1663161440@uspa.net
SUMMARY:The Iron Warrior Western Slope Open
DESCRIPTION:
URL:https://uspa.net/event/the-iron-warrior-western-slope-open-2019-05-04t00-00-00/
LOCATION:SC
END:VEVENT
END:VCALENDAR