BEGIN:VCALENDAR
VERSION:2.0
PRODID:-//USPA - ECPv6.15.20//NONSGML v1.0//EN
CALSCALE:GREGORIAN
METHOD:PUBLISH
X-WR-CALNAME:USPA
X-ORIGINAL-URL:https://uspa.net
X-WR-CALDESC:Events for USPA
REFRESH-INTERVAL;VALUE=DURATION:PT1H
X-Robots-Tag:noindex
X-PUBLISHED-TTL:PT1H
BEGIN:VTIMEZONE
TZID:America/Los_Angeles
BEGIN:DAYLIGHT
TZOFFSETFROM:-0800
TZOFFSETTO:-0700
TZNAME:PDT
DTSTART:20180311T100000
END:DAYLIGHT
BEGIN:STANDARD
TZOFFSETFROM:-0700
TZOFFSETTO:-0800
TZNAME:PST
DTSTART:20181104T090000
END:STANDARD
BEGIN:DAYLIGHT
TZOFFSETFROM:-0800
TZOFFSETTO:-0700
TZNAME:PDT
DTSTART:20190310T100000
END:DAYLIGHT
BEGIN:STANDARD
TZOFFSETFROM:-0700
TZOFFSETTO:-0800
TZNAME:PST
DTSTART:20191103T090000
END:STANDARD
BEGIN:DAYLIGHT
TZOFFSETFROM:-0800
TZOFFSETTO:-0700
TZNAME:PDT
DTSTART:20200308T100000
END:DAYLIGHT
BEGIN:STANDARD
TZOFFSETFROM:-0700
TZOFFSETTO:-0800
TZNAME:PST
DTSTART:20201101T090000
END:STANDARD
BEGIN:DAYLIGHT
TZOFFSETFROM:-0800
TZOFFSETTO:-0700
TZNAME:PDT
DTSTART:20210314T100000
END:DAYLIGHT
BEGIN:STANDARD
TZOFFSETFROM:-0700
TZOFFSETTO:-0800
TZNAME:PST
DTSTART:20211107T090000
END:STANDARD
BEGIN:DAYLIGHT
TZOFFSETFROM:-0800
TZOFFSETTO:-0700
TZNAME:PDT
DTSTART:20220313T100000
END:DAYLIGHT
BEGIN:STANDARD
TZOFFSETFROM:-0700
TZOFFSETTO:-0800
TZNAME:PST
DTSTART:20221106T090000
END:STANDARD
BEGIN:DAYLIGHT
TZOFFSETFROM:-0800
TZOFFSETTO:-0700
TZNAME:PDT
DTSTART:20230312T100000
END:DAYLIGHT
BEGIN:STANDARD
TZOFFSETFROM:-0700
TZOFFSETTO:-0800
TZNAME:PST
DTSTART:20231105T090000
END:STANDARD
END:VTIMEZONE
BEGIN:VEVENT
DTSTART;TZID=America/Los_Angeles:20190504T000000
DTEND;TZID=America/Los_Angeles:20220914T131719
DTSTAMP:20260420T000405
CREATED:20220608T060858Z
LAST-MODIFIED:20220610T132919Z
UID:10008521-1556928000-1663161439@uspa.net
SUMMARY:Pirates of the Platform
DESCRIPTION:
URL:https://uspa.net/event/pirates-of-the-platform-2019-05-04t00-00-00/
LOCATION:Orange\, United States
END:VEVENT
BEGIN:VEVENT
DTSTART;TZID=America/Los_Angeles:20190504T000000
DTEND;TZID=America/Los_Angeles:20220914T131719
DTSTAMP:20260420T000405
CREATED:20220608T060851Z
LAST-MODIFIED:20220610T132919Z
UID:10008517-1556928000-1663161439@uspa.net
SUMMARY:Southern Elite Classic
DESCRIPTION:
URL:https://uspa.net/event/southern-elite-classic-2019-05-04t00-00-00/
LOCATION:Orange\, United States
END:VEVENT
BEGIN:VEVENT
DTSTART;TZID=America/Los_Angeles:20190504T000000
DTEND;TZID=America/Los_Angeles:20220914T131719
DTSTAMP:20260420T000405
CREATED:20220608T060847Z
LAST-MODIFIED:20220610T132919Z
UID:10008515-1556928000-1663161439@uspa.net
SUMMARY:Southwest Desert Classic
DESCRIPTION:
URL:https://uspa.net/event/southwest-desert-classic-2019-05-04t00-00-00/
LOCATION:Orange\, United States
END:VEVENT
BEGIN:VEVENT
DTSTART;TZID=America/Los_Angeles:20190504T000000
DTEND;TZID=America/Los_Angeles:20220914T131719
DTSTAMP:20260420T000405
CREATED:20220608T060839Z
LAST-MODIFIED:20220610T132919Z
UID:10008512-1556928000-1663161439@uspa.net
SUMMARY:May the Fourth be With You
DESCRIPTION:
URL:https://uspa.net/event/may-the-fourth-be-with-you-2019-05-04t00-00-00/
LOCATION:Orange\, United States
END:VEVENT
BEGIN:VEVENT
DTSTART;TZID=America/Los_Angeles:20190504T000000
DTEND;TZID=America/Los_Angeles:20220914T131719
DTSTAMP:20260420T000405
CREATED:20220608T060855Z
LAST-MODIFIED:20220610T132919Z
UID:10008519-1556928000-1663161439@uspa.net
SUMMARY:Bar Wars
DESCRIPTION:
URL:https://uspa.net/event/bar-wars-2019-05-04t00-00-00/
LOCATION:Orange\, United States
END:VEVENT
BEGIN:VEVENT
DTSTART;TZID=America/Los_Angeles:20190427T000000
DTEND;TZID=America/Los_Angeles:20220914T131720
DTSTAMP:20260420T000405
CREATED:20220608T060918Z
LAST-MODIFIED:20220610T132920Z
UID:10009067-1556323200-1663161440@uspa.net
SUMMARY:Santa Barbara Open
DESCRIPTION:
URL:https://uspa.net/event/santa-barbara-open-2019-04-27t00-00-00/
LOCATION:Orange\, United States
END:VEVENT
BEGIN:VEVENT
DTSTART;TZID=America/Los_Angeles:20190427T000000
DTEND;TZID=America/Los_Angeles:20220914T131720
DTSTAMP:20260420T000405
CREATED:20220608T060922Z
LAST-MODIFIED:20220610T132920Z
UID:10009068-1556323200-1663161440@uspa.net
SUMMARY:Drug Tested M.A.S.S. Weekend Classic
DESCRIPTION:
URL:https://uspa.net/event/drug-tested-m-a-s-s-weekend-classic-2019-04-27t00-00-00/
LOCATION:Orange\, United States
END:VEVENT
BEGIN:VEVENT
DTSTART;TZID=America/Los_Angeles:20190427T000000
DTEND;TZID=America/Los_Angeles:20220914T131720
DTSTAMP:20260420T000405
CREATED:20220608T060930Z
LAST-MODIFIED:20220610T132919Z
UID:10009071-1556323200-1663161440@uspa.net
SUMMARY:4th April Armageddon
DESCRIPTION:
URL:https://uspa.net/event/4th-april-armageddon-2019-04-27t00-00-00/
LOCATION:Orange\, United States
END:VEVENT
BEGIN:VEVENT
DTSTART;TZID=America/Los_Angeles:20190427T000000
DTEND;TZID=America/Los_Angeles:20220914T131720
DTSTAMP:20260420T000405
CREATED:20220608T060926Z
LAST-MODIFIED:20220610T132919Z
UID:10009069-1556323200-1663161440@uspa.net
SUMMARY:Beef Castle Classic
DESCRIPTION:
URL:https://uspa.net/event/beef-castle-classic-2019-04-27t00-00-00/
LOCATION:Orange\, United States
END:VEVENT
BEGIN:VEVENT
DTSTART;TZID=America/Los_Angeles:20190427T000000
DTEND;TZID=America/Los_Angeles:20190428T000000
DTSTAMP:20260420T000405
CREATED:20220608T060935Z
LAST-MODIFIED:20220610T132919Z
UID:10009073-1556323200-1556409600@uspa.net
SUMMARY:Kansas City Powerlifting Championship
DESCRIPTION:
URL:https://uspa.net/event/kansas-city-powerlifting-championship-2019-04-27t00-00-00/
LOCATION:Orange\, United States
END:VEVENT
BEGIN:VEVENT
DTSTART;TZID=America/Los_Angeles:20190420T000000
DTEND;TZID=America/Los_Angeles:20220914T131720
DTSTAMP:20260420T000405
CREATED:20220608T060939Z
LAST-MODIFIED:20220610T132920Z
UID:10009076-1555718400-1663161440@uspa.net
SUMMARY:Razor's Barbell Mayhem
DESCRIPTION:
URL:https://uspa.net/event/razor-s-barbell-mayhem-2019-04-20t00-00-00/
LOCATION:Orange\, United States
END:VEVENT
BEGIN:VEVENT
DTSTART;TZID=America/Los_Angeles:20190420T000000
DTEND;TZID=America/Los_Angeles:20220914T131720
DTSTAMP:20260420T000405
CREATED:20220608T060947Z
LAST-MODIFIED:20220610T132920Z
UID:10009081-1555718400-1663161440@uspa.net
SUMMARY:Magic City Showdown
DESCRIPTION:
URL:https://uspa.net/event/magic-city-showdown-2019-04-20t00-00-00/
LOCATION:Orange\, United States
END:VEVENT
BEGIN:VEVENT
DTSTART;TZID=America/Los_Angeles:20190420T000000
DTEND;TZID=America/Los_Angeles:20220914T131720
DTSTAMP:20260420T000405
CREATED:20220608T060943Z
LAST-MODIFIED:20220610T132920Z
UID:10009078-1555718400-1663161440@uspa.net
SUMMARY:Mojave Desert Open
DESCRIPTION:
URL:https://uspa.net/event/mojave-desert-open-2019-04-20t00-00-00/
LOCATION:Orange\, United States
END:VEVENT
BEGIN:VEVENT
DTSTART;TZID=America/Los_Angeles:20190420T000000
DTEND;TZID=America/Los_Angeles:20220914T131720
DTSTAMP:20260420T000405
CREATED:20220608T060954Z
LAST-MODIFIED:20220610T132920Z
UID:10009085-1555718400-1663161440@uspa.net
SUMMARY:Central New York Pro/Am Powerlifting Championships
DESCRIPTION:
URL:https://uspa.net/event/central-new-york-pro-am-powerlifting-championships-2019-04-20t00-00-00/
LOCATION:Orange\, United States
END:VEVENT
BEGIN:VEVENT
DTSTART;TZID=America/Los_Angeles:20190420T000000
DTEND;TZID=America/Los_Angeles:20220914T131720
DTSTAMP:20260420T000405
CREATED:20220608T060950Z
LAST-MODIFIED:20220610T132920Z
UID:10009083-1555718400-1663161440@uspa.net
SUMMARY:Drug Tested New Mexico State Championships
DESCRIPTION:
URL:https://uspa.net/event/drug-tested-new-mexico-state-championships-2019-04-20t00-00-00/
LOCATION:Orange\, United States
END:VEVENT
BEGIN:VEVENT
DTSTART;TZID=America/Los_Angeles:20190420T000000
DTEND;TZID=America/Los_Angeles:20220914T131720
DTSTAMP:20260420T000405
CREATED:20220608T061006Z
LAST-MODIFIED:20220610T132920Z
UID:10009089-1555718400-1663161440@uspa.net
SUMMARY:Arkansas Powerlifting Championship
DESCRIPTION:
URL:https://uspa.net/event/arkansas-powerlifting-championship-2019-04-20t00-00-00/
LOCATION:Orange\, United States
END:VEVENT
BEGIN:VEVENT
DTSTART;TZID=America/Los_Angeles:20190420T000000
DTEND;TZID=America/Los_Angeles:20220914T131720
DTSTAMP:20260420T000405
CREATED:20220608T061002Z
LAST-MODIFIED:20220610T132920Z
UID:10009088-1555718400-1663161440@uspa.net
SUMMARY:Battle of Jersey City
DESCRIPTION:
URL:https://uspa.net/event/battle-of-jersey-city-2019-04-20t00-00-00/
LOCATION:Orange\, United States
END:VEVENT
BEGIN:VEVENT
DTSTART;TZID=America/Los_Angeles:20190420T000000
DTEND;TZID=America/Los_Angeles:20220914T131720
DTSTAMP:20260420T000405
CREATED:20220608T060958Z
LAST-MODIFIED:20220610T132920Z
UID:10009087-1555718400-1663161440@uspa.net
SUMMARY:Battle of the West
DESCRIPTION:
URL:https://uspa.net/event/battle-of-the-west-2019-04-20t00-00-00/
LOCATION:Orange\, United States
END:VEVENT
BEGIN:VEVENT
DTSTART;TZID=America/Los_Angeles:20190414T000000
DTEND;TZID=America/Los_Angeles:20220914T131720
DTSTAMP:20260420T000405
CREATED:20220608T061009Z
LAST-MODIFIED:20220610T132920Z
UID:10009090-1555200000-1663161440@uspa.net
SUMMARY:Drug Tested Unbreakable Gear Classic
DESCRIPTION:
URL:https://uspa.net/event/drug-tested-unbreakable-gear-classic-2019-04-14t00-00-00/
LOCATION:Orange\, United States
END:VEVENT
BEGIN:VEVENT
DTSTART;TZID=America/Los_Angeles:20190413T000000
DTEND;TZID=America/Los_Angeles:20220914T131720
DTSTAMP:20260420T000405
CREATED:20220608T061022Z
LAST-MODIFIED:20220610T132920Z
UID:10009093-1555113600-1663161440@uspa.net
SUMMARY:Texas State Championships
DESCRIPTION:
URL:https://uspa.net/event/texas-state-championships-2019-04-13t00-00-00/
LOCATION:Orange\, United States
END:VEVENT
BEGIN:VEVENT
DTSTART;TZID=America/Los_Angeles:20190413T000000
DTEND;TZID=America/Los_Angeles:20220914T131720
DTSTAMP:20260420T000405
CREATED:20220608T061018Z
LAST-MODIFIED:20220610T132920Z
UID:10009092-1555113600-1663161440@uspa.net
SUMMARY:THE BATTLE XXII
DESCRIPTION:
URL:https://uspa.net/event/the-battle-xxii-2019-04-13t00-00-00/
LOCATION:Orange\, United States
END:VEVENT
BEGIN:VEVENT
DTSTART;TZID=America/Los_Angeles:20190413T000000
DTEND;TZID=America/Los_Angeles:20220914T131720
DTSTAMP:20260420T000405
CREATED:20220608T061013Z
LAST-MODIFIED:20220610T132920Z
UID:10009091-1555113600-1663161440@uspa.net
SUMMARY:The Challenge IV
DESCRIPTION:
URL:https://uspa.net/event/the-challenge-iv-2019-04-13t00-00-00/
LOCATION:Orange\, United States
END:VEVENT
BEGIN:VEVENT
DTSTART;TZID=America/Los_Angeles:20190413T000000
DTEND;TZID=America/Los_Angeles:20220914T131721
DTSTAMP:20260420T000405
CREATED:20220608T061042Z
LAST-MODIFIED:20220610T132920Z
UID:10008534-1555113600-1663161441@uspa.net
SUMMARY:FitCon World Cup- Pro Invitational
DESCRIPTION:
URL:https://uspa.net/event/fitcon-world-cup-pro-invitational-2019-04-13t00-00-00/
LOCATION:Orange\, United States
END:VEVENT
BEGIN:VEVENT
DTSTART;TZID=America/Los_Angeles:20190413T000000
DTEND;TZID=America/Los_Angeles:20220914T131720
DTSTAMP:20260420T000405
CREATED:20220608T061026Z
LAST-MODIFIED:20220610T132920Z
UID:10008526-1555113600-1663161440@uspa.net
SUMMARY:Liz Freel Classic (charity event)
DESCRIPTION:
URL:https://uspa.net/event/liz-freel-classic-charity-event-2019-04-13t00-00-00/
LOCATION:Orange\, United States
END:VEVENT
BEGIN:VEVENT
DTSTART;TZID=America/Los_Angeles:20190413T000000
DTEND;TZID=America/Los_Angeles:20220914T131720
DTSTAMP:20260420T000405
CREATED:20220608T061029Z
LAST-MODIFIED:20220610T132920Z
UID:10008528-1555113600-1663161440@uspa.net
SUMMARY:Drug Tested "No Limit" Best Of The West Classic
DESCRIPTION:
URL:https://uspa.net/event/drug-tested-no-limit-best-of-the-west-classic-2019-04-13t00-00-00/
LOCATION:Orange\, United States
END:VEVENT
BEGIN:VEVENT
DTSTART;TZID=America/Los_Angeles:20190413T000000
DTEND;TZID=America/Los_Angeles:20220914T131720
DTSTAMP:20260420T000405
CREATED:20220608T061034Z
LAST-MODIFIED:20220610T132920Z
UID:10008529-1555113600-1663161440@uspa.net
SUMMARY:Best of the West Vol 4
DESCRIPTION:
URL:https://uspa.net/event/best-of-the-west-vol-4-2019-04-13t00-00-00/
LOCATION:Orange\, United States
END:VEVENT
BEGIN:VEVENT
DTSTART;TZID=America/Los_Angeles:20190413T000000
DTEND;TZID=America/Los_Angeles:20190414T000000
DTSTAMP:20260420T000405
CREATED:20220608T061038Z
LAST-MODIFIED:20220610T132920Z
UID:10008531-1555113600-1555200000@uspa.net
SUMMARY:Orlando Europa Expo
DESCRIPTION:
URL:https://uspa.net/event/orlando-europa-expo-2019-04-13t00-00-00/
LOCATION:Orange\, United States
END:VEVENT
BEGIN:VEVENT
DTSTART;TZID=America/Los_Angeles:20190412T000000
DTEND;TZID=America/Los_Angeles:20220914T131721
DTSTAMP:20260420T000405
CREATED:20220608T061046Z
LAST-MODIFIED:20220610T132920Z
UID:10008536-1555027200-1663161441@uspa.net
SUMMARY:FitCon World Cup Open
DESCRIPTION:
URL:https://uspa.net/event/fitcon-world-cup-open-2019-04-12t00-00-00/
LOCATION:Orange\, United States
END:VEVENT
BEGIN:VEVENT
DTSTART;TZID=America/Los_Angeles:20190406T000000
DTEND;TZID=America/Los_Angeles:20220914T131721
DTSTAMP:20260420T000405
CREATED:20220608T061053Z
LAST-MODIFIED:20220610T132921Z
UID:10008540-1554508800-1663161441@uspa.net
SUMMARY:Odin's Fury 2
DESCRIPTION:
URL:https://uspa.net/event/odin-s-fury-2-2019-04-06t00-00-00/
LOCATION:Orange\, United States
END:VEVENT
BEGIN:VEVENT
DTSTART;TZID=America/Los_Angeles:20190406T000000
DTEND;TZID=America/Los_Angeles:20220914T131721
DTSTAMP:20260420T000405
CREATED:20220608T061050Z
LAST-MODIFIED:20220610T132921Z
UID:10008537-1554508800-1663161441@uspa.net
SUMMARY:Pennsylvania State Powerlifting Championships
DESCRIPTION:
URL:https://uspa.net/event/pennsylvania-state-powerlifting-championships-2019-04-06t00-00-00/
LOCATION:Orange\, United States
END:VEVENT
END:VCALENDAR