BEGIN:VCALENDAR
VERSION:2.0
PRODID:-//USPA - ECPv6.15.20//NONSGML v1.0//EN
CALSCALE:GREGORIAN
METHOD:PUBLISH
X-WR-CALNAME:USPA
X-ORIGINAL-URL:https://uspa.net
X-WR-CALDESC:Events for USPA
REFRESH-INTERVAL;VALUE=DURATION:PT1H
X-Robots-Tag:noindex
X-PUBLISHED-TTL:PT1H
BEGIN:VTIMEZONE
TZID:America/Los_Angeles
BEGIN:DAYLIGHT
TZOFFSETFROM:-0800
TZOFFSETTO:-0700
TZNAME:PDT
DTSTART:20180311T100000
END:DAYLIGHT
BEGIN:STANDARD
TZOFFSETFROM:-0700
TZOFFSETTO:-0800
TZNAME:PST
DTSTART:20181104T090000
END:STANDARD
BEGIN:DAYLIGHT
TZOFFSETFROM:-0800
TZOFFSETTO:-0700
TZNAME:PDT
DTSTART:20190310T100000
END:DAYLIGHT
BEGIN:STANDARD
TZOFFSETFROM:-0700
TZOFFSETTO:-0800
TZNAME:PST
DTSTART:20191103T090000
END:STANDARD
BEGIN:DAYLIGHT
TZOFFSETFROM:-0800
TZOFFSETTO:-0700
TZNAME:PDT
DTSTART:20200308T100000
END:DAYLIGHT
BEGIN:STANDARD
TZOFFSETFROM:-0700
TZOFFSETTO:-0800
TZNAME:PST
DTSTART:20201101T090000
END:STANDARD
BEGIN:DAYLIGHT
TZOFFSETFROM:-0800
TZOFFSETTO:-0700
TZNAME:PDT
DTSTART:20210314T100000
END:DAYLIGHT
BEGIN:STANDARD
TZOFFSETFROM:-0700
TZOFFSETTO:-0800
TZNAME:PST
DTSTART:20211107T090000
END:STANDARD
BEGIN:DAYLIGHT
TZOFFSETFROM:-0800
TZOFFSETTO:-0700
TZNAME:PDT
DTSTART:20220313T100000
END:DAYLIGHT
BEGIN:STANDARD
TZOFFSETFROM:-0700
TZOFFSETTO:-0800
TZNAME:PST
DTSTART:20221106T090000
END:STANDARD
BEGIN:DAYLIGHT
TZOFFSETFROM:-0800
TZOFFSETTO:-0700
TZNAME:PDT
DTSTART:20230312T100000
END:DAYLIGHT
BEGIN:STANDARD
TZOFFSETFROM:-0700
TZOFFSETTO:-0800
TZNAME:PST
DTSTART:20231105T090000
END:STANDARD
END:VTIMEZONE
BEGIN:VEVENT
DTSTART;TZID=America/Los_Angeles:20190406T000000
DTEND;TZID=America/Los_Angeles:20220914T131721
DTSTAMP:20260420T020125
CREATED:20220608T061105Z
LAST-MODIFIED:20220610T132921Z
UID:10009094-1554508800-1663161441@uspa.net
SUMMARY:Iron Clash Classic at The Firm
DESCRIPTION:
URL:https://uspa.net/event/iron-clash-classic-at-the-firm-2019-04-06t00-00-00/
LOCATION:DE
END:VEVENT
BEGIN:VEVENT
DTSTART;TZID=America/Los_Angeles:20190406T000000
DTEND;TZID=America/Los_Angeles:20220914T131721
DTSTAMP:20260420T020125
CREATED:20220608T061101Z
LAST-MODIFIED:20220610T132921Z
UID:10008543-1554508800-1663161441@uspa.net
SUMMARY:Iron Dog
DESCRIPTION:
URL:https://uspa.net/event/iron-dog-2019-04-06t00-00-00/
LOCATION:DE
END:VEVENT
BEGIN:VEVENT
DTSTART;TZID=America/Los_Angeles:20190406T000000
DTEND;TZID=America/Los_Angeles:20220914T131721
DTSTAMP:20260420T020125
CREATED:20220608T061057Z
LAST-MODIFIED:20220610T132921Z
UID:10008542-1554508800-1663161441@uspa.net
SUMMARY:Iron House Open
DESCRIPTION:
URL:https://uspa.net/event/iron-house-open-2019-04-06t00-00-00/
LOCATION:DE
END:VEVENT
BEGIN:VEVENT
DTSTART;TZID=America/Los_Angeles:20190406T000000
DTEND;TZID=America/Los_Angeles:20220914T131721
DTSTAMP:20260420T020125
CREATED:20220608T061112Z
LAST-MODIFIED:20220610T132921Z
UID:10009096-1554508800-1663161441@uspa.net
SUMMARY:Coachella Strength Fest
DESCRIPTION:
URL:https://uspa.net/event/coachella-strength-fest-2019-04-06t00-00-00/
LOCATION:DE
END:VEVENT
BEGIN:VEVENT
DTSTART;TZID=America/Los_Angeles:20190406T000000
DTEND;TZID=America/Los_Angeles:20220914T131721
DTSTAMP:20260420T020125
CREATED:20220608T061108Z
LAST-MODIFIED:20220610T132921Z
UID:10009095-1554508800-1663161441@uspa.net
SUMMARY:Connecticut State Championship
DESCRIPTION:
URL:https://uspa.net/event/connecticut-state-championship-2019-04-06t00-00-00/
LOCATION:DE
END:VEVENT
BEGIN:VEVENT
DTSTART;TZID=America/Los_Angeles:20190406T000000
DTEND;TZID=America/Los_Angeles:20190407T000000
DTSTAMP:20260420T020125
CREATED:20220608T061120Z
LAST-MODIFIED:20220610T132920Z
UID:10009098-1554508800-1554595200@uspa.net
SUMMARY:Colorado State Championships
DESCRIPTION:
URL:https://uspa.net/event/colorado-state-championships-2019-04-06t00-00-00/
LOCATION:DE
END:VEVENT
BEGIN:VEVENT
DTSTART;TZID=America/Los_Angeles:20190406T000000
DTEND;TZID=America/Los_Angeles:20190407T000000
DTSTAMP:20260420T020125
CREATED:20220608T061116Z
LAST-MODIFIED:20220610T132921Z
UID:10009097-1554508800-1554595200@uspa.net
SUMMARY:Drug Tested Coveted Open
DESCRIPTION:
URL:https://uspa.net/event/drug-tested-coveted-open-2019-04-06t00-00-00/
LOCATION:DE
END:VEVENT
BEGIN:VEVENT
DTSTART;TZID=America/Los_Angeles:20190405T000000
DTEND;TZID=America/Los_Angeles:20190407T000000
DTSTAMP:20260420T020125
CREATED:20220608T061124Z
LAST-MODIFIED:20220610T132921Z
UID:10009099-1554422400-1554595200@uspa.net
SUMMARY:USPA Hawaii Fit Expo
DESCRIPTION:
URL:https://uspa.net/event/uspa-hawaii-fit-expo-2019-04-05t00-00-00/
LOCATION:DE
END:VEVENT
BEGIN:VEVENT
DTSTART;TZID=America/Los_Angeles:20190330T000000
DTEND;TZID=America/Los_Angeles:20220914T131721
DTSTAMP:20260420T020125
CREATED:20220608T061135Z
LAST-MODIFIED:20220610T132921Z
UID:10009102-1553904000-1663161441@uspa.net
SUMMARY:Drug Tested North Carolina State Championship
DESCRIPTION:
URL:https://uspa.net/event/drug-tested-north-carolina-state-championship-2019-03-30t00-00-00/
LOCATION:DE
END:VEVENT
BEGIN:VEVENT
DTSTART;TZID=America/Los_Angeles:20190330T000000
DTEND;TZID=America/Los_Angeles:20220914T131721
DTSTAMP:20260420T020125
CREATED:20220608T061132Z
LAST-MODIFIED:20220610T132921Z
UID:10009101-1553904000-1663161441@uspa.net
SUMMARY:Drug Tested Outlaw Open
DESCRIPTION:
URL:https://uspa.net/event/drug-tested-outlaw-open-2019-03-30t00-00-00/
LOCATION:DE
END:VEVENT
BEGIN:VEVENT
DTSTART;TZID=America/Los_Angeles:20190330T000000
DTEND;TZID=America/Los_Angeles:20220914T131721
DTSTAMP:20260420T020125
CREATED:20220608T061128Z
LAST-MODIFIED:20220610T132921Z
UID:10009100-1553904000-1663161441@uspa.net
SUMMARY:Drug Tested ROC Grand Prix
DESCRIPTION:
URL:https://uspa.net/event/drug-tested-roc-grand-prix-2019-03-30t00-00-00/
LOCATION:DE
END:VEVENT
BEGIN:VEVENT
DTSTART;TZID=America/Los_Angeles:20190323T000000
DTEND;TZID=America/Los_Angeles:20220914T131721
DTSTAMP:20260420T020125
CREATED:20220608T061146Z
LAST-MODIFIED:20220610T132921Z
UID:10009107-1553299200-1663161441@uspa.net
SUMMARY:New England Open
DESCRIPTION:
URL:https://uspa.net/event/new-england-open-2019-03-23t00-00-00/
LOCATION:DE
END:VEVENT
BEGIN:VEVENT
DTSTART;TZID=America/Los_Angeles:20190323T000000
DTEND;TZID=America/Los_Angeles:20220914T131721
DTSTAMP:20260420T020125
CREATED:20220608T061143Z
LAST-MODIFIED:20220610T132921Z
UID:10009105-1553299200-1663161441@uspa.net
SUMMARY:North Dakota Spring Power Fest
DESCRIPTION:
URL:https://uspa.net/event/north-dakota-spring-power-fest-2019-03-23t00-00-00/
LOCATION:DE
END:VEVENT
BEGIN:VEVENT
DTSTART;TZID=America/Los_Angeles:20190323T000000
DTEND;TZID=America/Los_Angeles:20220914T131721
DTSTAMP:20260420T020125
CREATED:20220608T061139Z
LAST-MODIFIED:20220610T132921Z
UID:10009103-1553299200-1663161441@uspa.net
SUMMARY:Southern States Special Olympics Open
DESCRIPTION:
URL:https://uspa.net/event/southern-states-special-olympics-open-2019-03-23t00-00-00/
LOCATION:DE
END:VEVENT
BEGIN:VEVENT
DTSTART;TZID=America/Los_Angeles:20190323T000000
DTEND;TZID=America/Los_Angeles:20220914T131721
DTSTAMP:20260420T020125
CREATED:20220608T061150Z
LAST-MODIFIED:20220610T132921Z
UID:10009109-1553299200-1663161441@uspa.net
SUMMARY:Clash of the Barbarians
DESCRIPTION:
URL:https://uspa.net/event/clash-of-the-barbarians-2019-03-23t00-00-00/
LOCATION:DE
END:VEVENT
BEGIN:VEVENT
DTSTART;TZID=America/Los_Angeles:20190323T000000
DTEND;TZID=America/Los_Angeles:20220914T131721
DTSTAMP:20260420T020125
CREATED:20220608T061157Z
LAST-MODIFIED:20220610T132921Z
UID:10009113-1553299200-1663161441@uspa.net
SUMMARY:5th Annual PowerbodyUSA Open
DESCRIPTION:
URL:https://uspa.net/event/5th-annual-powerbodyusa-open-2019-03-23t00-00-00/
LOCATION:DE
END:VEVENT
BEGIN:VEVENT
DTSTART;TZID=America/Los_Angeles:20190323T000000
DTEND;TZID=America/Los_Angeles:20220914T131721
DTSTAMP:20260420T020125
CREATED:20220608T061154Z
LAST-MODIFIED:20220610T132921Z
UID:10009111-1553299200-1663161441@uspa.net
SUMMARY:6th IBC Classic & WV State Championship
DESCRIPTION:
URL:https://uspa.net/event/6th-ibc-classic-wv-state-championship-2019-03-23t00-00-00/
LOCATION:DE
END:VEVENT
BEGIN:VEVENT
DTSTART;TZID=America/Los_Angeles:20190323T000000
DTEND;TZID=America/Los_Angeles:20190324T000000
DTSTAMP:20260420T020125
CREATED:20220608T061201Z
LAST-MODIFIED:20220610T132921Z
UID:10009115-1553299200-1553385600@uspa.net
SUMMARY:Nevada State Championships
DESCRIPTION:
URL:https://uspa.net/event/nevada-state-championships-2019-03-23t00-00-00/
LOCATION:DE
END:VEVENT
BEGIN:VEVENT
DTSTART;TZID=America/Los_Angeles:20190316T000000
DTEND;TZID=America/Los_Angeles:20220914T131721
DTSTAMP:20260420T020125
CREATED:20220608T061205Z
LAST-MODIFIED:20220610T132921Z
UID:10009117-1552694400-1663161441@uspa.net
SUMMARY:Seminole Strength Showdown
DESCRIPTION:
URL:https://uspa.net/event/seminole-strength-showdown-2019-03-16t00-00-00/
LOCATION:DE
END:VEVENT
BEGIN:VEVENT
DTSTART;TZID=America/Los_Angeles:20190316T000000
DTEND;TZID=America/Los_Angeles:20220914T131721
DTSTAMP:20260420T020125
CREATED:20220608T061209Z
LAST-MODIFIED:20220610T132921Z
UID:10009119-1552694400-1663161441@uspa.net
SUMMARY:Drug Tested Georgia Open Powerlifting Meet
DESCRIPTION:
URL:https://uspa.net/event/drug-tested-georgia-open-powerlifting-meet-2019-03-16t00-00-00/
LOCATION:DE
END:VEVENT
BEGIN:VEVENT
DTSTART;TZID=America/Los_Angeles:20190316T000000
DTEND;TZID=America/Los_Angeles:20190317T000000
DTSTAMP:20260420T020125
CREATED:20220608T061213Z
LAST-MODIFIED:20220610T132921Z
UID:10009122-1552694400-1552780800@uspa.net
SUMMARY:Pacific Coast Open
DESCRIPTION:
URL:https://uspa.net/event/pacific-coast-open-2019-03-16t00-00-00/
LOCATION:DE
END:VEVENT
BEGIN:VEVENT
DTSTART;TZID=America/Los_Angeles:20190316T000000
DTEND;TZID=America/Los_Angeles:20190317T000000
DTSTAMP:20260420T020125
CREATED:20220608T061217Z
LAST-MODIFIED:20220610T132921Z
UID:10009123-1552694400-1552780800@uspa.net
SUMMARY:California State Championships
DESCRIPTION:
URL:https://uspa.net/event/california-state-championships-2019-03-16t00-00-00/
LOCATION:DE
END:VEVENT
BEGIN:VEVENT
DTSTART;TZID=America/Los_Angeles:20190309T000000
DTEND;TZID=America/Los_Angeles:20220914T131721
DTSTAMP:20260420T020125
CREATED:20220608T061225Z
LAST-MODIFIED:20220610T132921Z
UID:10009125-1552089600-1663161441@uspa.net
SUMMARY:Powerfest
DESCRIPTION:
URL:https://uspa.net/event/powerfest-2019-03-09t00-00-00/
LOCATION:DE
END:VEVENT
BEGIN:VEVENT
DTSTART;TZID=America/Los_Angeles:20190309T000000
DTEND;TZID=America/Los_Angeles:20220914T131721
DTSTAMP:20260420T020125
CREATED:20220608T061221Z
LAST-MODIFIED:20220610T132921Z
UID:10009124-1552089600-1663161441@uspa.net
SUMMARY:Throwdown at the Compound II
DESCRIPTION:
URL:https://uspa.net/event/throwdown-at-the-compound-ii-2019-03-09t00-00-00/
LOCATION:DE
END:VEVENT
BEGIN:VEVENT
DTSTART;TZID=America/Los_Angeles:20190309T000000
DTEND;TZID=America/Los_Angeles:20220914T131721
DTSTAMP:20260420T020125
CREATED:20220608T061236Z
LAST-MODIFIED:20220610T132921Z
UID:10009128-1552089600-1663161441@uspa.net
SUMMARY:Lumber Jack Open
DESCRIPTION:
URL:https://uspa.net/event/lumber-jack-open-2019-03-09t00-00-00/
LOCATION:DE
END:VEVENT
BEGIN:VEVENT
DTSTART;TZID=America/Los_Angeles:20190309T000000
DTEND;TZID=America/Los_Angeles:20220914T131721
DTSTAMP:20260420T020125
CREATED:20220608T061232Z
LAST-MODIFIED:20220610T132921Z
UID:10009127-1552089600-1663161441@uspa.net
SUMMARY:Mid-Atlantic Classic
DESCRIPTION:
URL:https://uspa.net/event/mid-atlantic-classic-2019-03-09t00-00-00/
LOCATION:DE
END:VEVENT
BEGIN:VEVENT
DTSTART;TZID=America/Los_Angeles:20190309T000000
DTEND;TZID=America/Los_Angeles:20220914T131721
DTSTAMP:20260420T020125
CREATED:20220608T061229Z
LAST-MODIFIED:20220610T132921Z
UID:10009126-1552089600-1663161441@uspa.net
SUMMARY:Mission's March Showdown
DESCRIPTION:
URL:https://uspa.net/event/mission-s-march-showdown-2019-03-09t00-00-00/
LOCATION:DE
END:VEVENT
BEGIN:VEVENT
DTSTART;TZID=America/Los_Angeles:20190302T000000
DTEND;TZID=America/Los_Angeles:20220914T131721
DTSTAMP:20260420T020125
CREATED:20220608T061247Z
LAST-MODIFIED:20220610T132921Z
UID:10009131-1551484800-1663161441@uspa.net
SUMMARY:Oklahoma State Championship
DESCRIPTION:
URL:https://uspa.net/event/oklahoma-state-championship-2019-03-02t00-00-00/
LOCATION:DE
END:VEVENT
BEGIN:VEVENT
DTSTART;TZID=America/Los_Angeles:20190302T000000
DTEND;TZID=America/Los_Angeles:20220914T131721
DTSTAMP:20260420T020125
CREATED:20220608T061244Z
LAST-MODIFIED:20220610T132921Z
UID:10009130-1551484800-1663161441@uspa.net
SUMMARY:Steel City Bench Press and Deadlift Championships
DESCRIPTION:
URL:https://uspa.net/event/steel-city-bench-press-and-deadlift-championships-2019-03-02t00-00-00/
LOCATION:DE
END:VEVENT
BEGIN:VEVENT
DTSTART;TZID=America/Los_Angeles:20190302T000000
DTEND;TZID=America/Los_Angeles:20220914T131721
DTSTAMP:20260420T020125
CREATED:20220608T061240Z
LAST-MODIFIED:20220610T132921Z
UID:10009129-1551484800-1663161441@uspa.net
SUMMARY:Tyler Truett Memorial Open
DESCRIPTION:
URL:https://uspa.net/event/tyler-truett-memorial-open-2019-03-02t00-00-00/
LOCATION:DE
END:VEVENT
END:VCALENDAR