BEGIN:VCALENDAR
VERSION:2.0
PRODID:-//USPA - ECPv6.15.20//NONSGML v1.0//EN
CALSCALE:GREGORIAN
METHOD:PUBLISH
X-WR-CALNAME:USPA
X-ORIGINAL-URL:https://uspa.net
X-WR-CALDESC:Events for USPA
REFRESH-INTERVAL;VALUE=DURATION:PT1H
X-Robots-Tag:noindex
X-PUBLISHED-TTL:PT1H
BEGIN:VTIMEZONE
TZID:America/Los_Angeles
BEGIN:DAYLIGHT
TZOFFSETFROM:-0800
TZOFFSETTO:-0700
TZNAME:PDT
DTSTART:20180311T100000
END:DAYLIGHT
BEGIN:STANDARD
TZOFFSETFROM:-0700
TZOFFSETTO:-0800
TZNAME:PST
DTSTART:20181104T090000
END:STANDARD
BEGIN:DAYLIGHT
TZOFFSETFROM:-0800
TZOFFSETTO:-0700
TZNAME:PDT
DTSTART:20190310T100000
END:DAYLIGHT
BEGIN:STANDARD
TZOFFSETFROM:-0700
TZOFFSETTO:-0800
TZNAME:PST
DTSTART:20191103T090000
END:STANDARD
BEGIN:DAYLIGHT
TZOFFSETFROM:-0800
TZOFFSETTO:-0700
TZNAME:PDT
DTSTART:20200308T100000
END:DAYLIGHT
BEGIN:STANDARD
TZOFFSETFROM:-0700
TZOFFSETTO:-0800
TZNAME:PST
DTSTART:20201101T090000
END:STANDARD
BEGIN:DAYLIGHT
TZOFFSETFROM:-0800
TZOFFSETTO:-0700
TZNAME:PDT
DTSTART:20210314T100000
END:DAYLIGHT
BEGIN:STANDARD
TZOFFSETFROM:-0700
TZOFFSETTO:-0800
TZNAME:PST
DTSTART:20211107T090000
END:STANDARD
BEGIN:DAYLIGHT
TZOFFSETFROM:-0800
TZOFFSETTO:-0700
TZNAME:PDT
DTSTART:20220313T100000
END:DAYLIGHT
BEGIN:STANDARD
TZOFFSETFROM:-0700
TZOFFSETTO:-0800
TZNAME:PST
DTSTART:20221106T090000
END:STANDARD
BEGIN:DAYLIGHT
TZOFFSETFROM:-0800
TZOFFSETTO:-0700
TZNAME:PDT
DTSTART:20230312T100000
END:DAYLIGHT
BEGIN:STANDARD
TZOFFSETFROM:-0700
TZOFFSETTO:-0800
TZNAME:PST
DTSTART:20231105T090000
END:STANDARD
END:VTIMEZONE
BEGIN:VEVENT
DTSTART;TZID=America/Los_Angeles:20190302T000000
DTEND;TZID=America/Los_Angeles:20220914T131721
DTSTAMP:20260422T210821
CREATED:20220608T061244Z
LAST-MODIFIED:20220610T132921Z
UID:10009130-1551484800-1663161441@uspa.net
SUMMARY:Steel City Bench Press and Deadlift Championships
DESCRIPTION:
URL:https://uspa.net/event/steel-city-bench-press-and-deadlift-championships-2019-03-02t00-00-00/
LOCATION:Scituate\, United States
END:VEVENT
BEGIN:VEVENT
DTSTART;TZID=America/Los_Angeles:20190302T000000
DTEND;TZID=America/Los_Angeles:20220914T131721
DTSTAMP:20260422T210821
CREATED:20220608T061240Z
LAST-MODIFIED:20220610T132921Z
UID:10009129-1551484800-1663161441@uspa.net
SUMMARY:Tyler Truett Memorial Open
DESCRIPTION:
URL:https://uspa.net/event/tyler-truett-memorial-open-2019-03-02t00-00-00/
LOCATION:Scituate\, United States
END:VEVENT
BEGIN:VEVENT
DTSTART;TZID=America/Los_Angeles:20190302T000000
DTEND;TZID=America/Los_Angeles:20220914T131722
DTSTAMP:20260422T210821
CREATED:20220608T061251Z
LAST-MODIFIED:20220610T132921Z
UID:10009132-1551484800-1663161442@uspa.net
SUMMARY:March Max Madness
DESCRIPTION:
URL:https://uspa.net/event/march-max-madness-2019-03-02t00-00-00/
LOCATION:Scituate\, United States
END:VEVENT
BEGIN:VEVENT
DTSTART;TZID=America/Los_Angeles:20190302T000000
DTEND;TZID=America/Los_Angeles:20220914T131722
DTSTAMP:20260422T210821
CREATED:20220608T061255Z
LAST-MODIFIED:20220610T132921Z
UID:10009133-1551484800-1663161442@uspa.net
SUMMARY:4th Bourbon Barbell Bash
DESCRIPTION:
URL:https://uspa.net/event/4th-bourbon-barbell-bash-2019-03-02t00-00-00/
LOCATION:Scituate\, United States
END:VEVENT
BEGIN:VEVENT
DTSTART;TZID=America/Los_Angeles:20190223T000000
DTEND;TZID=America/Los_Angeles:20220914T131722
DTSTAMP:20260422T210821
CREATED:20220608T061302Z
LAST-MODIFIED:20220610T132921Z
UID:10009135-1550880000-1663161442@uspa.net
SUMMARY:Power Fest
DESCRIPTION:
URL:https://uspa.net/event/power-fest-2019-02-23t00-00-00/
LOCATION:Scituate\, United States
END:VEVENT
BEGIN:VEVENT
DTSTART;TZID=America/Los_Angeles:20190223T000000
DTEND;TZID=America/Los_Angeles:20220914T131722
DTSTAMP:20260422T210821
CREATED:20220608T061259Z
LAST-MODIFIED:20220610T132921Z
UID:10009134-1550880000-1663161442@uspa.net
SUMMARY:Queens of Iron
DESCRIPTION:
URL:https://uspa.net/event/queens-of-iron-2019-02-23t00-00-00/
LOCATION:Scituate\, United States
END:VEVENT
BEGIN:VEVENT
DTSTART;TZID=America/Los_Angeles:20190223T000000
DTEND;TZID=America/Los_Angeles:20220914T131722
DTSTAMP:20260422T210821
CREATED:20220608T061306Z
LAST-MODIFIED:20220610T132921Z
UID:10009136-1550880000-1663161442@uspa.net
SUMMARY:Napa Powercrush Open
DESCRIPTION:
URL:https://uspa.net/event/napa-powercrush-open-2019-02-23t00-00-00/
LOCATION:Scituate\, United States
END:VEVENT
BEGIN:VEVENT
DTSTART;TZID=America/Los_Angeles:20190223T000000
DTEND;TZID=America/Los_Angeles:20220914T131722
DTSTAMP:20260422T210821
CREATED:20220608T061314Z
LAST-MODIFIED:20220610T132921Z
UID:10009138-1550880000-1663161442@uspa.net
SUMMARY:Drug Tested Pacific Northwest Championship
DESCRIPTION:
URL:https://uspa.net/event/drug-tested-pacific-northwest-championship-2019-02-23t00-00-00/
LOCATION:Scituate\, United States
END:VEVENT
BEGIN:VEVENT
DTSTART;TZID=America/Los_Angeles:20190223T000000
DTEND;TZID=America/Los_Angeles:20220914T131722
DTSTAMP:20260422T210821
CREATED:20220608T061310Z
LAST-MODIFIED:20220610T132921Z
UID:10009137-1550880000-1663161442@uspa.net
SUMMARY:Drug Tested Raw Collegiate Nationals
DESCRIPTION:
URL:https://uspa.net/event/drug-tested-raw-collegiate-nationals-2019-02-23t00-00-00/
LOCATION:Scituate\, United States
END:VEVENT
BEGIN:VEVENT
DTSTART;TZID=America/Los_Angeles:20190223T000000
DTEND;TZID=America/Los_Angeles:20190224T000000
DTSTAMP:20260422T210821
CREATED:20220608T061318Z
LAST-MODIFIED:20220610T132921Z
UID:10009139-1550880000-1550966400@uspa.net
SUMMARY:Bending the Bar Volume 3
DESCRIPTION:
URL:https://uspa.net/event/bending-the-bar-volume-3-2019-02-23t00-00-00/
LOCATION:Scituate\, United States
END:VEVENT
BEGIN:VEVENT
DTSTART;TZID=America/Los_Angeles:20190217T000000
DTEND;TZID=America/Los_Angeles:20220914T131722
DTSTAMP:20260422T210821
CREATED:20220608T061344Z
LAST-MODIFIED:20220610T132922Z
UID:10008575-1550361600-1663161442@uspa.net
SUMMARY:Drug Tested CBUS Lifting Co Barebones Nationals Qualifier
DESCRIPTION:
URL:https://uspa.net/event/drug-tested-cbus-lifting-co-barebones-nationals-qualifier-2019-02-17t00-00-00/
LOCATION:Scituate\, United States
END:VEVENT
BEGIN:VEVENT
DTSTART;TZID=America/Los_Angeles:20190216T000000
DTEND;TZID=America/Los_Angeles:20220914T131722
DTSTAMP:20260422T210821
CREATED:20220608T061322Z
LAST-MODIFIED:20220610T132922Z
UID:10009141-1550275200-1663161442@uspa.net
SUMMARY:Winter Classic
DESCRIPTION:
URL:https://uspa.net/event/winter-classic-2019-02-16t00-00-00/
LOCATION:Scituate\, United States
END:VEVENT
BEGIN:VEVENT
DTSTART;TZID=America/Los_Angeles:20190216T000000
DTEND;TZID=America/Los_Angeles:20220914T131722
DTSTAMP:20260422T210821
CREATED:20220608T061326Z
LAST-MODIFIED:20220610T132922Z
UID:10008565-1550275200-1663161442@uspa.net
SUMMARY:South Carolina Open
DESCRIPTION:
URL:https://uspa.net/event/south-carolina-open-2019-02-16t00-00-00/
LOCATION:Scituate\, United States
END:VEVENT
BEGIN:VEVENT
DTSTART;TZID=America/Los_Angeles:20190216T000000
DTEND;TZID=America/Los_Angeles:20220914T131722
DTSTAMP:20260422T210821
CREATED:20220608T061329Z
LAST-MODIFIED:20220610T132922Z
UID:10008567-1550275200-1663161442@uspa.net
SUMMARY:Iron Valentine Powerlifting Championship
DESCRIPTION:
URL:https://uspa.net/event/iron-valentine-powerlifting-championship-2019-02-16t00-00-00/
LOCATION:Scituate\, United States
END:VEVENT
BEGIN:VEVENT
DTSTART;TZID=America/Los_Angeles:20190216T000000
DTEND;TZID=America/Los_Angeles:20220914T131722
DTSTAMP:20260422T210821
CREATED:20220608T061337Z
LAST-MODIFIED:20220610T132922Z
UID:10008571-1550275200-1663161442@uspa.net
SUMMARY:Drug Tested Ill with the Steel
DESCRIPTION:
URL:https://uspa.net/event/drug-tested-ill-with-the-steel-2019-02-16t00-00-00/
LOCATION:Scituate\, United States
END:VEVENT
BEGIN:VEVENT
DTSTART;TZID=America/Los_Angeles:20190216T000000
DTEND;TZID=America/Los_Angeles:20220914T131722
DTSTAMP:20260422T210821
CREATED:20220608T061333Z
LAST-MODIFIED:20220610T132922Z
UID:10008569-1550275200-1663161442@uspa.net
SUMMARY:Drug Tested My Iron Valentine Full Power Classic
DESCRIPTION:
URL:https://uspa.net/event/drug-tested-my-iron-valentine-full-power-classic-2019-02-16t00-00-00/
LOCATION:Scituate\, United States
END:VEVENT
BEGIN:VEVENT
DTSTART;TZID=America/Los_Angeles:20190216T000000
DTEND;TZID=America/Los_Angeles:20220914T131723
DTSTAMP:20260422T210821
CREATED:20220608T061348Z
LAST-MODIFIED:20220610T132922Z
UID:10008577-1550275200-1663161443@uspa.net
SUMMARY:CBUS Lifting Co Barebones Nationals Qualifier
DESCRIPTION:
URL:https://uspa.net/event/cbus-lifting-co-barebones-nationals-qualifier-2019-02-16t00-00-00/
LOCATION:Scituate\, United States
END:VEVENT
BEGIN:VEVENT
DTSTART;TZID=America/Los_Angeles:20190216T000000
DTEND;TZID=America/Los_Angeles:20220914T131722
DTSTAMP:20260422T210821
CREATED:20220608T061341Z
LAST-MODIFIED:20220610T132922Z
UID:10008573-1550275200-1663161442@uspa.net
SUMMARY:Awakening of the Frost Giants
DESCRIPTION:
URL:https://uspa.net/event/awakening-of-the-frost-giants-2019-02-16t00-00-00/
LOCATION:Scituate\, United States
END:VEVENT
BEGIN:VEVENT
DTSTART;TZID=America/Los_Angeles:20190216T000000
DTEND;TZID=America/Los_Angeles:20190217T000000
DTSTAMP:20260422T210821
CREATED:20220608T061352Z
LAST-MODIFIED:20220610T132922Z
UID:10008579-1550275200-1550361600@uspa.net
SUMMARY:Western Warrior
DESCRIPTION:
URL:https://uspa.net/event/western-warrior-2019-02-16t00-00-00/
LOCATION:Scituate\, United States
END:VEVENT
BEGIN:VEVENT
DTSTART;TZID=America/Los_Angeles:20190216T000000
DTEND;TZID=America/Los_Angeles:20190217T000000
DTSTAMP:20260422T210821
CREATED:20220608T061355Z
LAST-MODIFIED:20220610T132922Z
UID:10008581-1550275200-1550361600@uspa.net
SUMMARY:Iron Rebel Classic
DESCRIPTION:
URL:https://uspa.net/event/iron-rebel-classic-2019-02-16t00-00-00/
LOCATION:Scituate\, United States
END:VEVENT
BEGIN:VEVENT
DTSTART;TZID=America/Los_Angeles:20190209T000000
DTEND;TZID=America/Los_Angeles:20220914T131723
DTSTAMP:20260422T210821
CREATED:20220608T061403Z
LAST-MODIFIED:20220610T132922Z
UID:10009144-1549670400-1663161443@uspa.net
SUMMARY:SMG's Westchester Rebellion
DESCRIPTION:
URL:https://uspa.net/event/smg-s-westchester-rebellion-2019-02-09t00-00-00/
LOCATION:Scituate\, United States
END:VEVENT
BEGIN:VEVENT
DTSTART;TZID=America/Los_Angeles:20190209T000000
DTEND;TZID=America/Los_Angeles:20220914T131723
DTSTAMP:20260422T210821
CREATED:20220608T061359Z
LAST-MODIFIED:20220610T132922Z
UID:10008583-1549670400-1663161443@uspa.net
SUMMARY:The Hollister Open
DESCRIPTION:
URL:https://uspa.net/event/the-hollister-open-2019-02-09t00-00-00/
LOCATION:Scituate\, United States
END:VEVENT
BEGIN:VEVENT
DTSTART;TZID=America/Los_Angeles:20190209T000000
DTEND;TZID=America/Los_Angeles:20220914T131723
DTSTAMP:20260422T210821
CREATED:20220608T061417Z
LAST-MODIFIED:20220610T132922Z
UID:10009152-1549670400-1663161443@uspa.net
SUMMARY:Drug Tested Arkansas Championship
DESCRIPTION:
URL:https://uspa.net/event/drug-tested-arkansas-championship-2019-02-09t00-00-00/
LOCATION:Scituate\, United States
END:VEVENT
BEGIN:VEVENT
DTSTART;TZID=America/Los_Angeles:20190209T000000
DTEND;TZID=America/Los_Angeles:20220914T131723
DTSTAMP:20260422T210821
CREATED:20220608T061414Z
LAST-MODIFIED:20220610T132922Z
UID:10009150-1549670400-1663161443@uspa.net
SUMMARY:Drug Tested Cupid's Iron Throwdown Vol 2
DESCRIPTION:
URL:https://uspa.net/event/drug-tested-cupid-s-iron-throwdown-vol-2-2019-02-09t00-00-00/
LOCATION:Scituate\, United States
END:VEVENT
BEGIN:VEVENT
DTSTART;TZID=America/Los_Angeles:20190209T000000
DTEND;TZID=America/Los_Angeles:20220914T131723
DTSTAMP:20260422T210821
CREATED:20220608T061410Z
LAST-MODIFIED:20220610T132922Z
UID:10009148-1549670400-1663161443@uspa.net
SUMMARY:Drug Tested MA/RI open
DESCRIPTION:
URL:https://uspa.net/event/drug-tested-ma-ri-open-2019-02-09t00-00-00/
LOCATION:Scituate\, United States
END:VEVENT
BEGIN:VEVENT
DTSTART;TZID=America/Los_Angeles:20190209T000000
DTEND;TZID=America/Los_Angeles:20220914T131723
DTSTAMP:20260422T210821
CREATED:20220608T061406Z
LAST-MODIFIED:20220610T132922Z
UID:10009146-1549670400-1663161443@uspa.net
SUMMARY:Drug Tested Michigan State Meet
DESCRIPTION:
URL:https://uspa.net/event/drug-tested-michigan-state-meet-2019-02-09t00-00-00/
LOCATION:Scituate\, United States
END:VEVENT
BEGIN:VEVENT
DTSTART;TZID=America/Los_Angeles:20190209T000000
DTEND;TZID=America/Los_Angeles:20220914T131723
DTSTAMP:20260422T210821
CREATED:20220608T061421Z
LAST-MODIFIED:20220610T132922Z
UID:10009156-1549670400-1663161443@uspa.net
SUMMARY:Alabama State Championships
DESCRIPTION:
URL:https://uspa.net/event/alabama-state-championships-2019-02-09t00-00-00/
LOCATION:Scituate\, United States
END:VEVENT
BEGIN:VEVENT
DTSTART;TZID=America/Los_Angeles:20190209T000000
DTEND;TZID=America/Los_Angeles:20190210T000000
DTSTAMP:20260422T210821
CREATED:20220608T061425Z
LAST-MODIFIED:20220610T132922Z
UID:10009157-1549670400-1549756800@uspa.net
SUMMARY:NASPOWER Heart Breaker Powerlifting Championship
DESCRIPTION:
URL:https://uspa.net/event/naspower-heart-breaker-powerlifting-championship-2019-02-09t00-00-00/
LOCATION:Scituate\, United States
END:VEVENT
BEGIN:VEVENT
DTSTART;TZID=America/Los_Angeles:20190209T000000
DTEND;TZID=America/Los_Angeles:20190210T000000
DTSTAMP:20260422T210821
CREATED:20220608T061433Z
LAST-MODIFIED:20220610T132922Z
UID:10009159-1549670400-1549756800@uspa.net
SUMMARY:Drug Tested Nevada State Championships
DESCRIPTION:
URL:https://uspa.net/event/drug-tested-nevada-state-championships-2019-02-09t00-00-00/
LOCATION:Scituate\, United States
END:VEVENT
BEGIN:VEVENT
DTSTART;TZID=America/Los_Angeles:20190209T000000
DTEND;TZID=America/Los_Angeles:20190210T000000
DTSTAMP:20260422T210821
CREATED:20220608T061429Z
LAST-MODIFIED:20220610T132922Z
UID:10009158-1549670400-1549756800@uspa.net
SUMMARY:Drug Tested California State Powerlifting Championships
DESCRIPTION:
URL:https://uspa.net/event/drug-tested-california-state-powerlifting-championships-2019-02-09t00-00-00/
LOCATION:Scituate\, United States
END:VEVENT
END:VCALENDAR