BEGIN:VCALENDAR
VERSION:2.0
PRODID:-//USPA - ECPv6.15.20//NONSGML v1.0//EN
CALSCALE:GREGORIAN
METHOD:PUBLISH
X-WR-CALNAME:USPA
X-ORIGINAL-URL:https://uspa.net
X-WR-CALDESC:Events for USPA
REFRESH-INTERVAL;VALUE=DURATION:PT1H
X-Robots-Tag:noindex
X-PUBLISHED-TTL:PT1H
BEGIN:VTIMEZONE
TZID:America/Los_Angeles
BEGIN:DAYLIGHT
TZOFFSETFROM:-0800
TZOFFSETTO:-0700
TZNAME:PDT
DTSTART:20170312T100000
END:DAYLIGHT
BEGIN:STANDARD
TZOFFSETFROM:-0700
TZOFFSETTO:-0800
TZNAME:PST
DTSTART:20171105T090000
END:STANDARD
BEGIN:DAYLIGHT
TZOFFSETFROM:-0800
TZOFFSETTO:-0700
TZNAME:PDT
DTSTART:20180311T100000
END:DAYLIGHT
BEGIN:STANDARD
TZOFFSETFROM:-0700
TZOFFSETTO:-0800
TZNAME:PST
DTSTART:20181104T090000
END:STANDARD
BEGIN:DAYLIGHT
TZOFFSETFROM:-0800
TZOFFSETTO:-0700
TZNAME:PDT
DTSTART:20190310T100000
END:DAYLIGHT
BEGIN:STANDARD
TZOFFSETFROM:-0700
TZOFFSETTO:-0800
TZNAME:PST
DTSTART:20191103T090000
END:STANDARD
BEGIN:DAYLIGHT
TZOFFSETFROM:-0800
TZOFFSETTO:-0700
TZNAME:PDT
DTSTART:20200308T100000
END:DAYLIGHT
BEGIN:STANDARD
TZOFFSETFROM:-0700
TZOFFSETTO:-0800
TZNAME:PST
DTSTART:20201101T090000
END:STANDARD
BEGIN:DAYLIGHT
TZOFFSETFROM:-0800
TZOFFSETTO:-0700
TZNAME:PDT
DTSTART:20210314T100000
END:DAYLIGHT
BEGIN:STANDARD
TZOFFSETFROM:-0700
TZOFFSETTO:-0800
TZNAME:PST
DTSTART:20211107T090000
END:STANDARD
BEGIN:DAYLIGHT
TZOFFSETFROM:-0800
TZOFFSETTO:-0700
TZNAME:PDT
DTSTART:20220313T100000
END:DAYLIGHT
BEGIN:STANDARD
TZOFFSETFROM:-0700
TZOFFSETTO:-0800
TZNAME:PST
DTSTART:20221106T090000
END:STANDARD
BEGIN:DAYLIGHT
TZOFFSETFROM:-0800
TZOFFSETTO:-0700
TZNAME:PDT
DTSTART:20230312T100000
END:DAYLIGHT
BEGIN:STANDARD
TZOFFSETFROM:-0700
TZOFFSETTO:-0800
TZNAME:PST
DTSTART:20231105T090000
END:STANDARD
END:VTIMEZONE
BEGIN:VEVENT
DTSTART;TZID=America/Los_Angeles:20181215T000000
DTEND;TZID=America/Los_Angeles:20181216T000000
DTSTAMP:20260422T234141
CREATED:20220608T061629Z
LAST-MODIFIED:20220610T133349Z
UID:10009207-1544832000-1544918400@uspa.net
SUMMARY:Drug Tested Christmas Classic
DESCRIPTION:
URL:https://uspa.net/event/drug-tested-christmas-classic-2018-12-15t00-00-00/
LOCATION:AL
END:VEVENT
BEGIN:VEVENT
DTSTART;TZID=America/Los_Angeles:20181208T000000
DTEND;TZID=America/Los_Angeles:20220914T131724
DTSTAMP:20260422T234141
CREATED:20220608T061633Z
LAST-MODIFIED:20220610T133349Z
UID:10009209-1544227200-1663161444@uspa.net
SUMMARY:Yuletide Slay Full-Power Classic
DESCRIPTION:
URL:https://uspa.net/event/yuletide-slay-full-power-classic-2018-12-08t00-00-00/
LOCATION:AL
END:VEVENT
BEGIN:VEVENT
DTSTART;TZID=America/Los_Angeles:20181208T000000
DTEND;TZID=America/Los_Angeles:20220914T131724
DTSTAMP:20260422T234141
CREATED:20220608T061644Z
LAST-MODIFIED:20220610T133349Z
UID:10008608-1544227200-1663161444@uspa.net
SUMMARY:SC WINTER BASH
DESCRIPTION:
URL:https://uspa.net/event/sc-winter-bash-2018-12-08t00-00-00/
LOCATION:AL
END:VEVENT
BEGIN:VEVENT
DTSTART;TZID=America/Los_Angeles:20181208T000000
DTEND;TZID=America/Los_Angeles:20220914T131724
DTSTAMP:20260422T234141
CREATED:20220608T061641Z
LAST-MODIFIED:20220610T133349Z
UID:10008606-1544227200-1663161444@uspa.net
SUMMARY:Snowball Open
DESCRIPTION:
URL:https://uspa.net/event/snowball-open-2018-12-08t00-00-00/
LOCATION:AL
END:VEVENT
BEGIN:VEVENT
DTSTART;TZID=America/Los_Angeles:20181208T000000
DTEND;TZID=America/Los_Angeles:20220914T131724
DTSTAMP:20260422T234141
CREATED:20220608T061637Z
LAST-MODIFIED:20220610T133349Z
UID:10009211-1544227200-1663161444@uspa.net
SUMMARY:Strong Like Bull Powerlifting Championships
DESCRIPTION:
URL:https://uspa.net/event/strong-like-bull-powerlifting-championships-2018-12-08t00-00-00/
LOCATION:AL
END:VEVENT
BEGIN:VEVENT
DTSTART;TZID=America/Los_Angeles:20181208T000000
DTEND;TZID=America/Los_Angeles:20220914T131724
DTSTAMP:20260422T234141
CREATED:20220608T061659Z
LAST-MODIFIED:20220610T133349Z
UID:10008612-1544227200-1663161444@uspa.net
SUMMARY:Drug Tested West Virginia State Championship
DESCRIPTION:
URL:https://uspa.net/event/drug-tested-west-virginia-state-championship-2018-12-08t00-00-00/
LOCATION:AL
END:VEVENT
BEGIN:VEVENT
DTSTART;TZID=America/Los_Angeles:20181208T000000
DTEND;TZID=America/Los_Angeles:20220914T131724
DTSTAMP:20260422T234141
CREATED:20220608T061655Z
LAST-MODIFIED:20220610T133349Z
UID:10008611-1544227200-1663161444@uspa.net
SUMMARY:Florida Senior Games
DESCRIPTION:
URL:https://uspa.net/event/florida-senior-games-2018-12-08t00-00-00/
LOCATION:AL
END:VEVENT
BEGIN:VEVENT
DTSTART;TZID=America/Los_Angeles:20181208T000000
DTEND;TZID=America/Los_Angeles:20220914T131724
DTSTAMP:20260422T234141
CREATED:20220608T061651Z
LAST-MODIFIED:20220610T133349Z
UID:10008610-1544227200-1663161444@uspa.net
SUMMARY:Inland Empire Winter Open
DESCRIPTION:
URL:https://uspa.net/event/inland-empire-winter-open-2018-12-08t00-00-00/
LOCATION:AL
END:VEVENT
BEGIN:VEVENT
DTSTART;TZID=America/Los_Angeles:20181208T000000
DTEND;TZID=America/Los_Angeles:20220914T131724
DTSTAMP:20260422T234141
CREATED:20220608T061648Z
LAST-MODIFIED:20220610T133349Z
UID:10008609-1544227200-1663161444@uspa.net
SUMMARY:Mass/RI Open
DESCRIPTION:
URL:https://uspa.net/event/mass-ri-open-2018-12-08t00-00-00/
LOCATION:AL
END:VEVENT
BEGIN:VEVENT
DTSTART;TZID=America/Los_Angeles:20181208T000000
DTEND;TZID=America/Los_Angeles:20220914T131724
DTSTAMP:20260422T234141
CREATED:20220608T061703Z
LAST-MODIFIED:20220610T133349Z
UID:10008613-1544227200-1663161444@uspa.net
SUMMARY:Drug Tested NORCAL Powerlifting Championships
DESCRIPTION:
URL:https://uspa.net/event/drug-tested-norcal-powerlifting-championships-2018-12-08t00-00-00/
LOCATION:AL
END:VEVENT
BEGIN:VEVENT
DTSTART;TZID=America/Los_Angeles:20181208T000000
DTEND;TZID=America/Los_Angeles:20220914T131724
DTSTAMP:20260422T234141
CREATED:20220608T061714Z
LAST-MODIFIED:20220610T133349Z
UID:10008616-1544227200-1663161444@uspa.net
SUMMARY:Bend the Bar
DESCRIPTION:
URL:https://uspa.net/event/bend-the-bar-2018-12-08t00-00-00/
LOCATION:AL
END:VEVENT
BEGIN:VEVENT
DTSTART;TZID=America/Los_Angeles:20181208T000000
DTEND;TZID=America/Los_Angeles:20220914T131724
DTSTAMP:20260422T234141
CREATED:20220608T061711Z
LAST-MODIFIED:20220610T133349Z
UID:10008615-1544227200-1663161444@uspa.net
SUMMARY:Blood In Blood Out Powerlifting Championships
DESCRIPTION:
URL:https://uspa.net/event/blood-in-blood-out-powerlifting-championships-2018-12-08t00-00-00/
LOCATION:AL
END:VEVENT
BEGIN:VEVENT
DTSTART;TZID=America/Los_Angeles:20181208T000000
DTEND;TZID=America/Los_Angeles:20220914T131724
DTSTAMP:20260422T234141
CREATED:20220608T061707Z
LAST-MODIFIED:20220610T133349Z
UID:10008614-1544227200-1663161444@uspa.net
SUMMARY:CBUS Lifting Company Winter Classic
DESCRIPTION:
URL:https://uspa.net/event/cbus-lifting-company-winter-classic-2018-12-08t00-00-00/
LOCATION:AL
END:VEVENT
BEGIN:VEVENT
DTSTART;TZID=America/Los_Angeles:20181208T000000
DTEND;TZID=America/Los_Angeles:20181209T000000
DTSTAMP:20260422T234141
CREATED:20220608T061719Z
LAST-MODIFIED:20220610T133349Z
UID:10009213-1544227200-1544313600@uspa.net
SUMMARY:Holiday Festival of Strength
DESCRIPTION:
URL:https://uspa.net/event/holiday-festival-of-strength-2018-12-08t00-00-00/
LOCATION:AL
END:VEVENT
BEGIN:VEVENT
DTSTART;TZID=America/Los_Angeles:20181207T000000
DTEND;TZID=America/Los_Angeles:20181209T000000
DTSTAMP:20260422T234141
CREATED:20220608T061721Z
LAST-MODIFIED:20220610T133349Z
UID:10009214-1544140800-1544313600@uspa.net
SUMMARY:IPL World Powerlifting\, Benchpress\, Deadlift Championships
DESCRIPTION:
URL:https://uspa.net/event/ipl-world-powerlifting-benchpress-deadlift-championships-2018-12-07t00-00-00/
LOCATION:AL
END:VEVENT
BEGIN:VEVENT
DTSTART;TZID=America/Los_Angeles:20181201T000000
DTEND;TZID=America/Los_Angeles:20220914T131725
DTSTAMP:20260422T234141
CREATED:20220608T061725Z
LAST-MODIFIED:20220610T133349Z
UID:10009215-1543622400-1663161445@uspa.net
SUMMARY:Vegas Winter Open
DESCRIPTION:
URL:https://uspa.net/event/vegas-winter-open-2018-12-01t00-00-00/
LOCATION:AL
END:VEVENT
BEGIN:VEVENT
DTSTART;TZID=America/Los_Angeles:20181201T000000
DTEND;TZID=America/Los_Angeles:20220914T131725
DTSTAMP:20260422T234141
CREATED:20220608T061733Z
LAST-MODIFIED:20220610T133349Z
UID:10009217-1543622400-1663161445@uspa.net
SUMMARY:New Mexico State Championships
DESCRIPTION:
URL:https://uspa.net/event/new-mexico-state-championships-2018-12-01t00-00-00/
LOCATION:AL
END:VEVENT
BEGIN:VEVENT
DTSTART;TZID=America/Los_Angeles:20181201T000000
DTEND;TZID=America/Los_Angeles:20220914T131725
DTSTAMP:20260422T234141
CREATED:20220608T061728Z
LAST-MODIFIED:20220610T133349Z
UID:10009216-1543622400-1663161445@uspa.net
SUMMARY:The Heavy Holiday Open
DESCRIPTION:
URL:https://uspa.net/event/the-heavy-holiday-open-2018-12-01t00-00-00/
LOCATION:AL
END:VEVENT
BEGIN:VEVENT
DTSTART;TZID=America/Los_Angeles:20181201T000000
DTEND;TZID=America/Los_Angeles:20220914T131725
DTSTAMP:20260422T234141
CREATED:20220608T061737Z
LAST-MODIFIED:20220610T133349Z
UID:10009218-1543622400-1663161445@uspa.net
SUMMARY:Indiana State Championship
DESCRIPTION:
URL:https://uspa.net/event/indiana-state-championship-2018-12-01t00-00-00/
LOCATION:AL
END:VEVENT
BEGIN:VEVENT
DTSTART;TZID=America/Los_Angeles:20181201T000000
DTEND;TZID=America/Los_Angeles:20220914T131725
DTSTAMP:20260422T234141
CREATED:20220608T061749Z
LAST-MODIFIED:20220610T133349Z
UID:10009221-1543622400-1663161445@uspa.net
SUMMARY:CFC Winter Power Bash
DESCRIPTION:
URL:https://uspa.net/event/cfc-winter-power-bash-2018-12-01t00-00-00/
LOCATION:AL
END:VEVENT
BEGIN:VEVENT
DTSTART;TZID=America/Los_Angeles:20181201T000000
DTEND;TZID=America/Los_Angeles:20220914T131725
DTSTAMP:20260422T234141
CREATED:20220608T061745Z
LAST-MODIFIED:20220610T133349Z
UID:10009220-1543622400-1663161445@uspa.net
SUMMARY:Drug Tested Dominate The Hill II
DESCRIPTION:
URL:https://uspa.net/event/drug-tested-dominate-the-hill-ii-2018-12-01t00-00-00/
LOCATION:AL
END:VEVENT
BEGIN:VEVENT
DTSTART;TZID=America/Los_Angeles:20181201T000000
DTEND;TZID=America/Los_Angeles:20220914T131725
DTSTAMP:20260422T234141
CREATED:20220608T061741Z
LAST-MODIFIED:20220610T133349Z
UID:10009219-1543622400-1663161445@uspa.net
SUMMARY:Drug Tested Golden Ape
DESCRIPTION:
URL:https://uspa.net/event/drug-tested-golden-ape-2018-12-01t00-00-00/
LOCATION:AL
END:VEVENT
BEGIN:VEVENT
DTSTART;TZID=America/Los_Angeles:20181201T000000
DTEND;TZID=America/Los_Angeles:20220914T131725
DTSTAMP:20260422T234141
CREATED:20220608T061753Z
LAST-MODIFIED:20220610T133349Z
UID:10009222-1543622400-1663161445@uspa.net
SUMMARY:4th Kentucky State Championship
DESCRIPTION:
URL:https://uspa.net/event/4th-kentucky-state-championship-2018-12-01t00-00-00/
LOCATION:AL
END:VEVENT
BEGIN:VEVENT
DTSTART;TZID=America/Los_Angeles:20181201T000000
DTEND;TZID=America/Los_Angeles:20181202T000000
DTSTAMP:20260422T234141
CREATED:20220608T061757Z
LAST-MODIFIED:20220610T133349Z
UID:10009223-1543622400-1543708800@uspa.net
SUMMARY:Western Regionals
DESCRIPTION:
URL:https://uspa.net/event/western-regionals-2018-12-01t00-00-00/
LOCATION:AL
END:VEVENT
BEGIN:VEVENT
DTSTART;TZID=America/Los_Angeles:20181201T000000
DTEND;TZID=America/Los_Angeles:20181202T000000
DTSTAMP:20260422T234141
CREATED:20220608T061800Z
LAST-MODIFIED:20220610T133349Z
UID:10009224-1543622400-1543708800@uspa.net
SUMMARY:Alaka'i Real Steel Classic III
DESCRIPTION:
URL:https://uspa.net/event/alaka-i-real-steel-classic-iii-2018-12-01t00-00-00/
LOCATION:AL
END:VEVENT
BEGIN:VEVENT
DTSTART;TZID=America/Los_Angeles:20181117T000000
DTEND;TZID=America/Los_Angeles:20220914T131725
DTSTAMP:20260422T234141
CREATED:20220608T061812Z
LAST-MODIFIED:20220610T133350Z
UID:10009227-1542412800-1663161445@uspa.net
SUMMARY:New York State Powerlifting Championships
DESCRIPTION:
URL:https://uspa.net/event/new-york-state-powerlifting-championships-2018-11-17t00-00-00/
LOCATION:AL
END:VEVENT
BEGIN:VEVENT
DTSTART;TZID=America/Los_Angeles:20181117T000000
DTEND;TZID=America/Los_Angeles:20220914T131725
DTSTAMP:20260422T234141
CREATED:20220608T061808Z
LAST-MODIFIED:20220610T133350Z
UID:10009226-1542412800-1663161445@uspa.net
SUMMARY:Sonoran Desert Open
DESCRIPTION:
URL:https://uspa.net/event/sonoran-desert-open-2018-11-17t00-00-00/
LOCATION:AL
END:VEVENT
BEGIN:VEVENT
DTSTART;TZID=America/Los_Angeles:20181117T000000
DTEND;TZID=America/Los_Angeles:20220914T131725
DTSTAMP:20260422T234141
CREATED:20220608T061804Z
LAST-MODIFIED:20220610T133350Z
UID:10009225-1542412800-1663161445@uspa.net
SUMMARY:Southern Strength Showcase 3
DESCRIPTION:
URL:https://uspa.net/event/southern-strength-showcase-3-2018-11-17t00-00-00/
LOCATION:AL
END:VEVENT
BEGIN:VEVENT
DTSTART;TZID=America/Los_Angeles:20181117T000000
DTEND;TZID=America/Los_Angeles:20220914T131725
DTSTAMP:20260422T234141
CREATED:20220608T061815Z
LAST-MODIFIED:20220610T133350Z
UID:10009228-1542412800-1663161445@uspa.net
SUMMARY:IPL Old Dogs World Cup
DESCRIPTION:
URL:https://uspa.net/event/ipl-old-dogs-world-cup-2018-11-17t00-00-00/
LOCATION:AL
END:VEVENT
BEGIN:VEVENT
DTSTART;TZID=America/Los_Angeles:20181117T000000
DTEND;TZID=America/Los_Angeles:20220914T131725
DTSTAMP:20260422T234141
CREATED:20220608T061822Z
LAST-MODIFIED:20220610T133350Z
UID:10009231-1542412800-1663161445@uspa.net
SUMMARY:Drug Tested Autumn Classic
DESCRIPTION:
URL:https://uspa.net/event/drug-tested-autumn-classic-2018-11-17t00-00-00/
LOCATION:AL
END:VEVENT
END:VCALENDAR