BEGIN:VCALENDAR
VERSION:2.0
PRODID:-//USPA - ECPv6.15.20//NONSGML v1.0//EN
CALSCALE:GREGORIAN
METHOD:PUBLISH
X-WR-CALNAME:USPA
X-ORIGINAL-URL:https://uspa.net
X-WR-CALDESC:Events for USPA
REFRESH-INTERVAL;VALUE=DURATION:PT1H
X-Robots-Tag:noindex
X-PUBLISHED-TTL:PT1H
BEGIN:VTIMEZONE
TZID:America/Los_Angeles
BEGIN:DAYLIGHT
TZOFFSETFROM:-0800
TZOFFSETTO:-0700
TZNAME:PDT
DTSTART:20170312T100000
END:DAYLIGHT
BEGIN:STANDARD
TZOFFSETFROM:-0700
TZOFFSETTO:-0800
TZNAME:PST
DTSTART:20171105T090000
END:STANDARD
BEGIN:DAYLIGHT
TZOFFSETFROM:-0800
TZOFFSETTO:-0700
TZNAME:PDT
DTSTART:20180311T100000
END:DAYLIGHT
BEGIN:STANDARD
TZOFFSETFROM:-0700
TZOFFSETTO:-0800
TZNAME:PST
DTSTART:20181104T090000
END:STANDARD
BEGIN:DAYLIGHT
TZOFFSETFROM:-0800
TZOFFSETTO:-0700
TZNAME:PDT
DTSTART:20190310T100000
END:DAYLIGHT
BEGIN:STANDARD
TZOFFSETFROM:-0700
TZOFFSETTO:-0800
TZNAME:PST
DTSTART:20191103T090000
END:STANDARD
BEGIN:DAYLIGHT
TZOFFSETFROM:-0800
TZOFFSETTO:-0700
TZNAME:PDT
DTSTART:20200308T100000
END:DAYLIGHT
BEGIN:STANDARD
TZOFFSETFROM:-0700
TZOFFSETTO:-0800
TZNAME:PST
DTSTART:20201101T090000
END:STANDARD
BEGIN:DAYLIGHT
TZOFFSETFROM:-0800
TZOFFSETTO:-0700
TZNAME:PDT
DTSTART:20210314T100000
END:DAYLIGHT
BEGIN:STANDARD
TZOFFSETFROM:-0700
TZOFFSETTO:-0800
TZNAME:PST
DTSTART:20211107T090000
END:STANDARD
BEGIN:DAYLIGHT
TZOFFSETFROM:-0800
TZOFFSETTO:-0700
TZNAME:PDT
DTSTART:20220313T100000
END:DAYLIGHT
BEGIN:STANDARD
TZOFFSETFROM:-0700
TZOFFSETTO:-0800
TZNAME:PST
DTSTART:20221106T090000
END:STANDARD
BEGIN:DAYLIGHT
TZOFFSETFROM:-0800
TZOFFSETTO:-0700
TZNAME:PDT
DTSTART:20230312T100000
END:DAYLIGHT
BEGIN:STANDARD
TZOFFSETFROM:-0700
TZOFFSETTO:-0800
TZNAME:PST
DTSTART:20231105T090000
END:STANDARD
END:VTIMEZONE
BEGIN:VEVENT
DTSTART;TZID=America/Los_Angeles:20181020T000000
DTEND;TZID=America/Los_Angeles:20220914T131726
DTSTAMP:20260423T022636
CREATED:20220608T062021Z
LAST-MODIFIED:20220610T133350Z
UID:10009269-1539993600-1663161446@uspa.net
SUMMARY:Arizona State Championships
DESCRIPTION:
URL:https://uspa.net/event/arizona-state-championships-2018-10-20t00-00-00/
LOCATION:Fort Worth\, United States
END:VEVENT
BEGIN:VEVENT
DTSTART;TZID=America/Los_Angeles:20181020T000000
DTEND;TZID=America/Los_Angeles:20220914T131726
DTSTAMP:20260423T022636
CREATED:20220608T062017Z
LAST-MODIFIED:20220610T133350Z
UID:10009267-1539993600-1663161446@uspa.net
SUMMARY:Battle of the Beasts
DESCRIPTION:
URL:https://uspa.net/event/battle-of-the-beasts-2018-10-20t00-00-00/
LOCATION:Fort Worth\, United States
END:VEVENT
BEGIN:VEVENT
DTSTART;TZID=America/Los_Angeles:20181014T000000
DTEND;TZID=America/Los_Angeles:20220914T131726
DTSTAMP:20260423T022636
CREATED:20220608T062024Z
LAST-MODIFIED:20220610T133350Z
UID:10009272-1539475200-1663161446@uspa.net
SUMMARY:PNW Fall Classic II
DESCRIPTION:
URL:https://uspa.net/event/pnw-fall-classic-ii-2018-10-14t00-00-00/
LOCATION:Fort Worth\, United States
END:VEVENT
BEGIN:VEVENT
DTSTART;TZID=America/Los_Angeles:20181013T000000
DTEND;TZID=America/Los_Angeles:20220914T131726
DTSTAMP:20260423T022636
CREATED:20220608T062028Z
LAST-MODIFIED:20220610T133351Z
UID:10009273-1539388800-1663161446@uspa.net
SUMMARY:Walking DEADlift 3
DESCRIPTION:
URL:https://uspa.net/event/walking-deadlift-3-2018-10-13t00-00-00/
LOCATION:Fort Worth\, United States
END:VEVENT
BEGIN:VEVENT
DTSTART;TZID=America/Los_Angeles:20181013T000000
DTEND;TZID=America/Los_Angeles:20220914T131726
DTSTAMP:20260423T022636
CREATED:20220608T062032Z
LAST-MODIFIED:20220610T133351Z
UID:10009274-1539388800-1663161446@uspa.net
SUMMARY:USPA ABTsolute Oktoberfest
DESCRIPTION:
URL:https://uspa.net/event/uspa-abtsolute-oktoberfest-2018-10-13t00-00-00/
LOCATION:Fort Worth\, United States
END:VEVENT
BEGIN:VEVENT
DTSTART;TZID=America/Los_Angeles:20181013T000000
DTEND;TZID=America/Los_Angeles:20220914T131726
DTSTAMP:20260423T022636
CREATED:20220608T062036Z
LAST-MODIFIED:20220610T133351Z
UID:10009275-1539388800-1663161446@uspa.net
SUMMARY:The John Griffin Open
DESCRIPTION:
URL:https://uspa.net/event/the-john-griffin-open-2018-10-13t00-00-00/
LOCATION:Fort Worth\, United States
END:VEVENT
BEGIN:VEVENT
DTSTART;TZID=America/Los_Angeles:20181013T000000
DTEND;TZID=America/Los_Angeles:20220914T131726
DTSTAMP:20260423T022636
CREATED:20220608T062039Z
LAST-MODIFIED:20220610T133351Z
UID:10009276-1539388800-1663161446@uspa.net
SUMMARY:Lock It Out Barbell Day of the Dead
DESCRIPTION:
URL:https://uspa.net/event/lock-it-out-barbell-day-of-the-dead-2018-10-13t00-00-00/
LOCATION:Fort Worth\, United States
END:VEVENT
BEGIN:VEVENT
DTSTART;TZID=America/Los_Angeles:20181013T000000
DTEND;TZID=America/Los_Angeles:20220914T131726
DTSTAMP:20260423T022636
CREATED:20220608T062048Z
LAST-MODIFIED:20220610T133351Z
UID:10009278-1539388800-1663161446@uspa.net
SUMMARY:Drug Tested Conejo Open
DESCRIPTION:
URL:https://uspa.net/event/drug-tested-conejo-open-2018-10-13t00-00-00/
LOCATION:Fort Worth\, United States
END:VEVENT
BEGIN:VEVENT
DTSTART;TZID=America/Los_Angeles:20181013T000000
DTEND;TZID=America/Los_Angeles:20220914T131726
DTSTAMP:20260423T022636
CREATED:20220608T062044Z
LAST-MODIFIED:20220610T133351Z
UID:10009277-1539388800-1663161446@uspa.net
SUMMARY:Drug Tested Oregon State Championships
DESCRIPTION:
URL:https://uspa.net/event/drug-tested-oregon-state-championships-2018-10-13t00-00-00/
LOCATION:Fort Worth\, United States
END:VEVENT
BEGIN:VEVENT
DTSTART;TZID=America/Los_Angeles:20181013T000000
DTEND;TZID=America/Los_Angeles:20220914T131726
DTSTAMP:20260423T022636
CREATED:20220608T062052Z
LAST-MODIFIED:20220610T133351Z
UID:10009279-1539388800-1663161446@uspa.net
SUMMARY:4th Virginia State Championship
DESCRIPTION:
URL:https://uspa.net/event/4th-virginia-state-championship-2018-10-13t00-00-00/
LOCATION:Fort Worth\, United States
END:VEVENT
BEGIN:VEVENT
DTSTART;TZID=America/Los_Angeles:20181006T000000
DTEND;TZID=America/Los_Angeles:20220914T131726
DTSTAMP:20260423T022636
CREATED:20220608T062111Z
LAST-MODIFIED:20220610T133351Z
UID:10009284-1538784000-1663161446@uspa.net
SUMMARY:3rd Annual Hickory Classic
DESCRIPTION:
URL:https://uspa.net/event/3rd-annual-hickory-classic-2018-10-06t00-00-00/
LOCATION:Fort Worth\, United States
END:VEVENT
BEGIN:VEVENT
DTSTART;TZID=America/Los_Angeles:20181006T000000
DTEND;TZID=America/Los_Angeles:20220914T131726
DTSTAMP:20260423T022636
CREATED:20220608T062056Z
LAST-MODIFIED:20220610T133410Z
UID:10009280-1538784000-1663161446@uspa.net
SUMMARY:North Dakota State Open
DESCRIPTION:
URL:https://uspa.net/event/north-dakota-state-open-2018-10-06t00-00-00/
LOCATION:Fort Worth\, United States
END:VEVENT
BEGIN:VEVENT
DTSTART;TZID=America/Los_Angeles:20181006T000000
DTEND;TZID=America/Los_Angeles:20220914T131726
DTSTAMP:20260423T022636
CREATED:20220608T062059Z
LAST-MODIFIED:20220610T133410Z
UID:10009281-1538784000-1663161446@uspa.net
SUMMARY:Idaho State Championships
DESCRIPTION:
URL:https://uspa.net/event/idaho-state-championships-2018-10-06t00-00-00/
LOCATION:Fort Worth\, United States
END:VEVENT
BEGIN:VEVENT
DTSTART;TZID=America/Los_Angeles:20181006T000000
DTEND;TZID=America/Los_Angeles:20220914T131726
DTSTAMP:20260423T022636
CREATED:20220608T062107Z
LAST-MODIFIED:20220610T133351Z
UID:10009283-1538784000-1663161446@uspa.net
SUMMARY:Drug Tested Monster Mash
DESCRIPTION:
URL:https://uspa.net/event/drug-tested-monster-mash-2018-10-06t00-00-00/
LOCATION:Fort Worth\, United States
END:VEVENT
BEGIN:VEVENT
DTSTART;TZID=America/Los_Angeles:20181006T000000
DTEND;TZID=America/Los_Angeles:20220914T131726
DTSTAMP:20260423T022637
CREATED:20220608T062103Z
LAST-MODIFIED:20220610T133351Z
UID:10009282-1538784000-1663161446@uspa.net
SUMMARY:Drug Tested Pennsylvania State Powerlifting Championships
DESCRIPTION:
URL:https://uspa.net/event/drug-tested-pennsylvania-state-powerlifting-championships-2018-10-06t00-00-00/
LOCATION:Fort Worth\, United States
END:VEVENT
BEGIN:VEVENT
DTSTART;TZID=America/Los_Angeles:20181006T000000
DTEND;TZID=America/Los_Angeles:20181007T000000
DTSTAMP:20260423T022637
CREATED:20220608T062115Z
LAST-MODIFIED:20220610T133351Z
UID:10009285-1538784000-1538870400@uspa.net
SUMMARY:Drug Tested Southern California Open
DESCRIPTION:
URL:https://uspa.net/event/drug-tested-southern-california-open-2018-10-06t00-00-00/
LOCATION:Fort Worth\, United States
END:VEVENT
BEGIN:VEVENT
DTSTART;TZID=America/Los_Angeles:20181006T000000
DTEND;TZID=America/Los_Angeles:20181007T000000
DTSTAMP:20260423T022637
CREATED:20220608T062119Z
LAST-MODIFIED:20220610T133351Z
UID:10009286-1538784000-1538870400@uspa.net
SUMMARY:Central California Open
DESCRIPTION:
URL:https://uspa.net/event/central-california-open-2018-10-06t00-00-00/
LOCATION:Fort Worth\, United States
END:VEVENT
BEGIN:VEVENT
DTSTART;TZID=America/Los_Angeles:20180929T000000
DTEND;TZID=America/Los_Angeles:20220914T131727
DTSTAMP:20260423T022637
CREATED:20220608T062126Z
LAST-MODIFIED:20220610T133411Z
UID:10009289-1538179200-1663161447@uspa.net
SUMMARY:Florida Beach Games (Deadlift Only)
DESCRIPTION:
URL:https://uspa.net/event/florida-beach-games-deadlift-only-2018-09-29t00-00-00/
LOCATION:Fort Worth\, United States
END:VEVENT
BEGIN:VEVENT
DTSTART;TZID=America/Los_Angeles:20180929T000000
DTEND;TZID=America/Los_Angeles:20220914T131727
DTSTAMP:20260423T022637
CREATED:20220608T062123Z
LAST-MODIFIED:20220610T133411Z
UID:10009287-1538179200-1663161447@uspa.net
SUMMARY:Iron Warfare
DESCRIPTION:
URL:https://uspa.net/event/iron-warfare-2018-09-29t00-00-00/
LOCATION:Fort Worth\, United States
END:VEVENT
BEGIN:VEVENT
DTSTART;TZID=America/Los_Angeles:20180929T000000
DTEND;TZID=America/Los_Angeles:20220914T131727
DTSTAMP:20260423T022637
CREATED:20220608T062130Z
LAST-MODIFIED:20220610T133411Z
UID:10009291-1538179200-1663161447@uspa.net
SUMMARY:Drug Tested New York State Championships
DESCRIPTION:
URL:https://uspa.net/event/drug-tested-new-york-state-championships-2018-09-29t00-00-00/
LOCATION:Fort Worth\, United States
END:VEVENT
BEGIN:VEVENT
DTSTART;TZID=America/Los_Angeles:20180929T000000
DTEND;TZID=America/Los_Angeles:20220914T131727
DTSTAMP:20260423T022637
CREATED:20220608T062134Z
LAST-MODIFIED:20220610T133411Z
UID:10009293-1538179200-1663161447@uspa.net
SUMMARY:6th Annual Bar Fight
DESCRIPTION:
URL:https://uspa.net/event/6th-annual-bar-fight-2018-09-29t00-00-00/
LOCATION:Fort Worth\, United States
END:VEVENT
BEGIN:VEVENT
DTSTART;TZID=America/Los_Angeles:20180929T000000
DTEND;TZID=America/Los_Angeles:20180930T000000
DTSTAMP:20260423T022637
CREATED:20220608T062138Z
LAST-MODIFIED:20220610T133411Z
UID:10009296-1538179200-1538265600@uspa.net
SUMMARY:Legion Sports Fest Open
DESCRIPTION:
URL:https://uspa.net/event/legion-sports-fest-open-2018-09-29t00-00-00/
LOCATION:Fort Worth\, United States
END:VEVENT
BEGIN:VEVENT
DTSTART;TZID=America/Los_Angeles:20180922T000000
DTEND;TZID=America/Los_Angeles:20220914T131727
DTSTAMP:20260423T022637
CREATED:20220608T062143Z
LAST-MODIFIED:20220610T133411Z
UID:10009298-1537574400-1663161447@uspa.net
SUMMARY:The Takeover
DESCRIPTION:
URL:https://uspa.net/event/the-takeover-2018-09-22t00-00-00/
LOCATION:Fort Worth\, United States
END:VEVENT
BEGIN:VEVENT
DTSTART;TZID=America/Los_Angeles:20180922T000000
DTEND;TZID=America/Los_Angeles:20220914T131727
DTSTAMP:20260423T022637
CREATED:20220608T062147Z
LAST-MODIFIED:20220610T133411Z
UID:10009300-1537574400-1663161447@uspa.net
SUMMARY:Iron City PRO/AM
DESCRIPTION:
URL:https://uspa.net/event/iron-city-pro-am-2018-09-22t00-00-00/
LOCATION:Fort Worth\, United States
END:VEVENT
BEGIN:VEVENT
DTSTART;TZID=America/Los_Angeles:20180922T000000
DTEND;TZID=America/Los_Angeles:20220914T131727
DTSTAMP:20260423T022637
CREATED:20220608T062202Z
LAST-MODIFIED:20220610T133411Z
UID:10009307-1537574400-1663161447@uspa.net
SUMMARY:Coyote Crossfit Presents Mississippi State Powerlifting Championships
DESCRIPTION:
URL:https://uspa.net/event/coyote-crossfit-presents-mississippi-state-powerlifting-championships-2018-09-22t00-00-00/
LOCATION:Fort Worth\, United States
END:VEVENT
BEGIN:VEVENT
DTSTART;TZID=America/Los_Angeles:20180922T000000
DTEND;TZID=America/Los_Angeles:20220914T131727
DTSTAMP:20260423T022637
CREATED:20220608T062159Z
LAST-MODIFIED:20220610T133411Z
UID:10009306-1537574400-1663161447@uspa.net
SUMMARY:Driven Fitness Center Powerlifting Championships
DESCRIPTION:
URL:https://uspa.net/event/driven-fitness-center-powerlifting-championships-2018-09-22t00-00-00/
LOCATION:Fort Worth\, United States
END:VEVENT
BEGIN:VEVENT
DTSTART;TZID=America/Los_Angeles:20180922T000000
DTEND;TZID=America/Los_Angeles:20220914T131727
DTSTAMP:20260423T022637
CREATED:20220608T062155Z
LAST-MODIFIED:20220610T133411Z
UID:10009304-1537574400-1663161447@uspa.net
SUMMARY:Drug Tested - Monterey County Open
DESCRIPTION:
URL:https://uspa.net/event/drug-tested-monterey-county-open-2018-09-22t00-00-00/
LOCATION:Fort Worth\, United States
END:VEVENT
BEGIN:VEVENT
DTSTART;TZID=America/Los_Angeles:20180922T000000
DTEND;TZID=America/Los_Angeles:20220914T131727
DTSTAMP:20260423T022637
CREATED:20220608T062151Z
LAST-MODIFIED:20220610T133411Z
UID:10009302-1537574400-1663161447@uspa.net
SUMMARY:Drug Tested The Iron Office Powerlifting Championship
DESCRIPTION:
URL:https://uspa.net/event/drug-tested-the-iron-office-powerlifting-championship-2018-09-22t00-00-00/
LOCATION:Fort Worth\, United States
END:VEVENT
BEGIN:VEVENT
DTSTART;TZID=America/Los_Angeles:20180922T000000
DTEND;TZID=America/Los_Angeles:20180923T000000
DTSTAMP:20260423T022637
CREATED:20220608T062206Z
LAST-MODIFIED:20220610T133411Z
UID:10009308-1537574400-1537660800@uspa.net
SUMMARY:Desert Rampage
DESCRIPTION:
URL:https://uspa.net/event/desert-rampage-2018-09-22t00-00-00/
LOCATION:Fort Worth\, United States
END:VEVENT
BEGIN:VEVENT
DTSTART;TZID=America/Los_Angeles:20180915T000000
DTEND;TZID=America/Los_Angeles:20220914T131727
DTSTAMP:20260423T022637
CREATED:20220608T062210Z
LAST-MODIFIED:20220610T133411Z
UID:10008673-1536969600-1663161447@uspa.net
SUMMARY:Threshold Throwdown 2
DESCRIPTION:
URL:https://uspa.net/event/threshold-throwdown-2-2018-09-15t00-00-00/
LOCATION:Fort Worth\, United States
END:VEVENT
END:VCALENDAR