BEGIN:VCALENDAR
VERSION:2.0
PRODID:-//USPA - ECPv6.15.20//NONSGML v1.0//EN
CALSCALE:GREGORIAN
METHOD:PUBLISH
X-WR-CALNAME:USPA
X-ORIGINAL-URL:https://uspa.net
X-WR-CALDESC:Events for USPA
REFRESH-INTERVAL;VALUE=DURATION:PT1H
X-Robots-Tag:noindex
X-PUBLISHED-TTL:PT1H
BEGIN:VTIMEZONE
TZID:America/Los_Angeles
BEGIN:DAYLIGHT
TZOFFSETFROM:-0800
TZOFFSETTO:-0700
TZNAME:PDT
DTSTART:20170312T100000
END:DAYLIGHT
BEGIN:STANDARD
TZOFFSETFROM:-0700
TZOFFSETTO:-0800
TZNAME:PST
DTSTART:20171105T090000
END:STANDARD
BEGIN:DAYLIGHT
TZOFFSETFROM:-0800
TZOFFSETTO:-0700
TZNAME:PDT
DTSTART:20180311T100000
END:DAYLIGHT
BEGIN:STANDARD
TZOFFSETFROM:-0700
TZOFFSETTO:-0800
TZNAME:PST
DTSTART:20181104T090000
END:STANDARD
BEGIN:DAYLIGHT
TZOFFSETFROM:-0800
TZOFFSETTO:-0700
TZNAME:PDT
DTSTART:20190310T100000
END:DAYLIGHT
BEGIN:STANDARD
TZOFFSETFROM:-0700
TZOFFSETTO:-0800
TZNAME:PST
DTSTART:20191103T090000
END:STANDARD
BEGIN:DAYLIGHT
TZOFFSETFROM:-0800
TZOFFSETTO:-0700
TZNAME:PDT
DTSTART:20200308T100000
END:DAYLIGHT
BEGIN:STANDARD
TZOFFSETFROM:-0700
TZOFFSETTO:-0800
TZNAME:PST
DTSTART:20201101T090000
END:STANDARD
BEGIN:DAYLIGHT
TZOFFSETFROM:-0800
TZOFFSETTO:-0700
TZNAME:PDT
DTSTART:20210314T100000
END:DAYLIGHT
BEGIN:STANDARD
TZOFFSETFROM:-0700
TZOFFSETTO:-0800
TZNAME:PST
DTSTART:20211107T090000
END:STANDARD
BEGIN:DAYLIGHT
TZOFFSETFROM:-0800
TZOFFSETTO:-0700
TZNAME:PDT
DTSTART:20220313T100000
END:DAYLIGHT
BEGIN:STANDARD
TZOFFSETFROM:-0700
TZOFFSETTO:-0800
TZNAME:PST
DTSTART:20221106T090000
END:STANDARD
BEGIN:DAYLIGHT
TZOFFSETFROM:-0800
TZOFFSETTO:-0700
TZNAME:PDT
DTSTART:20230312T100000
END:DAYLIGHT
BEGIN:STANDARD
TZOFFSETFROM:-0700
TZOFFSETTO:-0800
TZNAME:PST
DTSTART:20231105T090000
END:STANDARD
END:VTIMEZONE
BEGIN:VEVENT
DTSTART;TZID=America/Los_Angeles:20180915T000000
DTEND;TZID=America/Los_Angeles:20220914T131727
DTSTAMP:20260423T035017
CREATED:20220608T062213Z
LAST-MODIFIED:20220610T133411Z
UID:10008675-1536969600-1663161447@uspa.net
SUMMARY:Illinois State Championship
DESCRIPTION:
URL:https://uspa.net/event/illinois-state-championship-2018-09-15t00-00-00/
LOCATION:OR
END:VEVENT
BEGIN:VEVENT
DTSTART;TZID=America/Los_Angeles:20180915T000000
DTEND;TZID=America/Los_Angeles:20220914T131727
DTSTAMP:20260423T035017
CREATED:20220608T062217Z
LAST-MODIFIED:20220610T133411Z
UID:10008677-1536969600-1663161447@uspa.net
SUMMARY:Cold Feet Classic
DESCRIPTION:
URL:https://uspa.net/event/cold-feet-classic-2018-09-15t00-00-00/
LOCATION:OR
END:VEVENT
BEGIN:VEVENT
DTSTART;TZID=America/Los_Angeles:20180914T000000
DTEND;TZID=America/Los_Angeles:20180915T000000
DTSTAMP:20260423T035017
CREATED:20220608T062221Z
LAST-MODIFIED:20220610T133411Z
UID:10008679-1536883200-1536969600@uspa.net
SUMMARY:IPL Olympia Pro Powerlifting
DESCRIPTION:
URL:https://uspa.net/event/ipl-olympia-pro-powerlifting-2018-09-14t00-00-00/
LOCATION:OR
END:VEVENT
BEGIN:VEVENT
DTSTART;TZID=America/Los_Angeles:20180909T000000
DTEND;TZID=America/Los_Angeles:20220914T131727
DTSTAMP:20260423T035017
CREATED:20220608T133031Z
LAST-MODIFIED:20220610T133411Z
UID:10008682-1536451200-1663161447@uspa.net
SUMMARY:Arkaios Open
DESCRIPTION:
URL:https://uspa.net/event/arkaios-open-2018-09-09t00-00-00/
LOCATION:OR
END:VEVENT
BEGIN:VEVENT
DTSTART;TZID=America/Los_Angeles:20180908T000000
DTEND;TZID=America/Los_Angeles:20220914T131727
DTSTAMP:20260423T035017
CREATED:20220608T133058Z
LAST-MODIFIED:20220610T133411Z
UID:10008683-1536364800-1663161447@uspa.net
SUMMARY:Self Made Open Powerlifting Championship
DESCRIPTION:
URL:https://uspa.net/event/self-made-open-powerlifting-championship-2018-09-08t00-00-00/
LOCATION:OR
END:VEVENT
BEGIN:VEVENT
DTSTART;TZID=America/Los_Angeles:20180908T000000
DTEND;TZID=America/Los_Angeles:20220914T131727
DTSTAMP:20260423T035017
CREATED:20220608T133114Z
LAST-MODIFIED:20220610T133411Z
UID:10008684-1536364800-1663161447@uspa.net
SUMMARY:Gods Of Iron
DESCRIPTION:
URL:https://uspa.net/event/gods-of-iron-2018-09-08t00-00-00/
LOCATION:OR
END:VEVENT
BEGIN:VEVENT
DTSTART;TZID=America/Los_Angeles:20180908T000000
DTEND;TZID=America/Los_Angeles:20220914T131727
DTSTAMP:20260423T035017
CREATED:20220608T062225Z
LAST-MODIFIED:20220610T133411Z
UID:10008681-1536364800-1663161447@uspa.net
SUMMARY:Drug-Tested Rocky Mountain Regional Championships
DESCRIPTION:
URL:https://uspa.net/event/drug-tested-rocky-mountain-regional-championships-2018-09-08t00-00-00/
LOCATION:OR
END:VEVENT
BEGIN:VEVENT
DTSTART;TZID=America/Los_Angeles:20180908T000000
DTEND;TZID=America/Los_Angeles:20220914T131727
DTSTAMP:20260423T035017
CREATED:20220608T133118Z
LAST-MODIFIED:20220610T133411Z
UID:10008685-1536364800-1663161447@uspa.net
SUMMARY:Alabama Gulf Coast Powerlifting Classic II
DESCRIPTION:
URL:https://uspa.net/event/alabama-gulf-coast-powerlifting-classic-ii-2018-09-08t00-00-00/
LOCATION:OR
END:VEVENT
BEGIN:VEVENT
DTSTART;TZID=America/Los_Angeles:20180901T000000
DTEND;TZID=America/Los_Angeles:20220914T131727
DTSTAMP:20260423T035017
CREATED:20220608T133122Z
LAST-MODIFIED:20220610T133411Z
UID:10008686-1535760000-1663161447@uspa.net
SUMMARY:Florida State Championships
DESCRIPTION:
URL:https://uspa.net/event/florida-state-championships-2018-09-01t00-00-00/
LOCATION:OR
END:VEVENT
BEGIN:VEVENT
DTSTART;TZID=America/Los_Angeles:20180901T000000
DTEND;TZID=America/Los_Angeles:20220914T131727
DTSTAMP:20260423T035017
CREATED:20220608T133126Z
LAST-MODIFIED:20220610T133411Z
UID:10009319-1535760000-1663161447@uspa.net
SUMMARY:Drug Tested Downings Gym and Forever Strong Fall Classic
DESCRIPTION:
URL:https://uspa.net/event/drug-tested-downings-gym-and-forever-strong-fall-classic-2018-09-01t00-00-00/
LOCATION:OR
END:VEVENT
BEGIN:VEVENT
DTSTART;TZID=America/Los_Angeles:20180825T000000
DTEND;TZID=America/Los_Angeles:20220914T131727
DTSTAMP:20260423T035017
CREATED:20220608T133138Z
LAST-MODIFIED:20220610T133411Z
UID:10009322-1535155200-1663161447@uspa.net
SUMMARY:North Carolina State Championship
DESCRIPTION:
URL:https://uspa.net/event/north-carolina-state-championship-2018-08-25t00-00-00/
LOCATION:OR
END:VEVENT
BEGIN:VEVENT
DTSTART;TZID=America/Los_Angeles:20180825T000000
DTEND;TZID=America/Los_Angeles:20220914T131727
DTSTAMP:20260423T035017
CREATED:20220608T133133Z
LAST-MODIFIED:20220610T133411Z
UID:10009321-1535155200-1663161447@uspa.net
SUMMARY:Rep One Strength Wars
DESCRIPTION:
URL:https://uspa.net/event/rep-one-strength-wars-2018-08-25t00-00-00/
LOCATION:OR
END:VEVENT
BEGIN:VEVENT
DTSTART;TZID=America/Los_Angeles:20180825T000000
DTEND;TZID=America/Los_Angeles:20220914T131727
DTSTAMP:20260423T035017
CREATED:20220608T133143Z
LAST-MODIFIED:20220610T133411Z
UID:10009323-1535155200-1663161447@uspa.net
SUMMARY:Motor City Madness
DESCRIPTION:
URL:https://uspa.net/event/motor-city-madness-2018-08-25t00-00-00/
LOCATION:OR
END:VEVENT
BEGIN:VEVENT
DTSTART;TZID=America/Los_Angeles:20180825T000000
DTEND;TZID=America/Los_Angeles:20220914T131727
DTSTAMP:20260423T035017
CREATED:20220608T133147Z
LAST-MODIFIED:20220610T133411Z
UID:10009324-1535155200-1663161447@uspa.net
SUMMARY:Chico Classic
DESCRIPTION:
URL:https://uspa.net/event/chico-classic-2018-08-25t00-00-00/
LOCATION:OR
END:VEVENT
BEGIN:VEVENT
DTSTART;TZID=America/Los_Angeles:20180825T000000
DTEND;TZID=America/Los_Angeles:20180826T000000
DTSTAMP:20260423T035017
CREATED:20220608T133130Z
LAST-MODIFIED:20220610T133411Z
UID:10009320-1535155200-1535241600@uspa.net
SUMMARY:USPA-IPL Anaheim Fit Expo
DESCRIPTION:
URL:https://uspa.net/event/uspa-ipl-anaheim-fit-expo-2018-08-25t00-00-00/
LOCATION:OR
END:VEVENT
BEGIN:VEVENT
DTSTART;TZID=America/Los_Angeles:20180825T000000
DTEND;TZID=America/Los_Angeles:20180826T000000
DTSTAMP:20260423T035017
CREATED:20220608T133151Z
LAST-MODIFIED:20220610T133411Z
UID:10009325-1535155200-1535241600@uspa.net
SUMMARY:IPL The Tribute
DESCRIPTION:
URL:https://uspa.net/event/ipl-the-tribute-2018-08-25t00-00-00/
LOCATION:OR
END:VEVENT
BEGIN:VEVENT
DTSTART;TZID=America/Los_Angeles:20180818T000000
DTEND;TZID=America/Los_Angeles:20220914T131727
DTSTAMP:20260423T035017
CREATED:20220608T133155Z
LAST-MODIFIED:20220610T133411Z
UID:10009326-1534550400-1663161447@uspa.net
SUMMARY:The Heathen Invasion Push/Pull
DESCRIPTION:
URL:https://uspa.net/event/the-heathen-invasion-push-pull-2018-08-18t00-00-00/
LOCATION:OR
END:VEVENT
BEGIN:VEVENT
DTSTART;TZID=America/Los_Angeles:20180818T000000
DTEND;TZID=America/Los_Angeles:20220914T131728
DTSTAMP:20260423T035017
CREATED:20220608T133158Z
LAST-MODIFIED:20220610T133411Z
UID:10009327-1534550400-1663161448@uspa.net
SUMMARY:Drug Tested Maryland State Championship
DESCRIPTION:
URL:https://uspa.net/event/drug-tested-maryland-state-championship-2018-08-18t00-00-00/
LOCATION:OR
END:VEVENT
BEGIN:VEVENT
DTSTART;TZID=America/Los_Angeles:20180812T000000
DTEND;TZID=America/Los_Angeles:20220914T131728
DTSTAMP:20260423T035017
CREATED:20220608T133202Z
LAST-MODIFIED:20220610T133411Z
UID:10009328-1534032000-1663161448@uspa.net
SUMMARY:Ultimate Warrior Classic II
DESCRIPTION:
URL:https://uspa.net/event/ultimate-warrior-classic-ii-2018-08-12t00-00-00/
LOCATION:OR
END:VEVENT
BEGIN:VEVENT
DTSTART;TZID=America/Los_Angeles:20180811T000000
DTEND;TZID=America/Los_Angeles:20220914T131728
DTSTAMP:20260423T035017
CREATED:20220608T133206Z
LAST-MODIFIED:20220610T133411Z
UID:10009329-1533945600-1663161448@uspa.net
SUMMARY:USPA Lightning Strikes
DESCRIPTION:
URL:https://uspa.net/event/uspa-lightning-strikes-2018-08-11t00-00-00/
LOCATION:OR
END:VEVENT
BEGIN:VEVENT
DTSTART;TZID=America/Los_Angeles:20180811T000000
DTEND;TZID=America/Los_Angeles:20220914T131728
DTSTAMP:20260423T035017
CREATED:20220608T133210Z
LAST-MODIFIED:20220610T133411Z
UID:10009330-1533945600-1663161448@uspa.net
SUMMARY:Pasadena Fall Classic
DESCRIPTION:
URL:https://uspa.net/event/pasadena-fall-classic-2018-08-11t00-00-00/
LOCATION:OR
END:VEVENT
BEGIN:VEVENT
DTSTART;TZID=America/Los_Angeles:20180811T000000
DTEND;TZID=America/Los_Angeles:20220914T131728
DTSTAMP:20260423T035017
CREATED:20220608T133214Z
LAST-MODIFIED:20220610T133411Z
UID:10009331-1533945600-1663161448@uspa.net
SUMMARY:Mile High Open
DESCRIPTION:
URL:https://uspa.net/event/mile-high-open-2018-08-11t00-00-00/
LOCATION:OR
END:VEVENT
BEGIN:VEVENT
DTSTART;TZID=America/Los_Angeles:20180811T000000
DTEND;TZID=America/Los_Angeles:20220914T131728
DTSTAMP:20260423T035017
CREATED:20220608T133222Z
LAST-MODIFIED:20220610T133411Z
UID:10009336-1533945600-1663161448@uspa.net
SUMMARY:Drug Tested Fit Nation Gym Powerlifting Championship
DESCRIPTION:
URL:https://uspa.net/event/drug-tested-fit-nation-gym-powerlifting-championship-2018-08-11t00-00-00/
LOCATION:OR
END:VEVENT
BEGIN:VEVENT
DTSTART;TZID=America/Los_Angeles:20180811T000000
DTEND;TZID=America/Los_Angeles:20220914T131728
DTSTAMP:20260423T035017
CREATED:20220608T133218Z
LAST-MODIFIED:20220610T133411Z
UID:10009334-1533945600-1663161448@uspa.net
SUMMARY:Drug Tested Texas State Meet
DESCRIPTION:
URL:https://uspa.net/event/drug-tested-texas-state-meet-2018-08-11t00-00-00/
LOCATION:OR
END:VEVENT
BEGIN:VEVENT
DTSTART;TZID=America/Los_Angeles:20180811T000000
DTEND;TZID=America/Los_Angeles:20180812T000000
DTSTAMP:20260423T035017
CREATED:20220608T133226Z
LAST-MODIFIED:20220610T133411Z
UID:10009338-1533945600-1534032000@uspa.net
SUMMARY:USPA-IPL Phoenix Europa
DESCRIPTION:
URL:https://uspa.net/event/uspa-ipl-phoenix-europa-2018-08-11t00-00-00/
LOCATION:OR
END:VEVENT
BEGIN:VEVENT
DTSTART;TZID=America/Los_Angeles:20180804T000000
DTEND;TZID=America/Los_Angeles:20220914T131728
DTSTAMP:20260423T035017
CREATED:20220608T133230Z
LAST-MODIFIED:20220610T133411Z
UID:10009339-1533340800-1663161448@uspa.net
SUMMARY:USPA/IPL Northwest World Record Breakers
DESCRIPTION:
URL:https://uspa.net/event/uspa-ipl-northwest-world-record-breakers-2018-08-04t00-00-00/
LOCATION:OR
END:VEVENT
BEGIN:VEVENT
DTSTART;TZID=America/Los_Angeles:20180804T000000
DTEND;TZID=America/Los_Angeles:20220914T131728
DTSTAMP:20260423T035017
CREATED:20220608T133246Z
LAST-MODIFIED:20220610T133411Z
UID:10009347-1533340800-1663161448@uspa.net
SUMMARY:North American Championships
DESCRIPTION:
URL:https://uspa.net/event/north-american-championships-2018-08-04t00-00-00/
LOCATION:OR
END:VEVENT
BEGIN:VEVENT
DTSTART;TZID=America/Los_Angeles:20180804T000000
DTEND;TZID=America/Los_Angeles:20220914T131728
DTSTAMP:20260423T035017
CREATED:20220608T133242Z
LAST-MODIFIED:20220610T133411Z
UID:10009345-1533340800-1663161448@uspa.net
SUMMARY:Riddle of Steel 2
DESCRIPTION:
URL:https://uspa.net/event/riddle-of-steel-2-2018-08-04t00-00-00/
LOCATION:OR
END:VEVENT
BEGIN:VEVENT
DTSTART;TZID=America/Los_Angeles:20180804T000000
DTEND;TZID=America/Los_Angeles:20220914T131728
DTSTAMP:20260423T035017
CREATED:20220608T133238Z
LAST-MODIFIED:20220610T133411Z
UID:10009343-1533340800-1663161448@uspa.net
SUMMARY:Tennessee State Championship
DESCRIPTION:
URL:https://uspa.net/event/tennessee-state-championship-2018-08-04t00-00-00/
LOCATION:OR
END:VEVENT
BEGIN:VEVENT
DTSTART;TZID=America/Los_Angeles:20180804T000000
DTEND;TZID=America/Los_Angeles:20220914T131728
DTSTAMP:20260423T035017
CREATED:20220608T133234Z
LAST-MODIFIED:20220610T133411Z
UID:10009341-1533340800-1663161448@uspa.net
SUMMARY:The West Indy Showdown Vol 3
DESCRIPTION:
URL:https://uspa.net/event/the-west-indy-showdown-vol-3-2018-08-04t00-00-00/
LOCATION:OR
END:VEVENT
END:VCALENDAR