BEGIN:VCALENDAR
VERSION:2.0
PRODID:-//USPA - ECPv6.15.20//NONSGML v1.0//EN
CALSCALE:GREGORIAN
METHOD:PUBLISH
X-WR-CALNAME:USPA
X-ORIGINAL-URL:https://uspa.net
X-WR-CALDESC:Events for USPA
REFRESH-INTERVAL;VALUE=DURATION:PT1H
X-Robots-Tag:noindex
X-PUBLISHED-TTL:PT1H
BEGIN:VTIMEZONE
TZID:America/Los_Angeles
BEGIN:DAYLIGHT
TZOFFSETFROM:-0800
TZOFFSETTO:-0700
TZNAME:PDT
DTSTART:20210314T100000
END:DAYLIGHT
BEGIN:STANDARD
TZOFFSETFROM:-0700
TZOFFSETTO:-0800
TZNAME:PST
DTSTART:20211107T090000
END:STANDARD
BEGIN:DAYLIGHT
TZOFFSETFROM:-0800
TZOFFSETTO:-0700
TZNAME:PDT
DTSTART:20220313T100000
END:DAYLIGHT
BEGIN:STANDARD
TZOFFSETFROM:-0700
TZOFFSETTO:-0800
TZNAME:PST
DTSTART:20221106T090000
END:STANDARD
BEGIN:DAYLIGHT
TZOFFSETFROM:-0800
TZOFFSETTO:-0700
TZNAME:PDT
DTSTART:20230312T100000
END:DAYLIGHT
BEGIN:STANDARD
TZOFFSETFROM:-0700
TZOFFSETTO:-0800
TZNAME:PST
DTSTART:20231105T090000
END:STANDARD
BEGIN:DAYLIGHT
TZOFFSETFROM:-0800
TZOFFSETTO:-0700
TZNAME:PDT
DTSTART:20240310T100000
END:DAYLIGHT
BEGIN:STANDARD
TZOFFSETFROM:-0700
TZOFFSETTO:-0800
TZNAME:PST
DTSTART:20241103T090000
END:STANDARD
END:VTIMEZONE
BEGIN:VEVENT
DTSTART;TZID=America/Los_Angeles:20230107T000000
DTEND;TZID=America/Los_Angeles:20230107T235959
DTSTAMP:20260424T094427
CREATED:20220906T161903Z
LAST-MODIFIED:20230117T022131Z
UID:10009766-1673049600-1673135999@uspa.net
SUMMARY:USPA Drug Tested 2023 Southern Utah Open\, Hurricane\, Utah￼
DESCRIPTION:Sanction#: 23-46935 \n\n\n\nLimited to 60 lifters \n\n\n\nRefund Policy: There will be no refunds after December 7th\, 2022. To request a refund email the meet director on or before December 7th\, 2022.     \n\n\n\nRegistration closes December 16\, 2022 \n\n\n\nDrug Testing: Drug testing by urinalysis. Drug Testing will be a 10% targeted selection based on the top Dots scores. \n\n\n\nEvents: Full Power\, Bench Only\, Deadlift OnlyCategory: Raw\, Classic Raw\, Single Ply\, Multi Ply \n\n\n\nWeigh in Schedule:Friday\, 9:00am to 10:30am or 5:00pm to 7:00pm. \n\n\n\nNo same-day weigh-ins under any circumstances.  \n\n\n\nEvent Schedule:Warmup: 8:00amLifting Begins: 9:00am \n\n\n\nAwards:Open:  1st – 3rd place in each weight classJunior 13-15\, 16-17\, 18-19\, 20-23: 1st – 3rd place in each weight class and age groupSubmaster 35-39: 1st – 3rd place in each weight classMaster 40-44\, 45-49\, etc.: 1st – 3rd place in each weight class and age group.Best Lifter: Awards given to each qualified lifter with 5 or more competitors in their class. \n\n\n\nQualifiers: \n\n\n\n2023 Drug Tested National Championship with a Class 1 total. June/July\, Las Vegas\, NV \n\n\n\n2023 National Championship with a Class 1 total. July 20-23\, Orange Beach\, Alabama \n\n\n\n2023 Drug Tested IPL North American Championship with a Class 1 total. Oct 19-22\, Columbus\, OH \n\n\n\n2023 North American Championship with a Class 1 total. October/November\, Las Vegas\, NV \n\n\n\n2023 Drug Tested IPL World Championship with a Class 1 total. Oct/Nov\, TBD \n\n\n\n2023 IPL World Championship with a Master total. Oct/Nov TBD \n\n\n\n\n\n\n\n\n\n\n\n\n\n\n\n[uspa_results]
URL:https://uspa.net/event/uspa-drug-tested-2023-southern-utah-open-hurricane-utah/
LOCATION:RevvFitness\, 75 N 200 W\, Suite 2\, Hurricane\, UT\, 84737\, United States
ORGANIZER;CN="Chris McGrail":MAILTO:uspautah@gmail.com
GEO:37.1775468;-113.2925259
X-APPLE-STRUCTURED-LOCATION;VALUE=URI;X-ADDRESS=RevvFitness 75 N 200 W Suite 2 Hurricane UT 84737 United States;X-APPLE-RADIUS=500;X-TITLE=75 N 200 W\, Suite 2:geo:-113.2925259,37.1775468
END:VEVENT
BEGIN:VEVENT
DTSTART;TZID=America/Los_Angeles:20221210T000000
DTEND;TZID=America/Los_Angeles:20221210T235959
DTSTAMP:20260424T094427
CREATED:20220906T163236Z
LAST-MODIFIED:20221219T160625Z
UID:10009768-1670630400-1670716799@uspa.net
SUMMARY:USPA 2022 Idaho Open\, Idaho Falls\, Idaho
DESCRIPTION:Sanction#: 23-46934 \n\n\n\nLimited to 60 lifters \n\n\n\nRefund Policy: There will be no refunds after November 10th\, 2022. To request a refund email the meet director on or before November 10th\, 2022. \n\n\n\nRegistration closes November 18\, 2022 \n\n\n\nEvents: Full Power\, Bench Only\, Deadlift OnlyCategory: Raw\, Classic Raw\, Single Ply\, Multi Ply \n\n\n\nWeigh in Schedule:Friday\, 9:00am to 10:30am or 5:00pm to 7:00pm. \n\n\n\nNo same-day weigh-ins under any circumstances.  \n\n\n\nEvent Schedule:Warmup: 8:00amLifting Begins: 9:00am \n\n\n\nAwards:Open:  1st – 3rd place in each weight classJunior 13-15\, 16-17\, 18-19\, 20-23: 1st – 3rd place in each weight class and age groupSubmaster 35-39: 1st – 3rd place in each weight classMaster 40-44\, 45-49\, etc.: 1st – 3rd place in each weight class and age group.Best Lifter: Awards given to each qualified lifter with 5 or more competitors in their class. \n\n\n\nQualifiers: \n\n\n\n2023 National Championship with a Class 1 total. July 20-23\, Orange Beach\, Alabama \n\n\n\n2023 North American Championship with a Class 1 total. October/November\, Las Vegas\, NV \n\n\n\n2023 IPL World Championship with a Master total. Oct/Nov TBD \n\n\n\n\n\n\n\n\n\n\n\n\n\n\n\n[uspa_results]
URL:https://uspa.net/event/uspa-2022-idaho-open-idaho-falls-idaho/
LOCATION:Empire Strength & Fitness\, 3166 N Lockheed Circle\, Idaho Falls\, ID\, 83401\, United States
ORGANIZER;CN="Chris McGrail":MAILTO:uspautah@gmail.com
GEO:43.5237015;-111.9990234
X-APPLE-STRUCTURED-LOCATION;VALUE=URI;X-ADDRESS=Empire Strength & Fitness 3166 N Lockheed Circle Idaho Falls ID 83401 United States;X-APPLE-RADIUS=500;X-TITLE=3166 N Lockheed Circle:geo:-111.9990234,43.5237015
END:VEVENT
BEGIN:VEVENT
DTSTART;TZID=America/Los_Angeles:20221209T000000
DTEND;TZID=America/Los_Angeles:20221209T235959
DTSTAMP:20260424T094427
CREATED:20220906T162906Z
LAST-MODIFIED:20221219T154642Z
UID:10009767-1670544000-1670630399@uspa.net
SUMMARY:USPA Drug Tested 2022 Idaho Open\, Idaho Falls\, Idaho￼
DESCRIPTION:Sanction#: 23-46934 \n\n\n\nLimited to 60 lifters \n\n\n\nRefund Policy: There will be no refunds after November 10th\, 2022. To request a refund email the meet director on or before November 10th\, 2022. \n\n\n\nRegistration closes November 18\, 2022 \n\n\n\nDrug Testing: Drug testing by urinalysis. Drug Testing will be a 10% targeted selection based on the top Dots scores. \n\n\n\nEvents: Full Power\, Bench Only\, Deadlift OnlyCategory: Raw\, Classic Raw\, Single Ply\, Multi Ply \n\n\n\nWeigh in Schedule:Thursday\, 9:00am to 10:30am or 5:00pm to 7:00pm. \n\n\n\nNo same-day weigh-ins under any circumstances.  \n\n\n\nEvent Schedule:Warmup: 8:00amLifting Begins: 9:00am \n\n\n\nAwards:Open:  1st – 3rd place in each weight classJunior 13-15\, 16-17\, 18-19\, 20-23: 1st – 3rd place in each weight class and age groupSubmaster 35-39: 1st – 3rd place in each weight classMaster 40-44\, 45-49\, etc.: 1st – 3rd place in each weight class and age group.Best Lifter: Awards given to each qualified lifter with 5 or more competitors in their class. \n\n\n\nQualifiers: \n\n\n\n2023 Drug Tested National Championship with a Class 1 total. June/July\, Las Vegas\, NV \n\n\n\n2023 National Championship with a Class 1 total. July 20-23\, Orange Beach\, Alabama \n\n\n\n2023 Drug Tested IPL North American Championship with a Class 1 total. Oct 19-22\, Columbus\, OH \n\n\n\n2023 North American Championship with a Class 1 total. October/November\, Las Vegas\, NV \n\n\n\n2023 Drug Tested IPL World Championship with a Class 1 total. Oct/Nov\, TBD \n\n\n\n2023 IPL World Championship with a Master total. Oct/Nov TBD \n\n\n\n\n\n\n\n\n\n\n\n\n\n\n\n[uspa_results]
URL:https://uspa.net/event/uspa-drug-tested-2022-idaho-open-idaho-falls-idaho/
LOCATION:Empire Strength & Fitness\, 3166 N Lockheed Circle\, Idaho Falls\, ID\, 83401\, United States
ORGANIZER;CN="Chris McGrail":MAILTO:uspautah@gmail.com
GEO:43.5237015;-111.9990234
X-APPLE-STRUCTURED-LOCATION;VALUE=URI;X-ADDRESS=Empire Strength & Fitness 3166 N Lockheed Circle Idaho Falls ID 83401 United States;X-APPLE-RADIUS=500;X-TITLE=3166 N Lockheed Circle:geo:-111.9990234,43.5237015
END:VEVENT
BEGIN:VEVENT
DTSTART;TZID=America/Los_Angeles:20221112T000000
DTEND;TZID=America/Los_Angeles:20221112T235959
DTSTAMP:20260424T094427
CREATED:20220629T232514Z
LAST-MODIFIED:20221130T225037Z
UID:10008908-1668211200-1668297599@uspa.net
SUMMARY:IPL Equipped (Single Ply/Multi Ply) World Championship\, Salt Lake City\, Utah
DESCRIPTION:IPL Sanction#: 22-2330Meet limited to 60 lifters \n\n\n\nRefund Policy:  Entry fees are non-refundable and are not transferable to another meet or person. \n\n\n\nQualifying info: You must achieve a class 1 total from an IPL affiliate or USPA event during the period from January 1\, 2021 to October 16\, 2022. State\, National\, and World records can be setBest Lifter awards for each gear category and division with 5 or more lifters \n\n\n\nEvents: Full Power\, Bench only\, Deadlift onlyCategory: Single Ply\, Multi Ply \n\n\n\nSchedule: YOU CANNOT REGISTER WITHOUT HAVING A QUALIFYING TOTAL. IF YOU ATTEMPT TO REGISTER WITHOUT A QUALIFYING TOTAL\, YOUR REGISTRATION WILL BE DELETED AND REFUNDED\, MINUS A $25.OO PROCESSING FEE. \n\n\n\nMust have coach’s pass to be in warm up room\, one per lifter. $20 \n\n\n\nSpectators $20 each \n\n\n\nWeighins:9:00am-10:30am or 5-6:30pm Friday\, Nov 11th No same day weigh ins. \n\n\n\nAwards info/comments:World Championship Belts for Equipped WorldsIndividual Medals for 1-3rd Place in each weight/age division. \n\n\n\n\n\n\n\n\n\n\n\n\n\n\n\n[uspa_results]
URL:https://uspa.net/event/ipl-single-ply-and-multi-ply-world-championship-salt-lake-city-utah/
LOCATION:Salt Palace Convention Center\, 100 S W Temple St\, Salt Lake City\, UT\, 84101\, United States
ORGANIZER;CN="Chris McGrail":MAILTO:uspautah@gmail.com
GEO:40.7686255;-111.8938656
X-APPLE-STRUCTURED-LOCATION;VALUE=URI;X-ADDRESS=Salt Palace Convention Center 100 S W Temple St Salt Lake City UT 84101 United States;X-APPLE-RADIUS=500;X-TITLE=100 S W Temple St:geo:-111.8938656,40.7686255
END:VEVENT
BEGIN:VEVENT
DTSTART;TZID=America/Los_Angeles:20221111T000000
DTEND;TZID=America/Los_Angeles:20221111T235959
DTSTAMP:20260424T094427
CREATED:20220629T232748Z
LAST-MODIFIED:20221123T205515Z
UID:10008910-1668124800-1668211199@uspa.net
SUMMARY:USPA StrengthX Grand Prix\, Salt Lake City\, Utah￼
DESCRIPTION:Sanction#: 22-2330Meet limited to 60 liftersRefund Policy:  Entry fees are non-refundable and are not transferable to another meet or person. \n\n\n\nEvents: Full Power\, Bench only\, Deadlift onlyCategory: Raw\, Classic Raw \n\n\n\nStart time: 9am Friday \n\n\n\nEvents: Full Power\, bench only\, deadlift onlyCategory: Raw\, Classic Raw \n\n\n\nWeigh-in & Equipment CheckThursday 9am-1030am and 5pm-630pm \n\n\n\nQualifier for 2023 Nationals with a Class 1 total. July 18-23\, Orange Beach\, Alabama \n\n\n\nQualifier for 2023 IPL North American Championship with a Class 1 total. Oct/Nov\, Las Vegas\, NV \n\n\n\nQualifier for 2023 IPL World Championship with a Master total. Date and location TBA \n\n\n\n\n\n\n\n\n\n\n\n\n\n\n\n[uspa_results]
URL:https://uspa.net/event/32840/
LOCATION:Salt Palace Convention Center\, 100 S W Temple St\, Salt Lake City\, UT\, 84101\, United States
ORGANIZER;CN="Chris McGrail":MAILTO:uspautah@gmail.com
GEO:40.7686255;-111.8938656
X-APPLE-STRUCTURED-LOCATION;VALUE=URI;X-ADDRESS=Salt Palace Convention Center 100 S W Temple St Salt Lake City UT 84101 United States;X-APPLE-RADIUS=500;X-TITLE=100 S W Temple St:geo:-111.8938656,40.7686255
END:VEVENT
BEGIN:VEVENT
DTSTART;TZID=America/Los_Angeles:20221015T000000
DTEND;TZID=America/Los_Angeles:20221015T235959
DTSTAMP:20260424T094427
CREATED:20220830T161956Z
LAST-MODIFIED:20221026T182117Z
UID:10008955-1665792000-1665878399@uspa.net
SUMMARY:USPA Utah Monster Mash\, Hyde Park\, Utah￼
DESCRIPTION:Sanction#: 22-46231 \n\n\n\nLimited to 60 lifters \n\n\n\nRefund Policy: There will be no refunds or transfers to another meet.      \n\n\n\nRegistration closes September 30\, 2022 \n\n\n\nEvents: Full Power\, Bench Only\, Deadlift OnlyCategory: Raw\, Classic Raw\, Single Ply\, Multi Ply \n\n\n\nWeigh in Schedule:Friday\, 9:00am to 10:30am and 5:00pm to 7:00pm at:Next Level Strength and Fitness Gym661 W 1725 NLogan\, UT 84321 \n\n\n\nNo same-day weigh-ins under any circumstances.  \n\n\n\nEvent Schedule:Warmup: 8:00amLifting Begins: 9:00am \n\n\n\nAwards:Open:  1st – 3rd place in each weight classJunior 13-15\, 16-17\, 18-19\, 20-23: 1st – 3rd place in each weight class and age groupSubmaster 35-39: 1st – 3rd place in each weight classMaster 40-44\, 45-49\, etc.: 1st – 3rd place in each weight class and age group.Best Lifter: Awards given to each qualified lifter with 5 or more competitors in their class. \n\n\n\nQualifier for 2023 National Championship with a Class 1 total. July 18-23\, Orange Beach\, Alabama \n\n\n\nQualifier for 2023 IPL North American Championship with a Class 1 total. Oct/Nov\, Las Vegas\, NV \n\n\n\nQualifier for 2023 IPL World Championship with a Master total. Date and location TBA
URL:https://uspa.net/event/uspa-utah-monster-mash-hyde-park-utah/
LOCATION:Castle Manor\, 170 3900 N\, Hyde Park\, UT\, 84318\, United States
ORGANIZER;CN="Chris McGrail":MAILTO:uspautah@gmail.com
GEO:41.802989;-111.8366437
X-APPLE-STRUCTURED-LOCATION;VALUE=URI;X-ADDRESS=Castle Manor 170 3900 N Hyde Park UT 84318 United States;X-APPLE-RADIUS=500;X-TITLE=170 3900 N:geo:-111.8366437,41.802989
END:VEVENT
BEGIN:VEVENT
DTSTART;TZID=America/Los_Angeles:20220910T090000
DTEND;TZID=America/Los_Angeles:20220910T170000
DTSTAMP:20260424T094427
CREATED:20220610T224337Z
LAST-MODIFIED:20220913T223717Z
UID:10009580-1662800400-1662829200@uspa.net
SUMMARY:USPA Western States Championship\, South Jordan\, Utah
DESCRIPTION:Sanction#: 22-2369Limited to 60 liftersRefund Policy: No refunds or meet transfers \n\n\n\nEvents: Full Power\, Bench only\, Deadlift onlyGear Category: Raw\, Classic Raw\, Single Ply\, Multi Ply \n\n\n\nStart time: 9am SaturdayWeigh-in & Equipment Check: Friday from 9am-10:30am and 5pm-6:30pm (by appointment only).No same day weigh-ins. \n\n\n\nWarmup: Saturday\, 8amLifting Begins: Saturday\, 9am \n\n\n\nQualifier for 2022 IPL World Championship with a Master total. Oct 20-23\, Orange Beach\, Alabama \n\n\n\nQualifier for 2022 IPL North American Championships with a Class 1 total. Nov 17-20\, Oklahoma City\, OK \n\n\n\nQualifier for 2023 National Championship with a Class 1 total. July 18-23\, Orange Beach\, Alabama \n\n\n\n\n\n\n\n\n\n\n\n\n\n\n\n[uspa_results]
URL:https://uspa.net/event/uspa-western-states-championship-south-jordan-utah/
LOCATION:The Compound\, 5992 S. UT-111\, West Valley City\, UT\, 84118\, United States
ORGANIZER;CN="Chris McGrail":MAILTO:uspautah@gmail.com
GEO:40.6424867;-112.0644152
X-APPLE-STRUCTURED-LOCATION;VALUE=URI;X-ADDRESS=The Compound 5992 S. UT-111 West Valley City UT 84118 United States;X-APPLE-RADIUS=500;X-TITLE=5992 S. UT-111:geo:-112.0644152,40.6424867
END:VEVENT
BEGIN:VEVENT
DTSTART;TZID=America/Los_Angeles:20220909T000000
DTEND;TZID=America/Los_Angeles:20220909T235959
DTSTAMP:20260424T094427
CREATED:20220624T231111Z
LAST-MODIFIED:20220913T222913Z
UID:10009642-1662681600-1662767999@uspa.net
SUMMARY:USPA Drug Tested Utah State Championship\, South Jordan\, Utah
DESCRIPTION:Sanction#: 22-2369Limited to 60 liftersRefund Policy: No refunds or meet transfers \n\n\n\nDRUG TESTING:Drug testing by urinalysis. Drug Testing will be a 10% targeted selection based on the top Dots scores   \n\n\n\nEvents: Full Power\, Bench only\, Deadlift onlyGear Category: Raw\, Classic Raw\, Single Ply\, Multi Ply \n\n\n\nStart time: 9am FridayWeigh-in & Equipment Check: Thursday from 9am-10:30am and 5pm-6:30pm (by appointment only).No same day weigh-ins. \n\n\n\nWarmup: Friday\, 8amLifting Begins: Friday\, 9am \n\n\n\nQualifier for 2022 IPL World Championship with a Master total. Oct 20-23\, Orange Beach\, Alabama \n\n\n\nQualifier for 2022 Drug Tested IPL World Championship with a Class 1 total. Nov 3-6\, Gold Coast\, Australia \n\n\n\nQualifier for 2022 Drug Tested IPL North American Championship with a Class 2 total. Nov 3-6\, St Louis\, MO \n\n\n\nQualifier for 2022 IPL North American Championships with a Class 1 total. Nov 17-20\, Oklahoma City\, OK \n\n\n\nQualifier for 2023 Drug Tested National Championship with a Class 1 total. July 10-14\, Las Vegas \n\n\n\nQualifier for 2023 National Championship with a Class 1 total. July 18-23\, Orange Beach\, Alabama \n\n\n\n\n\n\n\n\n\n\n\n\n\n\n\n[uspa_results]
URL:https://uspa.net/event/uspa-drug-tested-2022-utah-state-championship-sandy-utah/
LOCATION:Embassy Suites by Hilton South Jordan Salt Lake City\, 10333 S Jordan Gateway\, South Jordan\, UT\, 84095\, United States
ORGANIZER;CN="Chris McGrail":MAILTO:uspautah@gmail.com
GEO:40.5645256;-111.9025513
X-APPLE-STRUCTURED-LOCATION;VALUE=URI;X-ADDRESS=Embassy Suites by Hilton South Jordan Salt Lake City 10333 S Jordan Gateway South Jordan UT 84095 United States;X-APPLE-RADIUS=500;X-TITLE=10333 S Jordan Gateway:geo:-111.9025513,40.5645256
END:VEVENT
BEGIN:VEVENT
DTSTART;TZID=America/Los_Angeles:20220813T090000
DTEND;TZID=America/Los_Angeles:20220813T170000
DTSTAMP:20260424T094427
CREATED:20220610T135205Z
LAST-MODIFIED:20220821T201853Z
UID:10008841-1660381200-1660410000@uspa.net
SUMMARY:USPA Drug Tested Idaho Falls Open\, Idaho Falls\, Idaho
DESCRIPTION:Sanction#: 22-2366Limited to 45 lifters \n\n\n\nRefund Policy: No refunds or meet transfers \n\n\n\nPlease keep in mind the registration is only for the meet.  You will still need to be a member of the USPA.  Memberships will NOT be sold at the meet.  Purchase your annual membership at https://uspa.net/membership.html \n\n\n\nDRUG TESTING:Drug testing by urinalysis. Drug Testing will be a 10% targeted selection based on the top Dots scores   \n\n\n\nEvents: Full Power\, Bench only\, Deadlift onlyGear Category: Raw\, Classic Raw\, Single Ply\, Multi Ply \n\n\n\nStart time: 9am SaturdayWeigh-in & Equipment Check: Friday from 9am-10:30am and 5pm-6:30pm (by appointment only).No same day weigh-ins. \n\n\n\nWarmup: Saturday\, 8amLifting Begins: Saturday\, 9am \n\n\n\nQualifier for 2022 IPL World Championship with a Master total. Oct 20-23\, Orange Beach\, Alabama \n\n\n\nQualifier for 2022 Drug Tested IPL World Championship with a Class 1 total. Nov 3-6\, Gold Coast\, Australia \n\n\n\nQualifier for 2022 Drug Tested IPL North American Championship with a Class 2 total. Nov 3-6\, St Louis\, MO \n\n\n\nQualifier for 2022 IPL North American Championships with a Class 1 total. Nov 17-20\, Oklahoma City\, OK \n\n\n\nQualifier for 2023 Drug Tested National Championship with a Class 1 total. July 10-14\, Las Vegas \n\n\n\nQualifier for 2023 National Championship with a Class 1 total. July 18-23\, Orange Beach\, Alabama \n\n\n\n \n\n\n\n\n\n\n\n\n\n\n\n\n\n\n\n[uspa_results]
URL:https://uspa.net/event/uspa-drug-tested-idaho-falls-open-idaho-falls-idaho/
LOCATION:Empire Strength & Fitness\, 3166 N Lockheed Circle\, Idaho Falls\, ID\, 83401\, United States
ORGANIZER;CN="Chris McGrail":MAILTO:uspautah@gmail.com
GEO:43.5237015;-111.9990234
X-APPLE-STRUCTURED-LOCATION;VALUE=URI;X-ADDRESS=Empire Strength & Fitness 3166 N Lockheed Circle Idaho Falls ID 83401 United States;X-APPLE-RADIUS=500;X-TITLE=3166 N Lockheed Circle:geo:-111.9990234,43.5237015
END:VEVENT
BEGIN:VEVENT
DTSTART;TZID=America/Los_Angeles:20220716T090000
DTEND;TZID=America/Los_Angeles:20220716T170000
DTSTAMP:20260424T094427
CREATED:20220610T131319Z
LAST-MODIFIED:20220726T225955Z
UID:10009558-1657962000-1657990800@uspa.net
SUMMARY:USPA Big Mountain Barbell Classic\, Sandy\, Utah
DESCRIPTION:Sanction#: 22-2368Limited to 45 liftersRefund Policy: No refunds or meet transfers \n\n\n\nPlease keep in mind the registration is only for the meet.  You will still need to be a member of the USPA.  Memberships will NOT be sold at the meet.  Purchase your annual membership at https://uspa.net/membership.html \n\n\n\nMeet Director: Chris McGrailEmail: USPAUTAH@gmail.comPhone: 801-386-6122 \n\n\n\nEvents: Full Power\, Bench only\, Deadlift onlyGear Category: Raw\, Classic Raw\, Single Ply\, Multi Ply \n\n\n\nStart time: 9am SaturdayWeigh-in & Equipment Check: Friday from 9am-10:30am and 5pm-6:30pm (by appointment only).No same day weigh-ins. \n\n\n\nWarmup: Saturday\, 8amLifting Begins: Saturday\, 9am \n\n\n\nQualifier for 2022 IPL World Championship with a Master total. Oct 20-23\, Orange Beach\, Alabama \n\n\n\nQualifier for 2022 IPL North American Championships with a Class 1 total. Nov 17-20\, Oklahoma City\, OK \n\n\n\nQualifier for 2023 National Championship with a Class 1 total. July 18-23\, Orange Beach\, Alabama \n\n\n\nMen’s and Women’s Classification chart: https://uspa.net/classification-standards.html \n\n\n\n\n\n\n\n\n\n\n\n\n\n\n\n[uspa_results]
URL:https://uspa.net/event/uspa-big-mountain-barbell-classic-sandy-utah/
LOCATION:Big Mountain Barbell\, 741 Smelter Street\, Midvale\, UT\, 84047\, United States
ORGANIZER;CN="Chris McGrail":MAILTO:uspautah@gmail.com
GEO:40.6120876;-111.9109818
X-APPLE-STRUCTURED-LOCATION;VALUE=URI;X-ADDRESS=Big Mountain Barbell 741 Smelter Street Midvale UT 84047 United States;X-APPLE-RADIUS=500;X-TITLE=741 Smelter Street:geo:-111.9109818,40.6120876
END:VEVENT
BEGIN:VEVENT
DTSTART;TZID=America/Los_Angeles:20220716T090000
DTEND;TZID=America/Los_Angeles:20220716T170000
DTSTAMP:20260424T094427
CREATED:20220610T132218Z
LAST-MODIFIED:20220610T132221Z
UID:10009560-1657962000-1657990800@uspa.net
SUMMARY:USPA Multi Ply Nationals\, Sandy\, Utah
DESCRIPTION:Sanction#: 22-2368 \n\n\n\nLimited to 30 liftersRefund Policy: No refunds or meet transfers \n\n\n\nPlease keep in mind the registration is only for the meet.  You will still need to be a member of the USPA.  Memberships will NOT be sold at the meet.  Purchase your annual membership at https://uspa.net/membership.html \n\n\n\nMeet Director: Chris McGrailEmail: USPAUTAH@gmail.comPhone: 801-386-6122 \n\n\n\nEvents: Full Power\, Bench only\, Deadlift onlyGear Category: Multi Ply \n\n\n\nStart time: 830am Saturday \n\n\n\nWeigh-in & Equipment Check: Friday from 8:30am-10am and 5pm-6:30pm (by appointment only).No same day weigh-ins.Warmup: Saturday\, 7:30amLifting Begins: Saturday\, 8:30am \n\n\n\nHow to qualify: You must have a Class 2 total (full power or single lift total) from a USPA or IPL tested meet only\, from July 1\, 2020 thru June 19\, 2022. Must have a Class 3 total for your age group.  A Class 4 is needed for special needs athletes who have obtained an approved individual waiver from the USPA national office (submit waiver request to info@uspa.net). You can only enter the weight class you qualified in. You do have the option to go up one weight class if your qualifying total meets or exceeds the qualifying total for the heavier weight class. This rule is found in section 5.1.10 on page 33 of the USPA rulebook. \n\n\n\nQualifier for IPL Single Ply and Multi Ply World Championship\, Salt Lake City\, Utah – Sat 11/12/2022 \n\n\n\nMen’s and Women’s Classification chart: https://uspa.net/classification-standards.html \n\n\n\n\n\n\n\n\n\n\n\n\n\n\n\n[uspa_results]
URL:https://uspa.net/event/uspa-multi-ply-nationals-sandy-utah/
LOCATION:Big Mountain Barbell\, 741 Smelter Street\, Midvale\, UT\, 84047\, United States
ORGANIZER;CN="Chris McGrail":MAILTO:uspautah@gmail.com
GEO:40.6120876;-111.9109818
X-APPLE-STRUCTURED-LOCATION;VALUE=URI;X-ADDRESS=Big Mountain Barbell 741 Smelter Street Midvale UT 84047 United States;X-APPLE-RADIUS=500;X-TITLE=741 Smelter Street:geo:-111.9109818,40.6120876
END:VEVENT
BEGIN:VEVENT
DTSTART;TZID=America/Los_Angeles:20220625T000000
DTEND;TZID=America/Los_Angeles:20220625T235959
DTSTAMP:20260424T094427
CREATED:20220701T151926Z
LAST-MODIFIED:20220701T232847Z
UID:10008917-1656115200-1656201599@uspa.net
SUMMARY:USPA Hurricane Valley Open\, Hurricane\, Utah
DESCRIPTION:Sanction#: 22-2367Limited to 45 liftersRefund Policy: No refunds or meet transfers   \n\n\n\nEvents: Full Power\, Bench only\, Deadlift onlyGear Category: Raw\, Classic Raw\, Single Ply\, Multi Ply \n\n\n\nStart time: 9am SaturdayWeigh-in & Equipment Check: Friday from 9am-10:30am and 5pm-6:30pm (by appointment only).No same day weigh-ins. \n\n\n\nWarmup: Saturday\, 8amLifting Begins: Saturday\, 9am \n\n\n\nQualifier for 2022 IPL World Championship with a Master total. Oct 20-23\, Orange Beach\, Alabama \n\n\n\nQualifier for 2022 Drug Tested IPL World Championship with a Class 1 total. Nov 3-6\, Gold Coast\, Australia \n\n\n\nQualifier for 2022 Drug Tested IPL North American Championship with a Class 2 total. Nov 3-6\, St Louis\, MO \n\n\n\nQualifier for 2022 IPL North American Championships with a Class 1 total. Nov 17-20\, Oklahoma City\, OK \n\n\n\nQualifier for 2023 Drug Tested National Championship with a Class 1 total. July 10-14\, Las Vegas \n\n\n\nQualifier for 2023 National Championship with a Class 1 total. July 18-23\, Orange Beach\, Alabama
URL:https://uspa.net/event/uspa-drug-tested-hurricane-valley-open-hurricane-utah/
ORGANIZER;CN="Chris McGrail":MAILTO:uspautah@gmail.com
END:VEVENT
BEGIN:VEVENT
DTSTART;TZID=America/Los_Angeles:20220610T080000
DTEND;TZID=America/Los_Angeles:20220610T170000
DTSTAMP:20260424T094427
CREATED:20220610T185210Z
LAST-MODIFIED:20220610T185341Z
UID:10009570-1654848000-1654880400@uspa.net
SUMMARY:USPA Drug Tested Utah State Championship\, South Jordan\, Utah
DESCRIPTION:Sanction#: 22-2369Limited to 60 liftersRefund Policy: No refunds or meet transfers \n\n\n\nPlease keep in mind the registration is only for the meet.  You will still need to be a member of the USPA.  Memberships will NOT be sold at the meet.  \n\n\n\nDRUG TESTING:Drug testing by urinalysis. Drug Testing will be a 10% targeted selection based on the top Dots scores   \n\n\n\nMeet Director: Chris McGrailEmail: USPAUTAH@gmail.comPhone: 801-386-6122 \n\n\n\nEvents: Full Power\, Bench only\, Deadlift onlyGear Category: Raw\, Classic Raw\, Single Ply\, Multi Ply \n\n\n\nStart time: 9am FridayWeigh-in & Equipment Check: Thursday from 9am-10:30am and 5pm-6:30pm (by appointment only).No same day weigh-ins. \n\n\n\nWarmup: Friday\, 8amLifting Begins: Friday\, 9am \n\n\n\nQualifier for 2022 IPL World Championship with a Master total. Oct 20-23\, Orange Beach\, Alabama \n\n\n\nQualifier for 2022 Drug Tested IPL World Championship with a Class 1 total. Nov 3-6\, Gold Coast\, Australia \n\n\n\nQualifier for 2022 Drug Tested IPL North American Championship with a Class 2 total. Nov 3-6\, St Louis\, MO \n\n\n\nQualifier for 2022 IPL North American Championships with a Class 1 total. Nov 17-20\, Oklahoma City\, OK \n\n\n\nQualifier for 2023 Drug Tested National Championship with a Class 1 total. July 10-14\, Las Vegas \n\n\n\nQualifier for 2023 National Championship with a Class 1 total. July 18-23\, Orange Beach\, Alabama \n\n\n\nMen’s and Women’s Classification chart: https://uspa.net/classification-standards.html \n\n\n\n\n\n\n\n\n\n\n\n\n\n\n\n[uspa-results]
URL:https://uspa.net/event/uspa-drug-tested-utah-state-championship-south-jordan-utah/
LOCATION:Embassy Suites by Hilton South Jordan Salt Lake City\, 10333 S Jordan Gateway\, South Jordan\, UT\, 84095\, United States
ORGANIZER;CN="Chris McGrail":MAILTO:uspautah@gmail.com
GEO:40.5645256;-111.9025513
X-APPLE-STRUCTURED-LOCATION;VALUE=URI;X-ADDRESS=Embassy Suites by Hilton South Jordan Salt Lake City 10333 S Jordan Gateway South Jordan UT 84095 United States;X-APPLE-RADIUS=500;X-TITLE=10333 S Jordan Gateway:geo:-111.9025513,40.5645256
END:VEVENT
END:VCALENDAR