BEGIN:VCALENDAR
VERSION:2.0
PRODID:-//USPA - ECPv6.15.20//NONSGML v1.0//EN
CALSCALE:GREGORIAN
METHOD:PUBLISH
X-WR-CALNAME:USPA
X-ORIGINAL-URL:https://uspa.net
X-WR-CALDESC:Events for USPA
REFRESH-INTERVAL;VALUE=DURATION:PT1H
X-Robots-Tag:noindex
X-PUBLISHED-TTL:PT1H
BEGIN:VTIMEZONE
TZID:America/Los_Angeles
BEGIN:DAYLIGHT
TZOFFSETFROM:-0800
TZOFFSETTO:-0700
TZNAME:PDT
DTSTART:20250309T100000
END:DAYLIGHT
BEGIN:STANDARD
TZOFFSETFROM:-0700
TZOFFSETTO:-0800
TZNAME:PST
DTSTART:20251102T090000
END:STANDARD
BEGIN:DAYLIGHT
TZOFFSETFROM:-0800
TZOFFSETTO:-0700
TZNAME:PDT
DTSTART:20260308T100000
END:DAYLIGHT
BEGIN:STANDARD
TZOFFSETFROM:-0700
TZOFFSETTO:-0800
TZNAME:PST
DTSTART:20261101T090000
END:STANDARD
BEGIN:DAYLIGHT
TZOFFSETFROM:-0800
TZOFFSETTO:-0700
TZNAME:PDT
DTSTART:20270314T100000
END:DAYLIGHT
BEGIN:STANDARD
TZOFFSETFROM:-0700
TZOFFSETTO:-0800
TZNAME:PST
DTSTART:20271107T090000
END:STANDARD
END:VTIMEZONE
BEGIN:VEVENT
DTSTART;TZID=America/Los_Angeles:20260425T000000
DTEND;TZID=America/Los_Angeles:20260425T235959
DTSTAMP:20260421T131521
CREATED:20260102T204839Z
LAST-MODIFIED:20260102T204844Z
UID:10009820-1777075200-1777161599@uspa.net
SUMMARY:USPA Tested and Open Trinity Rise of Str3ngth\, Moore\, Oklahoma
DESCRIPTION:Sanction#: 26-46782 \n\n\n\nLimited to 60 lifters \n\n\n\nThis event has both Tested and Non Tested Divisions available \n\n\n\nRefund Policy: No Refunds\, no transfers. \n\n\n\nRegistration closes: April 3\, 2026 \n\n\n\nFor the Tested Division: Drug testing by urinalysis. Drug Testing will be a 10% targeted random selection based on the top Dots scores. \n\n\n\nEvents: Full Power\, Bench Only\, Deadlift Only\, Push PullCategory: Raw\, Classic Raw\, Single Ply\, Multi Ply \n\n\n\n\nWeigh in Schedule:Friday\, April 24\, 2026 – 9:00 am to 11:00 am or 3:00 pm to 5:00 pm. No same days weigh-ins under any circumstances \n\n\n\n \n\n\n\n\nEvent Schedule:Warmup: 8:00 amLifting Begins: 9:00 am \n\n\n\n\nAwards:Open: 1st – 3rd place in each weight classJunior 10-12\, 13-15\, 16-17\, 18-19\, 20-23: 1st – 3rd place in each weight class and age groupSubmaster 35-39: 1st – 3rd place in each weight classMaster 40-44\, 45-49\, etc.: 1st – 3rd place in each weight class and age group.Best Lifter: Awards given to each qualified lifter with 5 or more competitors in their class. \n\n\n\n \n\n\n\n\nQualifier For:Any IPL Competition or USPA National Level Competition with the necessary qualifying total during the appropriate qualifying period.
URL:https://uspa.net/event/uspa-tested-and-open-trinity-rise-of-str3ngth-moore-oklahoma/
LOCATION:Trinity Str3ngth Gym\, 240 Industrial Blvd\, Moore\, OK\, 73160\, United States
ORGANIZER;CN="Gary Hunter Jr":MAILTO:uspatexasgary@gmail.com
END:VEVENT
BEGIN:VEVENT
DTSTART;TZID=America/Los_Angeles:20260620T000000
DTEND;TZID=America/Los_Angeles:20260620T235959
DTSTAMP:20260421T131521
CREATED:20260120T174715Z
LAST-MODIFIED:20260120T174720Z
UID:10010656-1781913600-1781999999@uspa.net
SUMMARY:USPA Tested and Open 2026 Iron Compound Open\, Aransas Pass\, Texas
DESCRIPTION:Sanction#: 26-47246 \n\n\n\nLimited to 60 lifters \n\n\n\nThis event has both Tested and Non Tested Divisions available \n\n\n\nRefund Policy: No Refunds\, no transfers. \n\n\n\nRegistration closes: May 29\, 2026 \n\n\n\nFor the Tested Division: Drug testing by urinalysis. Drug Testing will be a 10% targeted random selection based on the top Dots scores. \n\n\n\nEvents: Full Power\, Bench Only\, Deadlift Only\, Push PullCategory: Raw\, Classic Raw\, Single Ply\, Multi Ply \n\n\n\n\nWeigh in Schedule:Friday\, June 19\, 2026 – 9:00 am to 11:00 am or 3:00 pm to 5:00 pm. No same days weigh-ins under any circumstances \n\n\n\n \n\n\n\n\nEvent Schedule:Warmup: 8:00 amLifting Begins: 9:00 am \n\n\n\n\nAwards:Open: 1st – 3rd place in each weight classJunior 10-12\, 13-15\, 16-17\, 18-19\, 20-23: 1st – 3rd place in each weight class and age groupSubmaster 35-39: 1st – 3rd place in each weight classMaster 40-44\, 45-49\, etc.: 1st – 3rd place in each weight class and age group.Best Lifter: Awards given to each qualified lifter with 5 or more competitors in their class. \n\n\n\n \n\n\n\n\nQualifier For:Any IPL Competition or USPA National Level Competition with the necessary qualifying total during the appropriate qualifying period.
URL:https://uspa.net/event/uspa-tested-and-open-2026-iron-compound-open-aransas-pass-texas/
LOCATION:Aransas Pass Civic Center\, 700 W Wheeler Ave\, Aransas Pass\, TX\, 78336\, United States
ORGANIZER;CN="Gary Hunter Jr":MAILTO:uspatexasgary@gmail.com
GEO:27.9108143;-97.1504937
X-APPLE-STRUCTURED-LOCATION;VALUE=URI;X-ADDRESS=Aransas Pass Civic Center 700 W Wheeler Ave Aransas Pass TX 78336 United States;X-APPLE-RADIUS=500;X-TITLE=700 W Wheeler Ave:geo:-97.1504937,27.9108143
END:VEVENT
BEGIN:VEVENT
DTSTART;TZID=America/Los_Angeles:20260627T000000
DTEND;TZID=America/Los_Angeles:20260627T235959
DTSTAMP:20260421T131521
CREATED:20260202T182124Z
LAST-MODIFIED:20260202T182257Z
UID:10010668-1782518400-1782604799@uspa.net
SUMMARY:USPA Tested and Open 2026 Goddesses of Strength\, Oklahoma City\, Oklahoma
DESCRIPTION:Sanction#: 26-47531 \n\n\n\nLimited to 60 lifters \n\n\n\nTHIS IS A WOMEN ONLY EVENT \n\n\n\nThis event has both Tested and Non Tested Divisions available \n\n\n\nRefund Policy: No Refunds\, no transfers. \n\n\n\nRegistration closes: June 5\, 2026 \n\n\n\nFor the Tested Division: Drug testing by urinalysis. Drug Testing will be a 10% targeted random selection based on the top Dots scores. \n\n\n\nEvents: Full Power\, Bench Only\, Deadlift Only\, Push PullCategory: Raw\, Classic Raw\, Single Ply\, Multi Ply \n\n\n\n\nWeigh in Schedule:Friday\, June 26\, 2026 – 9:00 am to 11:00 am or 3:00 pm to 5:00 pm. No same days weigh-ins under any circumstances \n\n\n\n \n\n\n\n\nEvent Schedule:Warmup: 8:00 amLifting Begins: 9:00 am \n\n\n\n\nAwards:Open: 1st – 3rd place in each weight classJunior 10-12\, 13-15\, 16-17\, 18-19\, 20-23: 1st – 3rd place in each weight class and age groupSubmaster 35-39: 1st – 3rd place in each weight classMaster 40-44\, 45-49\, etc.: 1st – 3rd place in each weight class and age group.Best Lifter: Awards given to each qualified lifter with 5 or more competitors in their class. \n\n\n\n \n\n\n\n\nQualifier For:Any IPL Competition or USPA National Level Competition with the necessary qualifying total during the appropriate qualifying period.
URL:https://uspa.net/event/uspa-tested-and-open-2026-goddesses-of-strength-oklahoma-city-oklahoma/
LOCATION:The Strength Factory\, 6415 N Meridian Ave\, Oklahoma City\, OK\, 73116\, United States
ORGANIZER;CN="Gary Hunter Jr":MAILTO:uspatexasgary@gmail.com
GEO:35.5375651;-97.6018704
X-APPLE-STRUCTURED-LOCATION;VALUE=URI;X-ADDRESS=The Strength Factory 6415 N Meridian Ave Oklahoma City OK 73116 United States;X-APPLE-RADIUS=500;X-TITLE=6415 N Meridian Ave:geo:-97.6018704,35.5375651
END:VEVENT
BEGIN:VEVENT
DTSTART;TZID=America/Los_Angeles:20260711T000000
DTEND;TZID=America/Los_Angeles:20260711T235959
DTSTAMP:20260421T131521
CREATED:20260214T001422Z
LAST-MODIFIED:20260214T001427Z
UID:10010674-1783728000-1783814399@uspa.net
SUMMARY:USPA Tested and Open 2026 West Texas Classic\, Amarillo\, Texas
DESCRIPTION:Sanction#: 26-47813 \n\n\n\nLimited to 60 lifters \n\n\n\nThis event has both Tested and Non Tested Divisions available \n\n\n\nRefund Policy: No Refunds\, no transfers. \n\n\n\nRegistration closes: June 19\, 2026 \n\n\n\nFor the Tested Division: Drug testing by urinalysis. Drug Testing will be a 10% targeted random selection based on the top Dots scores. \n\n\n\nEvents: Full Power\, Bench Only\, Deadlift Only\, Push PullCategory: Raw\, Classic Raw\, Single Ply\, Multi Ply \n\n\n\n\nWeigh in Schedule:Friday\, July 10\, 2026 – 9:00 am to 11:00 am or 3:00 pm to 5:00 pm. No same days weigh-ins under any circumstances \n\n\n\n \n\n\n\n\nEvent Schedule:Warmup: 8:00 amLifting Begins: 9:00 am \n\n\n\n\nAwards:Open: 1st – 3rd place in each weight classJunior 10-12\, 13-15\, 16-17\, 18-19\, 20-23: 1st – 3rd place in each weight class and age groupSubmaster 35-39: 1st – 3rd place in each weight classMaster 40-44\, 45-49\, etc.: 1st – 3rd place in each weight class and age group.Best Lifter: Awards given to each qualified lifter with 5 or more competitors in their class. \n\n\n\n \n\n\n\n\nQualifier For:Any IPL Competition or USPA National Level Competition with the necessary qualifying total during the appropriate qualifying period.
URL:https://uspa.net/event/uspa-tested-and-open-2026-west-texas-classic-amarillo-texas/
LOCATION:The Gym @ Contagion Athletics\, 8210 W Amarillo Blvd\, Suite A\, Amarillo\, TX\, 79124\, United States
ORGANIZER;CN="Gary Hunter Jr":MAILTO:uspatexasgary@gmail.com
END:VEVENT
BEGIN:VEVENT
DTSTART;TZID=America/Los_Angeles:20260718T000000
DTEND;TZID=America/Los_Angeles:20260718T235959
DTSTAMP:20260421T131521
CREATED:20260217T190228Z
LAST-MODIFIED:20260217T221105Z
UID:10010680-1784332800-1784419199@uspa.net
SUMMARY:USPA Tested and Open 2026 Gods of Iron\, Austin\, Texas
DESCRIPTION:Sanction#: 26-47931 \n\n\n\nLimited to 60 lifters \n\n\n\nThis event has both Tested and Non Tested Divisions available \n\n\n\nRefund Policy: No Refunds\, no transfers. \n\n\n\nRegistration closes: June 26\, 2026 \n\n\n\nFor the Tested Division: Drug testing by urinalysis. Drug Testing will be a 10% targeted random selection based on the top Dots scores. \n\n\n\nEvents: Full Power\, Bench Only\, Deadlift Only\, Push PullCategory: Raw\, Classic Raw\, Single Ply\, Multi Ply \n\n\n\n\nWeigh in Schedule:Friday\, July 17\, 2026 – 9:00 am to 11:00 am or 3:00 pm to 5:00 pm. No same days weigh-ins under any circumstances \n\n\n\n \n\n\n\n\nEvent Schedule:Warmup: 8:00 amLifting Begins: 9:00 am \n\n\n\n\nAwards:Open: 1st – 3rd place in each weight classJunior 10-12\, 13-15\, 16-17\, 18-19\, 20-23: 1st – 3rd place in each weight class and age groupSubmaster 35-39: 1st – 3rd place in each weight classMaster 40-44\, 45-49\, etc.: 1st – 3rd place in each weight class and age group.Best Lifter: Awards given to each qualified lifter with 5 or more competitors in their class. \n\n\n\n \n\n\n\n\nQualifier For:Any IPL Competition or USPA National Level Competition with the necessary qualifying total during the appropriate qualifying period.
URL:https://uspa.net/event/uspa-tested-and-open-2026-gods-of-iron-austin-texas/
LOCATION:Kodiak Strength Training\, 14141 US-290 Bldg 700\, Austin\, TX\, 78737\, United States
ORGANIZER;CN="Gary Hunter Jr":MAILTO:uspatexasgary@gmail.com
END:VEVENT
BEGIN:VEVENT
DTSTART;TZID=America/Los_Angeles:20260815T000000
DTEND;TZID=America/Los_Angeles:20260815T235959
DTSTAMP:20260421T131521
CREATED:20260306T195613Z
LAST-MODIFIED:20260323T160559Z
UID:10010692-1786752000-1786838399@uspa.net
SUMMARY:USPA Tested and Open Clash of the Goons 2\, Harlingen\, Texas
DESCRIPTION:Sanction#: 26-48287 \n\n\n\nLimited to 60 lifters \n\n\n\nThis event has both Tested and Non Tested Divisions available \n\n\n\nRefund Policy: No Refunds\, no transfers. \n\n\n\nRegistration closes: July 24\, 2026 \n\n\n\nFor the Tested Division: Drug testing by urinalysis. Drug Testing will be a 10% targeted random selection based on the top Dots scores. \n\n\n\nEvents: Full Power\, Bench Only\, Deadlift Only\, Push PullCategory: Raw\, Classic Raw\, Single Ply\, Multi Ply \n\n\n\n\nWeigh in Schedule:Friday\, August 14\, 2026 – 9:00 am to 11:00 am or 3:00 pm to 5:00 pm. No same days weigh-ins under any circumstances \n\n\n\n \n\n\n\n\nEvent Schedule:Warmup: 8:00 amLifting Begins: 9:00 am \n\n\n\n\nAwards:Open: 1st – 3rd place in each weight classJunior 10-12\, 13-15\, 16-17\, 18-19\, 20-23: 1st – 3rd place in each weight class and age groupSubmaster 35-39: 1st – 3rd place in each weight classMaster 40-44\, 45-49\, etc.: 1st – 3rd place in each weight class and age group.Best Lifter: Awards given to each qualified lifter with 5 or more competitors in their class. \n\n\n\n \n\n\n\n\nQualifier For:Any IPL Competition or USPA National Level Competition with the necessary qualifying total during the appropriate qualifying period.
URL:https://uspa.net/event/uspa-tested-and-open-clash-of-the-goons-2-harlingen-texas/
LOCATION:The Goon House\, 1514 S 77 Sunshine Strip\, Suite 22\, Harlingen\, TX\, 78550\, United States
ORGANIZER;CN="Gary Hunter Jr":MAILTO:uspatexasgary@gmail.com
END:VEVENT
BEGIN:VEVENT
DTSTART;TZID=America/Los_Angeles:20260829T000000
DTEND;TZID=America/Los_Angeles:20260829T235959
DTSTAMP:20260421T131521
CREATED:20260324T180752Z
LAST-MODIFIED:20260324T180756Z
UID:10010712-1787961600-1788047999@uspa.net
SUMMARY:USPA Tested and Open Red River Shootout OKLAHOMA\, Oklahoma City\, Oklahoma
DESCRIPTION:Sanction#: 26-48740 \n\n\n\nLimited to 60 lifters \n\n\n\nThis event has both Tested and Non Tested Divisions available \n\n\n\nRefund Policy: No Refunds\, no transfers. \n\n\n\nRegistration closes: August 7\, 2026 \n\n\n\nFor the Tested Division: Drug testing by urinalysis. Drug Testing will be a 10% targeted random selection based on the top Dots scores. \n\n\n\nEvents: Full Power\, Bench Only\, Deadlift Only\, Push PullCategory: Raw\, Classic Raw\, Single Ply\, Multi Ply \n\n\n\n\nWeigh in Schedule:Friday\, August 28\, 2026 – 9:00 am to 11:00 am or 3:00 pm to 5:00 pm. No same days weigh-ins under any circumstances \n\n\n\n \n\n\n\n\nEvent Schedule:Warmup: 8:00 amLifting Begins: 9:00 am \n\n\n\n\nAwards:Open: 1st – 3rd place in each weight classJunior 10-12\, 13-15\, 16-17\, 18-19\, 20-23: 1st – 3rd place in each weight class and age groupSubmaster 35-39: 1st – 3rd place in each weight classMaster 40-44\, 45-49\, etc.: 1st – 3rd place in each weight class and age group.Best Lifter: Awards given to each qualified lifter with 5 or more competitors in their class. \n\n\n\n \n\n\n\n\nQualifier For:Any IPL Competition or USPA National Level Competition with the necessary qualifying total during the appropriate qualifying period.
URL:https://uspa.net/event/uspa-tested-and-open-red-river-shootout-oklahoma-oklahoma-city-oklahoma/
LOCATION:The Strength Factory\, 6415 N Meridian Ave\, Oklahoma City\, OK\, 73116\, United States
ORGANIZER;CN="Gary Hunter Jr":MAILTO:uspatexasgary@gmail.com
GEO:35.5375651;-97.6018704
X-APPLE-STRUCTURED-LOCATION;VALUE=URI;X-ADDRESS=The Strength Factory 6415 N Meridian Ave Oklahoma City OK 73116 United States;X-APPLE-RADIUS=500;X-TITLE=6415 N Meridian Ave:geo:-97.6018704,35.5375651
END:VEVENT
BEGIN:VEVENT
DTSTART;TZID=America/Los_Angeles:20260926T000000
DTEND;TZID=America/Los_Angeles:20260926T235959
DTSTAMP:20260421T131521
CREATED:20260313T201022Z
LAST-MODIFIED:20260313T201029Z
UID:10010703-1790380800-1790467199@uspa.net
SUMMARY:USPA Tested and Open 2026 Texas State Championships\, San Antonio\, Texas
DESCRIPTION:Sanction#: 26-48515 \n\n\n\nLimited to 60 lifters \n\n\n\nThis event has both Tested and Non Tested Divisions available \n\n\n\nRefund Policy: No Refunds\, no transfers. \n\n\n\nRegistration closes: September 4\, 2026 \n\n\n\nFor the Tested Division: Drug testing by urinalysis. Drug Testing will be a 10% targeted random selection based on the top Dots scores. \n\n\n\nEvents: Full Power\, Bench Only\, Deadlift Only\, Push PullCategory: Raw\, Classic Raw\, Single Ply\, Multi Ply \n\n\n\n\nWeigh in Schedule:Friday\, September 25\, 2026 – 9:00 am to 11:00 am or 3:00 pm to 5:00 pm. No same days weigh-ins under any circumstances \n\n\n\n \n\n\n\n\nEvent Schedule:Warmup: 8:00 amLifting Begins: 9:00 am \n\n\n\n\nAwards:Open: 1st – 3rd place in each weight classJunior 10-12\, 13-15\, 16-17\, 18-19\, 20-23: 1st – 3rd place in each weight class and age groupSubmaster 35-39: 1st – 3rd place in each weight classMaster 40-44\, 45-49\, etc.: 1st – 3rd place in each weight class and age group.Best Lifter: Awards given to each qualified lifter with 5 or more competitors in their class. \n\n\n\n \n\n\n\n\nQualifier For:Any IPL Competition or USPA National Level Competition with the necessary qualifying total during the appropriate qualifying period.
URL:https://uspa.net/event/uspa-tested-and-open-2026-texas-state-championships-san-antonio-texas/
LOCATION:Texas Strength Systems – San Antonio\, 2418 Boardwalk St\, San Antonio\, TX\, 78217\, United States
ORGANIZER;CN="Gary Hunter Jr":MAILTO:uspatexasgary@gmail.com
GEO:29.5330307;-98.4514558
X-APPLE-STRUCTURED-LOCATION;VALUE=URI;X-ADDRESS=Texas Strength Systems – San Antonio 2418 Boardwalk St San Antonio TX 78217 United States;X-APPLE-RADIUS=500;X-TITLE=2418 Boardwalk St:geo:-98.4514558,29.5330307
END:VEVENT
END:VCALENDAR