BEGIN:VCALENDAR
VERSION:2.0
PRODID:-//USPA - ECPv6.15.20//NONSGML v1.0//EN
CALSCALE:GREGORIAN
METHOD:PUBLISH
X-ORIGINAL-URL:https://uspa.net
X-WR-CALDESC:Events for USPA
REFRESH-INTERVAL;VALUE=DURATION:PT1H
X-Robots-Tag:noindex
X-PUBLISHED-TTL:PT1H
BEGIN:VTIMEZONE
TZID:America/Los_Angeles
BEGIN:DAYLIGHT
TZOFFSETFROM:-0800
TZOFFSETTO:-0700
TZNAME:PDT
DTSTART:20250309T100000
END:DAYLIGHT
BEGIN:STANDARD
TZOFFSETFROM:-0700
TZOFFSETTO:-0800
TZNAME:PST
DTSTART:20251102T090000
END:STANDARD
BEGIN:DAYLIGHT
TZOFFSETFROM:-0800
TZOFFSETTO:-0700
TZNAME:PDT
DTSTART:20260308T100000
END:DAYLIGHT
BEGIN:STANDARD
TZOFFSETFROM:-0700
TZOFFSETTO:-0800
TZNAME:PST
DTSTART:20261101T090000
END:STANDARD
BEGIN:DAYLIGHT
TZOFFSETFROM:-0800
TZOFFSETTO:-0700
TZNAME:PDT
DTSTART:20270314T100000
END:DAYLIGHT
BEGIN:STANDARD
TZOFFSETFROM:-0700
TZOFFSETTO:-0800
TZNAME:PST
DTSTART:20271107T090000
END:STANDARD
END:VTIMEZONE
BEGIN:VEVENT
DTSTART;TZID=America/Los_Angeles:20260919T000000
DTEND;TZID=America/Los_Angeles:20260919T235959
DTSTAMP:20260424T070626
CREATED:20260217T182929Z
LAST-MODIFIED:20260218T230956Z
UID:10010679-1789776000-1789862399@uspa.net
SUMMARY:USPA Tested and Open 2026 Goddess of Gains Meet\, Vista\, California
DESCRIPTION:Sanction#: 26-47940 \n\n\n\nLimited to 60 lifters \n\n\n\nThis event has Tested and Non-Tested optionsThis is a Women ONLY event \n\n\n\nRefund Policy: NO REFUNDS AT ALL\, Unless you have someone to take your spot. You will then be charged a $40 fee off your registration. Crossovers are fully refunded until registration closes. After registration closes there are No Refunds At All. \n\n\n\nRegistration closes: August 28\, 2026 \n\n\n\nDrug Testing: Drug testing by urinalysis. Drug Testing will be a 10% targeted random selection based on the top Dots scores. \n\n\n\nEvents: Full Power\, Bench Only\, Deadlift OnlyCategory: Raw\, Classic Raw\, Single Ply \n\n\n\nWeigh in Schedule:Friday\, September 18\, 2026 – 9:00 am to 10:30 am or 4:00 pm to 5:30 pm. Weigh-ins will be held at the meet venue.No same days weigh-ins under any circumstances \n\n\n\nEvent Schedule:Warmup: 8:00 amLifting Begins: 9:00 am \n\n\n\nAwards:Open: 1st – 3rd place in each weight classJunior 10-12\, 13-15\, 16-17\, 18-19\, 20-23: 1st – 3rd place in each weight class and age groupSubmaster 35-39: 1st – 3rd place in each weight classMaster 40-44\, 45-49\, etc.: 1st – 3rd place in each weight class and age group.Best Lifter: Awards given to each qualified lifter with 5 or more competitors in their class. \n\n\n\n****We will be using Texas Bars and Racks **** \n\n\n\nWe will be giving out 2 belts to the best overall lifter In Tested Raw and Open Raw Only.Need 5 or more lifters to qualify for overall PrizeGifts will be also hand it out to all lifters. \n\n\n\nEveryone will use the 20kg Deadlift Bar \n\n\n\nPLEASE RESPECT THE GYMS EQUIPMENT\, WALLS\, FLOORS AND BATHROOMS. YOU WILL BE HELD RESPONSIBLE FOR YOUR ACTIONS. \n\n\n\nQualifier For:Any IPL Competition or USPA National Level Competition with the necessary qualifying total during the appropriate qualifying period.
URL:https://uspa.net/event/uspa-tested-and-open-2026-goddess-of-gains-meet-vista-california/
LOCATION:North County Fitness and Performance\, 1966 Hacienda Dr\, Vista\, CA\, 92081\, United States
ORGANIZER;CN="Robert Speno":MAILTO:Robert.uspa@yahoo.com
END:VEVENT
END:VCALENDAR