BEGIN:VCALENDAR
VERSION:2.0
PRODID:-//USPA - ECPv6.15.20//NONSGML v1.0//EN
CALSCALE:GREGORIAN
METHOD:PUBLISH
X-WR-CALNAME:USPA
X-ORIGINAL-URL:https://uspa.net
X-WR-CALDESC:Events for USPA
REFRESH-INTERVAL;VALUE=DURATION:PT1H
X-Robots-Tag:noindex
X-PUBLISHED-TTL:PT1H
BEGIN:VTIMEZONE
TZID:America/Los_Angeles
BEGIN:DAYLIGHT
TZOFFSETFROM:-0800
TZOFFSETTO:-0700
TZNAME:PDT
DTSTART:20250309T100000
END:DAYLIGHT
BEGIN:STANDARD
TZOFFSETFROM:-0700
TZOFFSETTO:-0800
TZNAME:PST
DTSTART:20251102T090000
END:STANDARD
BEGIN:DAYLIGHT
TZOFFSETFROM:-0800
TZOFFSETTO:-0700
TZNAME:PDT
DTSTART:20260308T100000
END:DAYLIGHT
BEGIN:STANDARD
TZOFFSETFROM:-0700
TZOFFSETTO:-0800
TZNAME:PST
DTSTART:20261101T090000
END:STANDARD
BEGIN:DAYLIGHT
TZOFFSETFROM:-0800
TZOFFSETTO:-0700
TZNAME:PDT
DTSTART:20270314T100000
END:DAYLIGHT
BEGIN:STANDARD
TZOFFSETFROM:-0700
TZOFFSETTO:-0800
TZNAME:PST
DTSTART:20271107T090000
END:STANDARD
END:VTIMEZONE
BEGIN:VEVENT
DTSTART;TZID=America/Los_Angeles:20260328T080000
DTEND;TZID=America/Los_Angeles:20260328T170000
DTSTAMP:20260421T074157
CREATED:20250613T210749Z
LAST-MODIFIED:20260419T225849Z
UID:10010523-1774684800-1774717200@uspa.net
SUMMARY:USPA Tested and Open 2026 National Bench Press Championships\, Phoenix\, Arizona
DESCRIPTION:Sanction#: 26-40950 \n\n\n\nLimited to 180 lifters \n\n\n\nThis event has both Tested and Non Tested Divisions available \n\n\n\nRefund Policy: No refunds. \n\n\n\nRegistration closes: March 6\, 2026 \n\n\n\nFor the Tested Division: Drug testing by urinalysis. Drug Testing will be a 10% targeted random selection based on the top Dots scores. \n\n\n\nEvents: Bench OnlyCategory: Raw\, Single Ply\, Multi Ply \n\n\n\n\nWeigh in Schedule:Friday\, March 27\, 2026 – 9:00 am to 12:00 pm or 3:00 pm to 5:00 pm. No same days weigh-ins under any circumstances \n\n\n\n\nEvent Schedule:Warmup: 8:00 amLifting Begins: 9:00 am \n\n\n\n\nAwards:Open: 1st – 3rd place in each weight classJunior 10-12\, 13-15\, 16-17\, 18-19\, 20-23: 1st – 3rd place in each weight class and age groupSubmaster 35-39: 1st – 3rd place in each weight classMaster 40-44\, 45-49\, etc.: 1st – 3rd place in each weight class and age group.Best Lifter: Awards given to each qualified lifter with 5 or more competitors in their class. \n\n\n\nBronze Bench Press Statues for Best Lifters.  There must be 5 or more competitors in a category to qualify for a Best Lifter Award. \n\n\n\nAdditional Special Meet Director Awards: TBD \n\n\n\n \n\n\n\n\n\n\nHotel Accommodations:Hilton Garden Inn Phoenix Airport North\, 3838 E Van Buren St\, Phoenix AZ 85005website \n\n\n\n\n\nQualifier For:Any IPL Competition or USPA National Level Competition with the necessary qualifying total during the appropriate qualifying period.
URL:https://uspa.net/event/uspa-tested-and-open-2026-national-bench-press-championships-phoenix-arizona/
LOCATION:Phoenix Shrine Auditorium and Event Center\, 552 N 40th St\, Phoenix\, AZ\, 85008\, United States
ORGANIZER;CN="Mike Magee":MAILTO:mtpowerliftingllc@gmail.com
END:VEVENT
END:VCALENDAR