BEGIN:VCALENDAR
VERSION:2.0
PRODID:-//USPA - ECPv6.15.20//NONSGML v1.0//EN
CALSCALE:GREGORIAN
METHOD:PUBLISH
X-WR-CALNAME:USPA
X-ORIGINAL-URL:https://uspa.net
X-WR-CALDESC:Events for USPA
REFRESH-INTERVAL;VALUE=DURATION:PT1H
X-Robots-Tag:noindex
X-PUBLISHED-TTL:PT1H
BEGIN:VTIMEZONE
TZID:America/Los_Angeles
BEGIN:DAYLIGHT
TZOFFSETFROM:-0800
TZOFFSETTO:-0700
TZNAME:PDT
DTSTART:20250309T100000
END:DAYLIGHT
BEGIN:STANDARD
TZOFFSETFROM:-0700
TZOFFSETTO:-0800
TZNAME:PST
DTSTART:20251102T090000
END:STANDARD
BEGIN:DAYLIGHT
TZOFFSETFROM:-0800
TZOFFSETTO:-0700
TZNAME:PDT
DTSTART:20260308T100000
END:DAYLIGHT
BEGIN:STANDARD
TZOFFSETFROM:-0700
TZOFFSETTO:-0800
TZNAME:PST
DTSTART:20261101T090000
END:STANDARD
BEGIN:DAYLIGHT
TZOFFSETFROM:-0800
TZOFFSETTO:-0700
TZNAME:PDT
DTSTART:20270314T100000
END:DAYLIGHT
BEGIN:STANDARD
TZOFFSETFROM:-0700
TZOFFSETTO:-0800
TZNAME:PST
DTSTART:20271107T090000
END:STANDARD
END:VTIMEZONE
BEGIN:VEVENT
DTSTART;TZID=America/Los_Angeles:20261010T000000
DTEND;TZID=America/Los_Angeles:20261010T235959
DTSTAMP:20260420T015356
CREATED:20260413T171300Z
LAST-MODIFIED:20260413T214545Z
UID:10010727-1791590400-1791676799@uspa.net
SUMMARY:USPA Tested and Open Vintage Iron's Main Event\, Davenport\, Iowa
DESCRIPTION:Sanction#: 26-49124 \n\n\n\nLimited to 60 lifters \n\n\n\nThis event has both Tested and Non Tested Divisions available \n\n\n\nRefund Policy: No refunds\, no transfers.  All entries are final. \n\n\n\nRegistration closes: September 18\, 2026 \n\n\n\nFor the Tested Division: Drug testing by urinalysis. Drug Testing will be a 10% targeted random selection based on the top Dots scores. \n\n\n\nEvents: Full Power\, Bench Only\, Deadlift Only\, Push PullCategory: Raw\, Classic Raw\, Single Ply\, Multi Ply \n\n\n\n\nWeigh in Schedule:Friday\, October 9\, 2026 – 9:00 am to 11:00 am or from 4:00 pm to 5:00 pm. No same days weigh-ins under any circumstances \n\n\n\n \n\n\n\n\nEvent Schedule:Warmup: 8:00 amLifting Begins: 9:00 am \n\n\n\n\nAwards:Open: 1st – 3rd place in each weight classJunior 10-12\, 13-15\, 16-17\, 18-19\, 20-23: 1st – 3rd place in each weight class and age groupSubmaster 35-39: 1st – 3rd place in each weight classMaster 40-44\, 45-49\, etc.: 1st – 3rd place in each weight class and age group.Best Lifter: Awards given to each qualified lifter with 5 or more competitors in their class. \n\n\n\nUpdates on the meet\, such as sponsors and what they donate\, food\, etc. will be posted on Fry’s Family Fitness Facebook and Instagram page and USPAWisconsin and USPAIowa Facebook and Instagram page as they become available. Please keep up to date by monitoring social media pages.This meet will be a tier level meet.Tier Level 1– First group (tested or open) to hit 25 entries\, will be guaranteed a minimum one power bar be given back per meet directors choice award for the best dots score.Tier Level 2 – First group (tested or open) to hit 45 entries\, and the full meet sells out with 60 lifters by April 11th\, will be guaranteed a minimum one combo rack or kilo plate set (power bar not included). Tier 2 met by Aug 8th makes sure combo rack or kilo plate set are on time. \n\n\n\nAdditional prizes from sponsors will be announced on our social media pages\, Fry’s Family Fitness Facebook and Instagram and USPAWisconisin and USPAIowa Facebook and Instagram\, as they become available. \n\n\n\n \n\n\n\n\nQualifier For:Any IPL Competition or USPA National Level Competition with the necessary qualifying total during the appropriate qualifying period.
URL:https://uspa.net/event/uspa-tested-and-open-vintage-irons-main-event-davenport-iowa/
LOCATION:Vintage Iron\, 3510 Vine Ct\, Davenport\, IA\, 52806\, United States
ORGANIZER;CN="Randy &amp%3B Heather Fry":MAILTO:dragonfry4@hotmail.com
END:VEVENT
END:VCALENDAR